{"text_format":"1","workbook":"xlsx","n_sheets":8,"sheets":["Forside","Overblik, B&U","Overblik, Uddyb, B&U","Analyse, B&U","Skabelon, B&U","Hjælpeark","Infobokse","Svarkategorier"],"not_rendered":{"charts":1,"images":10,"macros":1,"external_links":0,"defined_names":50,"comments":0,"pivot_tables":0},"unopened":[],"bounds":{"document_bytes":16777216,"sheet_cells":100000,"rows_first":2000,"rows_last":500,"rows_between":2000,"halvings":0,"cell_chars":16384,"cell_head_chars":4096},"cells_cut":0,"cells_raw":0,"read":"whole","date_system":"1900"}

{"sheet":"Forside","index":0,"n_rows":13,"n_cols":7,"rows_kept":13,"cut":false,"hidden":false,"merged":[[12,0,12,2],[11,0,11,12],[5,0,5,14],[6,0,6,14],[7,0,7,14],[8,0,8,14],[9,0,9,14],[10,0,10,14]]}
[]
[]
[]
[null,null,null,null,null,null,"Ledelsestilsyn på børne- og ungeområdet"]
[]
["Dette er et redskab til at udføre af ledelsestilsyn på børne- og ungeområdet med udgangspunkt i barnets lov."]
["Når du skal gennemgå en sag, trykker du på ”Opret et ledelsestilsyn”. Redskabet gemmer alle de ledelsestilsyn, som du opretter, og du kan altid gå tilbage til en sag via ”Gå til et oprettet ledelsestilsyn”."]
["Redskabet består af et overordnet ledelsestilsyn og et tematiserede ledelsestilsyn. Når du opretter et tilsyn, vil du få mulighed for at udfylde begge dele. Redskabet gemmer dine svar, når du gemmer filen, og du kan altid gå tilbage til en sag og orientere dig i dine svar."]
["Du kan finde et overblik over, hvad du har vurderet i de enkelte ledelsestilsyn via knapperne ”Overblik over de overordnede tilsyn” og ”Overblik over det tematiserede tilsyn”. Redskabet generer også statistik på dine vurderinger, som er samlet i en kort præsentation via ”Ledelsesinformation”."]
["Redskabet bidrager til et overblik over lovmedholdelighed og socialfaglig kvalitet i de enkelte sager. Redskabet kan dog ikke benyttes til at validere lovmedholdelighed og socialfaglig kvalitet, da vurderingerne afhænger af den, der udfører ledelsestilsynet."]
["Du kan finde mere viden om, hvordan du kan brugerredskabet og arbejde med ledelsestilsyn i Social- og Boligstyrelsens Inspiration til at arbejde med ledelsestilsyn og Anbefalinger til kvalitet i sagsbehandlingen."]
[]
["Der er dags dato udført",null,null,0,"tilsyn."]

{"sheet":"Overblik, B&U","index":1,"n_rows":104,"n_cols":21,"rows_kept":104,"cut":false,"hidden":false,"merged":[]}
[]
[null,"Overblik over det overordnede ledelsestilsyn"]
[null,"(Her skal du ikke indtaste noget)"]
[null,"Tilsyn","CPR nummer","Team","Sagstype","Børne- og ungerådgiver",{"$f":"'Analyse, B&U'!A42","v":"Faglig udredning - Underretning efter kapitel 16"},null,{"$f":"'Analyse, B&U'!A43","v":"Faglig udredning - Screening efter §18"},null,{"$f":"'Analyse, B&U'!A44","v":"Faglig udredning - Afdækning efter § 19"},null,{"$f":"'Analyse, B&U'!A45","v":"Faglig udredning - Børnefaglig undersøgelse efter § 20"},null,{"$f":"'Analyse, B&U'!A46","v":"Valg af indsats - Støttende indsats efter § 32"},null,{"$f":"'Analyse, B&U'!A47","v":"Valg af indsats - Anbringelse med samtykke efter § 46"},null,{"$f":"'Analyse, B&U'!A48","v":"Opfølgning - Opfølgning efter § 95"},null,{"$f":"'Analyse, B&U'!A49","v":"Opfølgning - Personrettet tilsyn ved anbringelse efter § 46"}]
[null,{"$f":"IFERROR(IF(Hjælpeark!K64>=0,Hjælpeark!A62,\"\"),\"\")","v":""},{"$f":"IF(ISERROR(INDIRECT(\"'B&U_\"&B5&\"'!$c$17\",TRUE)),\"\",INDIRECT(\"'B&U_\"&B5&\"'!$c$17\",TRUE))","v":""},{"$f":"IF(ISERROR(INDIRECT(\"'B&U_\"&B5&\"'!$c$15\",TRUE)),\"\",INDIRECT(\"'B&U_\"&B5&\"'!$c$15\",TRUE))","v":""},{"$f":"IF(ISERROR(INDIRECT(\"'B&U_\"&B5&\"'!$c$18\",TRUE)),\"\",INDIRECT(\"'B&U_\"&B5&\"'!$c$18\",TRUE))","v":""},{"$f":"IF(ISERROR(INDIRECT(\"'B&U_\"&B5&\"'!$c$16\",TRUE)),\"\",INDIRECT(\"'B&U_\"&B5&\"'!$c$16\",TRUE))","v":""}]
[null,{"$f":"IFERROR(IF(Hjælpeark!K65>=0,Hjælpeark!A65,\"\"),\"\")","v":""},{"$f":"IF(ISERROR(INDIRECT(\"'B&U_\"&B6&\"'!$c$17\",TRUE)),\"\",INDIRECT(\"'B&U_\"&B6&\"'!$c$17\",TRUE))","v":""},null,{"$f":"IF(ISERROR(INDIRECT(\"'B&U_\"&B6&\"'!$c$18\",TRUE)),\"\",INDIRECT(\"'B&U_\"&B6&\"'!$c$18\",TRUE))","v":""},{"$f":"IF(ISERROR(INDIRECT(\"'B&U_\"&B6&\"'!$c$16\",TRUE)),\"\",INDIRECT(\"'B&U_\"&B6&\"'!$c$16\",TRUE))","v":""}]
[null,{"$f":"IFERROR(IF(Hjælpeark!K68>=0,Hjælpeark!A68,\"\"),\"\")","v":""},"",null,"",""]
[null,{"$f":"IFERROR(IF(Hjælpeark!K71>=0,Hjælpeark!A71,\"\"),\"\")","v":""},"",null,"",""]
[null,{"$f":"IFERROR(IF(Hjælpeark!K74>=0,Hjælpeark!A74,\"\"),\"\")","v":""},"",null,"",""]
[null,{"$f":"IFERROR(IF(Hjælpeark!K77>=0,Hjælpeark!A77,\"\"),\"\")","v":""},"",null,"",""]
[null,{"$f":"IFERROR(IF(Hjælpeark!K80>=0,Hjælpeark!A80,\"\"),\"\")","v":""},"",null,"",""]
[null,{"$f":"IFERROR(IF(Hjælpeark!K83>=0,Hjælpeark!A83,\"\"),\"\")","v":""},"",null,"",""]
[null,{"$f":"IFERROR(IF(Hjælpeark!K86>=0,Hjælpeark!A86,\"\"),\"\")","v":""},"",null,"",""]
[null,{"$f":"IFERROR(IF(Hjælpeark!K89>=0,Hjælpeark!A89,\"\"),\"\")","v":""},"",null,"",""]
[null,{"$f":"IFERROR(IF(Hjælpeark!K92>=0,Hjælpeark!A92,\"\"),\"\")","v":""},"",null,"",""]
[null,{"$f":"IFERROR(IF(Hjælpeark!K95>=0,Hjælpeark!A95,\"\"),\"\")","v":""},"",null,"",""]
[null,{"$f":"IFERROR(IF(Hjælpeark!K98>=0,Hjælpeark!A98,\"\"),\"\")","v":""},"",null,"",""]
[null,{"$f":"IFERROR(IF(Hjælpeark!K101>=0,Hjælpeark!A101,\"\"),\"\")","v":""},"",null,"",""]
[null,{"$f":"IFERROR(IF(Hjælpeark!K104>=0,Hjælpeark!A104,\"\"),\"\")","v":""},"",null,"",""]
[null,{"$f":"IFERROR(IF(Hjælpeark!K107>=0,Hjælpeark!A107,\"\"),\"\")","v":""},"",null,"",""]
[null,{"$f":"IFERROR(IF(Hjælpeark!K110>=0,Hjælpeark!A110,\"\"),\"\")","v":""},"",null,"",""]
[null,{"$f":"IFERROR(IF(Hjælpeark!K113>=0,Hjælpeark!A113,\"\"),\"\")","v":""},"",null,"",""]
[null,{"$f":"IFERROR(IF(Hjælpeark!K116>=0,Hjælpeark!A116,\"\"),\"\")","v":""},"",null,"",""]
[null,{"$f":"IFERROR(IF(Hjælpeark!K119>=0,Hjælpeark!A119,\"\"),\"\")","v":""},"",null,"",""]
[null,{"$f":"IFERROR(IF(Hjælpeark!K122>=0,Hjælpeark!A122,\"\"),\"\")","v":""},"",null,"",""]
[null,{"$f":"IFERROR(IF(Hjælpeark!K125>=0,Hjælpeark!A125,\"\"),\"\")","v":""},"",null,"",""]
[null,{"$f":"IFERROR(IF(Hjælpeark!K128>=0,Hjælpeark!A128,\"\"),\"\")","v":""},"",null,"",""]
[null,{"$f":"IFERROR(IF(Hjælpeark!K131>=0,Hjælpeark!A131,\"\"),\"\")","v":""},"",null,"",""]
[null,{"$f":"IFERROR(IF(Hjælpeark!K134>=0,Hjælpeark!A134,\"\"),\"\")","v":""},"",null,"",""]
[null,{"$f":"IFERROR(IF(Hjælpeark!K137>=0,Hjælpeark!A137,\"\"),\"\")","v":""},"",null,"",""]
[null,{"$f":"IFERROR(IF(Hjælpeark!K140>=0,Hjælpeark!A140,\"\"),\"\")","v":""},"",null,"",""]
[null,{"$f":"IFERROR(IF(Hjælpeark!K143>=0,Hjælpeark!A143,\"\"),\"\")","v":""},"",null,"",""]
[null,{"$f":"IFERROR(IF(Hjælpeark!K146>=0,Hjælpeark!A146,\"\"),\"\")","v":""},"",null,"",""]
[null,{"$f":"IFERROR(IF(Hjælpeark!K149>=0,Hjælpeark!A149,\"\"),\"\")","v":""},"",null,"",""]
[null,{"$f":"IFERROR(IF(Hjælpeark!K152>=0,Hjælpeark!A152,\"\"),\"\")","v":""},"",null,"",""]
[null,{"$f":"IFERROR(IF(Hjælpeark!K155>=0,Hjælpeark!A155,\"\"),\"\")","v":""},"",null,"",""]
[null,{"$f":"IFERROR(IF(Hjælpeark!K158>=0,Hjælpeark!A158,\"\"),\"\")","v":""},"",null,"",""]
[null,{"$f":"IFERROR(IF(Hjælpeark!K161>=0,Hjælpeark!A161,\"\"),\"\")","v":""},"",null,"",""]
[null,{"$f":"IFERROR(IF(Hjælpeark!K164>=0,Hjælpeark!A164,\"\"),\"\")","v":""},"",null,"",""]
[null,{"$f":"IFERROR(IF(Hjælpeark!K167>=0,Hjælpeark!A167,\"\"),\"\")","v":""},"",null,"",""]
[null,{"$f":"IFERROR(IF(Hjælpeark!K170>=0,Hjælpeark!A170,\"\"),\"\")","v":""},"",null,"",""]
[null,{"$f":"IFERROR(IF(Hjælpeark!K173>=0,Hjælpeark!A173,\"\"),\"\")","v":""},"",null,"",""]
[null,{"$f":"IFERROR(IF(Hjælpeark!K176>=0,Hjælpeark!A176,\"\"),\"\")","v":""},"",null,"",""]
[null,{"$f":"IFERROR(IF(Hjælpeark!K179>=0,Hjælpeark!A179,\"\"),\"\")","v":""},"",null,"",""]
[null,{"$f":"IFERROR(IF(Hjælpeark!K182>=0,Hjælpeark!A182,\"\"),\"\")","v":""},"",null,"",""]
[null,{"$f":"IFERROR(IF(Hjælpeark!K185>=0,Hjælpeark!A185,\"\"),\"\")","v":""},"",null,"",""]
[null,{"$f":"IFERROR(IF(Hjælpeark!K188>=0,Hjælpeark!A188,\"\"),\"\")","v":""},"",null,"",""]
[null,{"$f":"IFERROR(IF(Hjælpeark!K191>=0,Hjælpeark!A191,\"\"),\"\")","v":""},"",null,"",""]
[null,{"$f":"IFERROR(IF(Hjælpeark!K194>=0,Hjælpeark!A194,\"\"),\"\")","v":""},"",null,"",""]
[null,{"$f":"IFERROR(IF(Hjælpeark!K197>=0,Hjælpeark!A197,\"\"),\"\")","v":""},"",null,"",""]
[null,{"$f":"IFERROR(IF(Hjælpeark!K200>=0,Hjælpeark!A200,\"\"),\"\")","v":""},"",null,"",""]
[null,{"$f":"IFERROR(IF(Hjælpeark!K203>=0,Hjælpeark!A203,\"\"),\"\")","v":""},"",null,"",""]
[null,{"$f":"IFERROR(IF(Hjælpeark!K206>=0,Hjælpeark!A206,\"\"),\"\")","v":""},"",null,"",""]
[null,{"$f":"IFERROR(IF(Hjælpeark!K209>=0,Hjælpeark!A209,\"\"),\"\")","v":""},"",null,"",""]
[null,{"$f":"IFERROR(IF(Hjælpeark!K210>=0,Hjælpeark!A210,\"\"),\"\")","v":""},{"$f":"IF(ISERROR(INDIRECT(\"'B&U_\"&B55&\"'!$c$17\",TRUE)),\"\",INDIRECT(\"'B&U_\"&B55&\"'!$c$17\",TRUE))","v":""},null,{"$f":"IF(ISERROR(INDIRECT(\"'B&U_\"&B55&\"'!$c$18\",TRUE)),\"\",INDIRECT(\"'B&U_\"&B55&\"'!$c$18\",TRUE))","v":""},{"$f":"IF(ISERROR(INDIRECT(\"'B&U_\"&B55&\"'!$c$16\",TRUE)),\"\",INDIRECT(\"'B&U_\"&B55&\"'!$c$16\",TRUE))","v":""}]
[null,{"$f":"IFERROR(IF(Hjælpeark!K211>=0,Hjælpeark!A211,\"\"),\"\")","v":""},"",null,"",""]
[null,{"$f":"IFERROR(IF(Hjælpeark!K212>=0,Hjælpeark!A212,\"\"),\"\")","v":""},"",null,"",""]
[null,{"$f":"IFERROR(IF(Hjælpeark!K213>=0,Hjælpeark!A213,\"\"),\"\")","v":""},"",null,"",""]
[null,{"$f":"IFERROR(IF(Hjælpeark!K214>=0,Hjælpeark!A214,\"\"),\"\")","v":""},"",null,"",""]
[null,{"$f":"IFERROR(IF(Hjælpeark!K215>=0,Hjælpeark!A215,\"\"),\"\")","v":""},"",null,"",""]
[null,{"$f":"IFERROR(IF(Hjælpeark!K216>=0,Hjælpeark!A216,\"\"),\"\")","v":""},"",null,"",""]
[null,{"$f":"IFERROR(IF(Hjælpeark!K217>=0,Hjælpeark!A217,\"\"),\"\")","v":""},"",null,"",""]
[null,{"$f":"IFERROR(IF(Hjælpeark!K218>=0,Hjælpeark!A218,\"\"),\"\")","v":""},"",null,"",""]
[null,{"$f":"IFERROR(IF(Hjælpeark!K219>=0,Hjælpeark!A219,\"\"),\"\")","v":""},"",null,"",""]
[null,{"$f":"IFERROR(IF(Hjælpeark!K220>=0,Hjælpeark!A220,\"\"),\"\")","v":""},"",null,"",""]
[null,{"$f":"IFERROR(IF(Hjælpeark!K221>=0,Hjælpeark!A221,\"\"),\"\")","v":""},"",null,"",""]
[null,{"$f":"IFERROR(IF(Hjælpeark!K222>=0,Hjælpeark!A222,\"\"),\"\")","v":""},"",null,"",""]
[null,{"$f":"IFERROR(IF(Hjælpeark!K223>=0,Hjælpeark!A223,\"\"),\"\")","v":""},"",null,"",""]
[null,{"$f":"IFERROR(IF(Hjælpeark!K224>=0,Hjælpeark!A224,\"\"),\"\")","v":""},"",null,"",""]
[null,{"$f":"IFERROR(IF(Hjælpeark!K225>=0,Hjælpeark!A225,\"\"),\"\")","v":""},"",null,"",""]
[null,{"$f":"IFERROR(IF(Hjælpeark!K226>=0,Hjælpeark!A226,\"\"),\"\")","v":""},"",null,"",""]
[null,{"$f":"IFERROR(IF(Hjælpeark!K227>=0,Hjælpeark!A227,\"\"),\"\")","v":""},"",null,"",""]
[null,{"$f":"IFERROR(IF(Hjælpeark!K228>=0,Hjælpeark!A228,\"\"),\"\")","v":""},"",null,"",""]
[null,{"$f":"IFERROR(IF(Hjælpeark!K229>=0,Hjælpeark!A229,\"\"),\"\")","v":""},"",null,"",""]
[null,{"$f":"IFERROR(IF(Hjælpeark!K230>=0,Hjælpeark!A230,\"\"),\"\")","v":""},"",null,"",""]
[null,{"$f":"IFERROR(IF(Hjælpeark!K231>=0,Hjælpeark!A231,\"\"),\"\")","v":""},"",null,"",""]
[null,{"$f":"IFERROR(IF(Hjælpeark!K232>=0,Hjælpeark!A232,\"\"),\"\")","v":""},"",null,"",""]
[null,{"$f":"IFERROR(IF(Hjælpeark!K233>=0,Hjælpeark!A233,\"\"),\"\")","v":""},"",null,"",""]
[null,{"$f":"IFERROR(IF(Hjælpeark!K234>=0,Hjælpeark!A234,\"\"),\"\")","v":""},"",null,"",""]
[null,{"$f":"IFERROR(IF(Hjælpeark!K235>=0,Hjælpeark!A235,\"\"),\"\")","v":""},"",null,"",""]
[null,{"$f":"IFERROR(IF(Hjælpeark!K236>=0,Hjælpeark!A236,\"\"),\"\")","v":""},"",null,"",""]
[null,{"$f":"IFERROR(IF(Hjælpeark!K237>=0,Hjælpeark!A237,\"\"),\"\")","v":""},"",null,"",""]
[null,{"$f":"IFERROR(IF(Hjælpeark!K238>=0,Hjælpeark!A238,\"\"),\"\")","v":""},"",null,"",""]
[null,{"$f":"IFERROR(IF(Hjælpeark!K239>=0,Hjælpeark!A239,\"\"),\"\")","v":""},"",null,"",""]
[null,{"$f":"IFERROR(IF(Hjælpeark!K240>=0,Hjælpeark!A240,\"\"),\"\")","v":""},"",null,"",""]
[null,{"$f":"IFERROR(IF(Hjælpeark!K241>=0,Hjælpeark!A241,\"\"),\"\")","v":""},"",null,"",""]
[null,{"$f":"IFERROR(IF(Hjælpeark!K242>=0,Hjælpeark!A242,\"\"),\"\")","v":""},"",null,"",""]
[null,{"$f":"IFERROR(IF(Hjælpeark!K243>=0,Hjælpeark!A243,\"\"),\"\")","v":""},"",null,"",""]
[null,{"$f":"IFERROR(IF(Hjælpeark!K244>=0,Hjælpeark!A244,\"\"),\"\")","v":""},"",null,"",""]
[null,{"$f":"IFERROR(IF(Hjælpeark!K245>=0,Hjælpeark!A245,\"\"),\"\")","v":""},"",null,"",""]
[null,{"$f":"IFERROR(IF(Hjælpeark!K246>=0,Hjælpeark!A246,\"\"),\"\")","v":""},"",null,"",""]
[null,{"$f":"IFERROR(IF(Hjælpeark!K247>=0,Hjælpeark!A247,\"\"),\"\")","v":""},"",null,"",""]
[null,{"$f":"IFERROR(IF(Hjælpeark!K248>=0,Hjælpeark!A248,\"\"),\"\")","v":""},"",null,"",""]
[null,{"$f":"IFERROR(IF(Hjælpeark!K249>=0,Hjælpeark!A249,\"\"),\"\")","v":""},"",null,"",""]
[null,{"$f":"IFERROR(IF(Hjælpeark!K250>=0,Hjælpeark!A250,\"\"),\"\")","v":""},"",null,"",""]
[null,{"$f":"IFERROR(IF(Hjælpeark!K251>=0,Hjælpeark!A251,\"\"),\"\")","v":""},"",null,"",""]
[null,{"$f":"IFERROR(IF(Hjælpeark!K252>=0,Hjælpeark!A252,\"\"),\"\")","v":""},"",null,"",""]
[null,{"$f":"IFERROR(IF(Hjælpeark!K253>=0,Hjælpeark!A253,\"\"),\"\")","v":""},"",null,"",""]
[null,{"$f":"IFERROR(IF(Hjælpeark!K254>=0,Hjælpeark!A254,\"\"),\"\")","v":""},"",null,"",""]
[null,{"$f":"IFERROR(IF(Hjælpeark!K255>=0,Hjælpeark!A255,\"\"),\"\")","v":""},"",null,"",""]
[null,{"$f":"IFERROR(IF(Hjælpeark!K256>=0,Hjælpeark!A256,\"\"),\"\")","v":""},"",null,"",""]
[null,{"$f":"IFERROR(IF(Hjælpeark!K257>=0,Hjælpeark!A257,\"\"),\"\")","v":""},"",null,"",""]
[null,{"$f":"IFERROR(IF(Hjælpeark!K258>=0,Hjælpeark!A258,\"\"),\"\")","v":""},"",null,"",""]
[null,{"$f":"IFERROR(IF(Hjælpeark!K259>=0,Hjælpeark!A259,\"\"),\"\")","v":""},"",null,"",""]

{"sheet":"Overblik, Uddyb, B&U","index":2,"n_rows":105,"n_cols":21,"rows_kept":105,"cut":false,"hidden":false,"merged":[[104,20,104,21],[104,2,104,3],[104,5,104,6],[104,8,104,9],[104,11,104,12],[104,14,104,15],[104,17,104,18],[102,20,102,21],[103,2,103,3],[103,5,103,6],[103,8,103,9],[103,11,103,12],[103,14,103,15],[103,17,103,18],[103,20,103,21],[102,2,102,3],[102,5,102,6],[102,8,102,9],[102,11,102,12],[102,14,102,15],[102,17,102,18],[100,20,100,21],[101,2,101,3],[101,5,101,6],[101,8,101,9],[101,11,101,12],[101,14,101,15],[101,17,101,18],[101,20,101,21],[100,2,100,3],[100,5,100,6],[100,8,100,9],[100,11,100,12],[100,14,100,15],[100,17,100,18],[98,20,98,21],[99,2,99,3],[99,5,99,6],[99,8,99,9],[99,11,99,12],[99,14,99,15],[99,17,99,18],[99,20,99,21],[98,2,98,3],[98,5,98,6],[98,8,98,9],[98,11,98,12],[98,14,98,15],[98,17,98,18],[96,20,96,21],[97,2,97,3],[97,5,97,6],[97,8,97,9],[97,11,97,12],[97,14,97,15],[97,17,97,18],[97,20,97,21],[96,2,96,3],[96,5,96,6],[96,8,96,9],[96,11,96,12],[96,14,96,15],[96,17,96,18],[94,20,94,21],[95,2,95,3],[95,5,95,6],[95,8,95,9],[95,11,95,12],[95,14,95,15],[95,17,95,18],[95,20,95,21],[94,2,94,3],[94,5,94,6],[94,8,94,9],[94,11,94,12],[94,14,94,15],[94,17,94,18],[92,20,92,21],[93,2,93,3],[93,5,93,6],[93,8,93,9],[93,11,93,12],[93,14,93,15],[93,17,93,18],[93,20,93,21],[92,2,92,3],[92,5,92,6],[92,8,92,9],[92,11,92,12],[92,14,92,15],[92,17,92,18],[90,20,90,21],[91,2,91,3],[91,5,91,6],[91,8,91,9],[91,11,91,12],[91,14,91,15],[91,17,91,18],[91,20,91,21],[90,2,90,3],[90,5,90,6],[90,8,90,9],[90,11,90,12],[90,14,90,15],[90,17,90,18],[88,20,88,21],[89,2,89,3],[89,5,89,6],[89,8,89,9],[89,11,89,12],[89,14,89,15],[89,17,89,18],[89,20,89,21],[88,2,88,3],[88,5,88,6],[88,8,88,9],[88,11,88,12],[88,14,88,15],[88,17,88,18],[86,20,86,21],[87,2,87,3],[87,5,87,6],[87,8,87,9],[87,11,87,12],[87,14,87,15],[87,17,87,18],[87,20,87,21],[86,2,86,3],[86,5,86,6],[86,8,86,9],[86,11,86,12],[86,14,86,15],[86,17,86,18],[84,20,84,21],[85,2,85,3],[85,5,85,6],[85,8,85,9],[85,11,85,12],[85,14,85,15],[85,17,85,18],[85,20,85,21],[84,2,84,3],[84,5,84,6],[84,8,84,9],[84,11,84,12],[84,14,84,15],[84,17,84,18],[82,20,82,21],[83,2,83,3],[83,5,83,6],[83,8,83,9],[83,11,83,12],[83,14,83,15],[83,17,83,18],[83,20,83,21],[82,2,82,3],[82,5,82,6],[82,8,82,9],[82,11,82,12],[82,14,82,15],[82,17,82,18],[80,20,80,21],[81,2,81,3],[81,5,81,6],[81,8,81,9],[81,11,81,12],[81,14,81,15],[81,17,81,18],[81,20,81,21],[80,2,80,3],[80,5,80,6],[80,8,80,9],[80,11,80,12],[80,14,80,15],[80,17,80,18],[78,20,78,21],[79,2,79,3],[79,5,79,6],[79,8,79,9],[79,11,79,12],[79,14,79,15],[79,17,79,18],[79,20,79,21],[78,2,78,3],[78,5,78,6],[78,8,78,9],[78,11,78,12],[78,14,78,15],[78,17,78,18],[76,20,76,21],[77,2,77,3],[77,5,77,6],[77,8,77,9],[77,11,77,12],[77,14,77,15],[77,17,77,18],[77,20,77,21],[76,2,76,3],[76,5,76,6],[76,8,76,9],[76,11,76,12],[76,14,76,15],[76,17,76,18],[74,20,74,21],[75,2,75,3],[75,5,75,6],[75,8,75,9],[75,11,75,12],[75,14,75,15],[75,17,75,18],[75,20,75,21],[74,2,74,3],[74,5,74,6],[74,8,74,9],[74,11,74,12],[74,14,74,15],[74,17,74,18],[72,20,72,21],[73,2,73,3],[73,5,73,6],[73,8,73,9],[73,11,73,12],[73,14,73,15],[73,17,73,18],[73,20,73,21],[72,2,72,3],[72,5,72,6],[72,8,72,9],[72,11,72,12],[72,14,72,15],[72,17,72,18],[70,20,70,21],[71,2,71,3],[71,5,71,6],[71,8,71,9],[71,11,71,12],[71,14,71,15],[71,17,71,18],[71,20,71,21],[70,2,70,3],[70,5,70,6],[70,8,70,9],[70,11,70,12],[70,14,70,15],[70,17,70,18],[68,20,68,21],[69,2,69,3],[69,5,69,6],[69,8,69,9],[69,11,69,12],[69,14,69,15],[69,17,69,18],[69,20,69,21],[68,2,68,3],[68,5,68,6],[68,8,68,9],[68,11,68,12],[68,14,68,15],[68,17,68,18],[66,20,66,21],[67,2,67,3],[67,5,67,6],[67,8,67,9],[67,11,67,12],[67,14,67,15],[67,17,67,18],[67,20,67,21],[66,2,66,3],[66,5,66,6],[66,8,66,9],[66,11,66,12],[66,14,66,15],[66,17,66,18],[64,20,64,21],[65,2,65,3],[65,5,65,6],[65,8,65,9],[65,11,65,12],[65,14,65,15],[65,17,65,18],[65,20,65,21],[64,2,64,3],[64,5,64,6],[64,8,64,9],[64,11,64,12],[64,14,64,15],[64,17,64,18],[62,20,62,21],[63,2,63,3],[63,5,63,6],[63,8,63,9],[63,11,63,12],[63,14,63,15],[63,17,63,18],[63,20,63,21],[62,2,62,3],[62,5,62,6],[62,8,62,9],[62,11,62,12],[62,14,62,15],[62,17,62,18],[60,20,60,21],[61,2,61,3],[61,5,61,6],[61,8,61,9],[61,11,61,12],[61,14,61,15],[61,17,61,18],[61,20,61,21],[60,2,60,3],[60,5,60,6],[60,8,60,9],[60,11,60,12],[60,14,60,15],[60,17,60,18],[58,20,58,21],[59,2,59,3],[59,5,59,6],[59,8,59,9],[59,11,59,12],[59,14,59,15],[59,17,59,18],[59,20,59,21],[58,2,58,3],[58,5,58,6],[58,8,58,9],[58,11,58,12],[58,14,58,15],[58,17,58,18],[56,20,56,21],[57,2,57,3],[57,5,57,6],[57,8,57,9],[57,11,57,12],[57,14,57,15],[57,17,57,18],[57,20,57,21],[56,2,56,3],[56,5,56,6],[56,8,56,9],[56,11,56,12],[56,14,56,15],[56,17,56,18],[54,20,54,21],[55,2,55,3],[55,5,55,6],[55,8,55,9],[55,11,55,12],[55,14,55,15],[55,17,55,18],[55,20,55,21],[54,2,54,3],[54,5,54,6],[54,8,54,9],[54,11,54,12],[54,14,54,15],[54,17,54,18],[52,20,52,21],[53,2,53,3],[53,5,53,6],[53,8,53,9],[53,11,53,12],[53,14,53,15],[53,17,53,18],[53,20,53,21],[52,2,52,3],[52,5,52,6],[52,8,52,9],[52,11,52,12],[52,14,52,15],[52,17,52,18],[50,20,50,21],[51,2,51,3],[51,5,51,6],[51,8,51,9],[51,11,51,12],[51,14,51,15],[51,17,51,18],[51,20,51,21],[50,2,50,3],[50,5,50,6],[50,8,50,9],[50,11,50,12],[50,14,50,15],[50,17,50,18],[48,20,48,21],[49,2,49,3],[49,5,49,6],[49,8,49,9],[49,11,49,12],[49,14,49,15],[49,17,49,18],[49,20,49,21],[48,2,48,3],[48,5,48,6],[48,8,48,9],[48,11,48,12],[48,14,48,15],[48,17,48,18],[46,20,46,21],[47,2,47,3],[47,5,47,6],[47,8,47,9],[47,11,47,12],[47,14,47,15],[47,17,47,18],[47,20,47,21],[46,2,46,3],[46,5,46,6],[46,8,46,9],[46,11,46,12],[46,14,46,15],[46,17,46,18],[44,20,44,21],[45,2,45,3],[45,5,45,6],[45,8,45,9],[45,11,45,12],[45,14,45,15],[45,17,45,18],[45,20,45,21],[44,2,44,3],[44,5,44,6],[44,8,44,9],[44,11,44,12],[44,14,44,15],[44,17,44,18],[42,20,42,21],[43,2,43,3],[43,5,43,6],[43,8,43,9],[43,11,43,12],[43,14,43,15],[43,17,43,18],[43,20,43,21],[42,2,42,3],[42,5,42,6],[42,8,42,9],[42,11,42,12],[42,14,42,15],[42,17,42,18],[40,20,40,21],[41,2,41,3],[41,5,41,6],[41,8,41,9],[41,11,41,12],[41,14,41,15],[41,17,41,18],[41,20,41,21],[40,2,40,3],[40,5,40,6],[40,8,40,9],[40,11,40,12],[40,14,40,15],[40,17,40,18],[38,20,38,21],[39,2,39,3],[39,5,39,6],[39,8,39,9],[39,11,39,12],[39,14,39,15],[39,17,39,18],[39,20,39,21],[38,2,38,3],[38,5,38,6],[38,8,38,9],[38,11,38,12],[38,14,38,15],[38,17,38,18],[36,20,36,21],[37,2,37,3],[37,5,37,6],[37,8,37,9],[37,11,37,12],[37,14,37,15],[37,17,37,18],[37,20,37,21],[36,2,36,3],[36,5,36,6],[36,8,36,9],[36,11,36,12],[36,14,36,15],[36,17,36,18],[34,20,34,21],[35,2,35,3],[35,5,35,6],[35,8,35,9],[35,11,35,12],[35,14,35,15],[35,17,35,18],[35,20,35,21],[34,2,34,3],[34,5,34,6],[34,8,34,9],[34,11,34,12],[34,14,34,15],[34,17,34,18],[32,20,32,21],[33,2,33,3],[33,5,33,6],[33,8,33,9],[33,11,33,12],[33,14,33,15],[33,17,33,18],[33,20,33,21],[32,2,32,3],[32,5,32,6],[32,8,32,9],[32,11,32,12],[32,14,32,15],[32,17,32,18],[30,20,30,21],[31,2,31,3],[31,5,31,6],[31,8,31,9],[31,11,31,12],[31,14,31,15],[31,17,31,18],[31,20,31,21],[30,2,30,3],[30,5,30,6],[30,8,30,9],[30,11,30,12],[30,14,30,15],[30,17,30,18],[28,20,28,21],[29,2,29,3],[29,5,29,6],[29,8,29,9],[29,11,29,12],[29,14,29,15],[29,17,29,18],[29,20,29,21],[28,2,28,3],[28,5,28,6],[28,8,28,9],[28,11,28,12],[28,14,28,15],[28,17,28,18],[26,20,26,21],[27,2,27,3],[27,5,27,6],[27,8,27,9],[27,11,27,12],[27,14,27,15],[27,17,27,18],[27,20,27,21],[26,2,26,3],[26,5,26,6],[26,8,26,9],[26,11,26,12],[26,14,26,15],[26,17,26,18],[24,20,24,21],[25,2,25,3],[25,5,25,6],[25,8,25,9],[25,11,25,12],[25,14,25,15],[25,17,25,18],[25,20,25,21],[24,2,24,3],[24,5,24,6],[24,8,24,9],[24,11,24,12],[24,14,24,15],[24,17,24,18],[22,20,22,21],[23,2,23,3],[23,5,23,6],[23,8,23,9],[23,11,23,12],[23,14,23,15],[23,17,23,18],[23,20,23,21],[22,2,22,3],[22,5,22,6],[22,8,22,9],[22,11,22,12],[22,14,22,15],[22,17,22,18],[20,20,20,21],[21,2,21,3],[21,5,21,6],[21,8,21,9],[21,11,21,12],[21,14,21,15],[21,17,21,18],[21,20,21,21],[20,2,20,3],[20,5,20,6],[20,8,20,9],[20,11,20,12],[20,14,20,15],[20,17,20,18],[18,20,18,21],[19,2,19,3],[19,5,19,6],[19,8,19,9],[19,11,19,12],[19,14,19,15],[19,17,19,18],[19,20,19,21],[18,2,18,3],[18,5,18,6],[18,8,18,9],[18,11,18,12],[18,14,18,15],[18,17,18,18],[16,20,16,21],[17,2,17,3],[17,5,17,6],[17,8,17,9],[17,11,17,12],[17,14,17,15],[17,17,17,18],[17,20,17,21],[16,2,16,3],[16,5,16,6],[16,8,16,9],[16,11,16,12],[16,14,16,15],[16,17,16,18],[14,20,14,21],[15,2,15,3],[15,5,15,6],[15,8,15,9],[15,11,15,12],[15,14,15,15],[15,17,15,18],[15,20,15,21],[14,2,14,3],[14,5,14,6],[14,8,14,9],[14,11,14,12],[14,14,14,15],[14,17,14,18],[12,20,12,21],[13,2,13,3],[13,5,13,6],[13,8,13,9],[13,11,13,12],[13,14,13,15],[13,17,13,18],[13,20,13,21],[12,2,12,3],[12,5,12,6],[12,8,12,9],[12,11,12,12],[12,14,12,15],[12,17,12,18],[10,20,10,21],[11,2,11,3],[11,5,11,6],[11,8,11,9],[11,11,11,12],[11,14,11,15],[11,17,11,18],[11,20,11,21],[10,2,10,3],[10,5,10,6],[10,8,10,9],[10,11,10,12],[10,14,10,15],[10,17,10,18],[8,20,8,21],[9,2,9,3],[9,5,9,6],[9,8,9,9],[9,11,9,12],[9,14,9,15],[9,17,9,18],[9,20,9,21],[8,2,8,3],[8,5,8,6],[8,8,8,9],[8,11,8,12],[8,14,8,15],[8,17,8,18],[6,20,6,21],[7,2,7,3],[7,5,7,6],[7,8,7,9],[7,11,7,12],[7,14,7,15],[7,17,7,18],[7,20,7,21],[6,2,6,3],[6,5,6,6],[6,8,6,9],[6,11,6,12],[6,14,6,15],[6,17,6,18],[4,20,4,21],[5,2,5,3],[5,5,5,6],[5,8,5,9],[5,11,5,12],[5,14,5,15],[5,17,5,18],[5,20,5,21],[4,2,4,3],[4,5,4,6],[4,8,4,9],[4,11,4,12],[4,14,4,15],[4,17,4,18]]}
[]
[null,"Overblik over de tematiserede ledelsestilsyn"]
[null,"(Her skal du ikke indtaste noget)"]
[]
[null,null,{"$f":"'Skabelon, B&U'!B226","v":"Faglig udredning - Underretning efter barnets lov kapitel 16"},null,null,{"$f":"'Skabelon, B&U'!B249","v":"Faglig udredning - Screening efter barnets lov § 18"},null,null,{"$f":"'Skabelon, B&U'!B263","v":"Faglig udredning - Afdækning efter barnets lov § 19"},null,null,{"$f":"'Skabelon, B&U'!B299","v":"Faglig udredning - Børnefaglig undersøgelse efter barnets lov § 20"},null,null,{"$f":"'Skabelon, B&U'!B355","v":"Valg af indsats - Støttende indsats efter barnets lov § 32 og anbringelse efter barnets lov § 46"},null,null,{"$f":"'Skabelon, B&U'!B388","v":"Opfølgning - Opfølgning efter barnets lov § 95"},null,null,{"$f":"'Skabelon, B&U'!B422","v":"Gennem hele sagen - Intentionerne med barnets lov"}]
[null,"Tilsyn 1",{"$f":"IFERROR(Hjælpeark!AF62,\"\")","v":""},null,null,{"$f":"IFERROR(Hjælpeark!AG62,\"\")","v":""},null,null,{"$f":"IFERROR(Hjælpeark!AH62,\"\")","v":""},null,null,{"$f":"IFERROR(Hjælpeark!AI62,\"\")","v":""},null,null,{"$f":"IFERROR(Hjælpeark!AJ62,\"\")","v":""},null,null,{"$f":"IFERROR(Hjælpeark!AK62,\"\")","v":""},null,null,{"$f":"IFERROR(Hjælpeark!AL62,\"\")","v":""}]
[null,"Tilsyn 2",{"$f":"IFERROR(Hjælpeark!AF63,\"\")","v":""},null,null,{"$f":"IFERROR(Hjælpeark!AG63,\"\")","v":""},null,null,{"$f":"IFERROR(Hjælpeark!AH63,\"\")","v":""},null,null,{"$f":"IFERROR(Hjælpeark!AI63,\"\")","v":""},null,null,{"$f":"IFERROR(Hjælpeark!AJ63,\"\")","v":""},null,null,{"$f":"IFERROR(Hjælpeark!AK63,\"\")","v":""},null,null,{"$f":"IFERROR(Hjælpeark!AL63,\"\")","v":""}]
[null,"Tilsyn 3",{"$f":"IFERROR(Hjælpeark!AF64,\"\")","v":""},null,null,{"$f":"IFERROR(Hjælpeark!AG64,\"\")","v":""},null,null,{"$f":"IFERROR(Hjælpeark!AH64,\"\")","v":""},null,null,{"$f":"IFERROR(Hjælpeark!AI64,\"\")","v":""},null,null,{"$f":"IFERROR(Hjælpeark!AJ64,\"\")","v":""},null,null,{"$f":"IFERROR(Hjælpeark!AK64,\"\")","v":""},null,null,{"$f":"IFERROR(Hjælpeark!AL64,\"\")","v":""}]
[null,"Tilsyn 4",{"$f":"IFERROR(Hjælpeark!AF65,\"\")","v":""},null,null,{"$f":"IFERROR(Hjælpeark!AG65,\"\")","v":""},null,null,{"$f":"IFERROR(Hjælpeark!AH65,\"\")","v":""},null,null,{"$f":"IFERROR(Hjælpeark!AI65,\"\")","v":""},null,null,{"$f":"IFERROR(Hjælpeark!AJ65,\"\")","v":""},null,null,{"$f":"IFERROR(Hjælpeark!AK65,\"\")","v":""},null,null,{"$f":"IFERROR(Hjælpeark!AL65,\"\")","v":""}]
[null,"Tilsyn 5",{"$f":"IFERROR(Hjælpeark!AF66,\"\")","v":""},null,null,{"$f":"IFERROR(Hjælpeark!AG66,\"\")","v":""},null,null,{"$f":"IFERROR(Hjælpeark!AH66,\"\")","v":""},null,null,{"$f":"IFERROR(Hjælpeark!AI66,\"\")","v":""},null,null,{"$f":"IFERROR(Hjælpeark!AJ66,\"\")","v":""},null,null,{"$f":"IFERROR(Hjælpeark!AK66,\"\")","v":""},null,null,{"$f":"IFERROR(Hjælpeark!AL66,\"\")","v":""}]
[null,"Tilsyn 6",{"$f":"IFERROR(Hjælpeark!AF67,\"\")","v":""},null,null,{"$f":"IFERROR(Hjælpeark!AG67,\"\")","v":""},null,null,{"$f":"IFERROR(Hjælpeark!AH67,\"\")","v":""},null,null,{"$f":"IFERROR(Hjælpeark!AI67,\"\")","v":""},null,null,{"$f":"IFERROR(Hjælpeark!AJ67,\"\")","v":""},null,null,{"$f":"IFERROR(Hjælpeark!AK67,\"\")","v":""},null,null,{"$f":"IFERROR(Hjælpeark!AL67,\"\")","v":""}]
[null,"Tilsyn 7",{"$f":"IFERROR(Hjælpeark!AF68,\"\")","v":""},null,null,{"$f":"IFERROR(Hjælpeark!AG68,\"\")","v":""},null,null,{"$f":"IFERROR(Hjælpeark!AH68,\"\")","v":""},null,null,{"$f":"IFERROR(Hjælpeark!AI68,\"\")","v":""},null,null,{"$f":"IFERROR(Hjælpeark!AJ68,\"\")","v":""},null,null,{"$f":"IFERROR(Hjælpeark!AK68,\"\")","v":""},null,null,{"$f":"IFERROR(Hjælpeark!AL68,\"\")","v":""}]
[null,"Tilsyn 8",{"$f":"IFERROR(Hjælpeark!AF69,\"\")","v":""},null,null,{"$f":"IFERROR(Hjælpeark!AG69,\"\")","v":""},null,null,{"$f":"IFERROR(Hjælpeark!AH69,\"\")","v":""},null,null,{"$f":"IFERROR(Hjælpeark!AI69,\"\")","v":""},null,null,{"$f":"IFERROR(Hjælpeark!AJ69,\"\")","v":""},null,null,{"$f":"IFERROR(Hjælpeark!AK69,\"\")","v":""},null,null,{"$f":"IFERROR(Hjælpeark!AL69,\"\")","v":""}]
[null,"Tilsyn 9",{"$f":"IFERROR(Hjælpeark!AF70,\"\")","v":""},null,null,{"$f":"IFERROR(Hjælpeark!AG70,\"\")","v":""},null,null,{"$f":"IFERROR(Hjælpeark!AH70,\"\")","v":""},null,null,{"$f":"IFERROR(Hjælpeark!AI70,\"\")","v":""},null,null,{"$f":"IFERROR(Hjælpeark!AJ70,\"\")","v":""},null,null,{"$f":"IFERROR(Hjælpeark!AK70,\"\")","v":""},null,null,{"$f":"IFERROR(Hjælpeark!AL70,\"\")","v":""}]
[null,"Tilsyn 10",{"$f":"IFERROR(Hjælpeark!AF71,\"\")","v":""},null,null,{"$f":"IFERROR(Hjælpeark!AG71,\"\")","v":""},null,null,{"$f":"IFERROR(Hjælpeark!AH71,\"\")","v":""},null,null,{"$f":"IFERROR(Hjælpeark!AI71,\"\")","v":""},null,null,{"$f":"IFERROR(Hjælpeark!AJ71,\"\")","v":""},null,null,{"$f":"IFERROR(Hjælpeark!AK71,\"\")","v":""},null,null,{"$f":"IFERROR(Hjælpeark!AL71,\"\")","v":""}]
[null,"Tilsyn 11",{"$f":"IFERROR(Hjælpeark!AF72,\"\")","v":""},null,null,{"$f":"IFERROR(Hjælpeark!AG72,\"\")","v":""},null,null,{"$f":"IFERROR(Hjælpeark!AH72,\"\")","v":""},null,null,{"$f":"IFERROR(Hjælpeark!AI72,\"\")","v":""},null,null,{"$f":"IFERROR(Hjælpeark!AJ72,\"\")","v":""},null,null,{"$f":"IFERROR(Hjælpeark!AK72,\"\")","v":""},null,null,{"$f":"IFERROR(Hjælpeark!AL72,\"\")","v":""}]
[null,"Tilsyn 12",{"$f":"IFERROR(Hjælpeark!AF73,\"\")","v":""},null,null,{"$f":"IFERROR(Hjælpeark!AG73,\"\")","v":""},null,null,{"$f":"IFERROR(Hjælpeark!AH73,\"\")","v":""},null,null,{"$f":"IFERROR(Hjælpeark!AI73,\"\")","v":""},null,null,{"$f":"IFERROR(Hjælpeark!AJ73,\"\")","v":""},null,null,{"$f":"IFERROR(Hjælpeark!AK73,\"\")","v":""},null,null,{"$f":"IFERROR(Hjælpeark!AL73,\"\")","v":""}]
[null,"Tilsyn 13",{"$f":"IFERROR(Hjælpeark!AF74,\"\")","v":""},null,null,{"$f":"IFERROR(Hjælpeark!AG74,\"\")","v":""},null,null,{"$f":"IFERROR(Hjælpeark!AH74,\"\")","v":""},null,null,{"$f":"IFERROR(Hjælpeark!AI74,\"\")","v":""},null,null,{"$f":"IFERROR(Hjælpeark!AJ74,\"\")","v":""},null,null,{"$f":"IFERROR(Hjælpeark!AK74,\"\")","v":""},null,null,{"$f":"IFERROR(Hjælpeark!AL74,\"\")","v":""}]
[null,"Tilsyn 14",{"$f":"IFERROR(Hjælpeark!AF75,\"\")","v":""},null,null,{"$f":"IFERROR(Hjælpeark!AG75,\"\")","v":""},null,null,{"$f":"IFERROR(Hjælpeark!AH75,\"\")","v":""},null,null,{"$f":"IFERROR(Hjælpeark!AI75,\"\")","v":""},null,null,{"$f":"IFERROR(Hjælpeark!AJ75,\"\")","v":""},null,null,{"$f":"IFERROR(Hjælpeark!AK75,\"\")","v":""},null,null,{"$f":"IFERROR(Hjælpeark!AL75,\"\")","v":""}]
[null,"Tilsyn 15",{"$f":"IFERROR(Hjælpeark!AF76,\"\")","v":""},null,null,{"$f":"IFERROR(Hjælpeark!AG76,\"\")","v":""},null,null,{"$f":"IFERROR(Hjælpeark!AH76,\"\")","v":""},null,null,{"$f":"IFERROR(Hjælpeark!AI76,\"\")","v":""},null,null,{"$f":"IFERROR(Hjælpeark!AJ76,\"\")","v":""},null,null,{"$f":"IFERROR(Hjælpeark!AK76,\"\")","v":""},null,null,{"$f":"IFERROR(Hjælpeark!AL76,\"\")","v":""}]
[null,"Tilsyn 16",{"$f":"IFERROR(Hjælpeark!AF77,\"\")","v":""},null,null,{"$f":"IFERROR(Hjælpeark!AG77,\"\")","v":""},null,null,{"$f":"IFERROR(Hjælpeark!AH77,\"\")","v":""},null,null,{"$f":"IFERROR(Hjælpeark!AI77,\"\")","v":""},null,null,{"$f":"IFERROR(Hjælpeark!AJ77,\"\")","v":""},null,null,{"$f":"IFERROR(Hjælpeark!AK77,\"\")","v":""},null,null,{"$f":"IFERROR(Hjælpeark!AL77,\"\")","v":""}]
[null,"Tilsyn 17",{"$f":"IFERROR(Hjælpeark!AF78,\"\")","v":""},null,null,{"$f":"IFERROR(Hjælpeark!AG78,\"\")","v":""},null,null,{"$f":"IFERROR(Hjælpeark!AH78,\"\")","v":""},null,null,{"$f":"IFERROR(Hjælpeark!AI78,\"\")","v":""},null,null,{"$f":"IFERROR(Hjælpeark!AJ78,\"\")","v":""},null,null,{"$f":"IFERROR(Hjælpeark!AK78,\"\")","v":""},null,null,{"$f":"IFERROR(Hjælpeark!AL78,\"\")","v":""}]
[null,"Tilsyn 18",{"$f":"IFERROR(Hjælpeark!AF79,\"\")","v":""},null,null,{"$f":"IFERROR(Hjælpeark!AG79,\"\")","v":""},null,null,{"$f":"IFERROR(Hjælpeark!AH79,\"\")","v":""},null,null,{"$f":"IFERROR(Hjælpeark!AI79,\"\")","v":""},null,null,{"$f":"IFERROR(Hjælpeark!AJ79,\"\")","v":""},null,null,{"$f":"IFERROR(Hjælpeark!AK79,\"\")","v":""},null,null,{"$f":"IFERROR(Hjælpeark!AL79,\"\")","v":""}]
[null,"Tilsyn 19",{"$f":"IFERROR(Hjælpeark!AF80,\"\")","v":""},null,null,{"$f":"IFERROR(Hjælpeark!AG80,\"\")","v":""},null,null,{"$f":"IFERROR(Hjælpeark!AH80,\"\")","v":""},null,null,{"$f":"IFERROR(Hjælpeark!AI80,\"\")","v":""},null,null,{"$f":"IFERROR(Hjælpeark!AJ80,\"\")","v":""},null,null,{"$f":"IFERROR(Hjælpeark!AK80,\"\")","v":""},null,null,{"$f":"IFERROR(Hjælpeark!AL80,\"\")","v":""}]
[null,"Tilsyn 20",{"$f":"IFERROR(Hjælpeark!AF81,\"\")","v":""},null,null,{"$f":"IFERROR(Hjælpeark!AG81,\"\")","v":""},null,null,{"$f":"IFERROR(Hjælpeark!AH81,\"\")","v":""},null,null,{"$f":"IFERROR(Hjælpeark!AI81,\"\")","v":""},null,null,{"$f":"IFERROR(Hjælpeark!AJ81,\"\")","v":""},null,null,{"$f":"IFERROR(Hjælpeark!AK81,\"\")","v":""},null,null,{"$f":"IFERROR(Hjælpeark!AL81,\"\")","v":""}]
[null,"Tilsyn 21",{"$f":"IFERROR(Hjælpeark!AF82,\"\")","v":""},null,null,{"$f":"IFERROR(Hjælpeark!AG82,\"\")","v":""},null,null,{"$f":"IFERROR(Hjælpeark!AH82,\"\")","v":""},null,null,{"$f":"IFERROR(Hjælpeark!AI82,\"\")","v":""},null,null,{"$f":"IFERROR(Hjælpeark!AJ82,\"\")","v":""},null,null,{"$f":"IFERROR(Hjælpeark!AK82,\"\")","v":""},null,null,{"$f":"IFERROR(Hjælpeark!AL82,\"\")","v":""}]
[null,"Tilsyn 22",{"$f":"IFERROR(Hjælpeark!AF83,\"\")","v":""},null,null,{"$f":"IFERROR(Hjælpeark!AG83,\"\")","v":""},null,null,{"$f":"IFERROR(Hjælpeark!AH83,\"\")","v":""},null,null,{"$f":"IFERROR(Hjælpeark!AI83,\"\")","v":""},null,null,{"$f":"IFERROR(Hjælpeark!AJ83,\"\")","v":""},null,null,{"$f":"IFERROR(Hjælpeark!AK83,\"\")","v":""},null,null,{"$f":"IFERROR(Hjælpeark!AL83,\"\")","v":""}]
[null,"Tilsyn 23",{"$f":"IFERROR(Hjælpeark!AF84,\"\")","v":""},null,null,{"$f":"IFERROR(Hjælpeark!AG84,\"\")","v":""},null,null,{"$f":"IFERROR(Hjælpeark!AH84,\"\")","v":""},null,null,{"$f":"IFERROR(Hjælpeark!AI84,\"\")","v":""},null,null,{"$f":"IFERROR(Hjælpeark!AJ84,\"\")","v":""},null,null,{"$f":"IFERROR(Hjælpeark!AK84,\"\")","v":""},null,null,{"$f":"IFERROR(Hjælpeark!AL84,\"\")","v":""}]
[null,"Tilsyn 24",{"$f":"IFERROR(Hjælpeark!AF85,\"\")","v":""},null,null,{"$f":"IFERROR(Hjælpeark!AG85,\"\")","v":""},null,null,{"$f":"IFERROR(Hjælpeark!AH85,\"\")","v":""},null,null,{"$f":"IFERROR(Hjælpeark!AI85,\"\")","v":""},null,null,{"$f":"IFERROR(Hjælpeark!AJ85,\"\")","v":""},null,null,{"$f":"IFERROR(Hjælpeark!AK85,\"\")","v":""},null,null,{"$f":"IFERROR(Hjælpeark!AL85,\"\")","v":""}]
[null,"Tilsyn 25",{"$f":"IFERROR(Hjælpeark!AF86,\"\")","v":""},null,null,{"$f":"IFERROR(Hjælpeark!AG86,\"\")","v":""},null,null,{"$f":"IFERROR(Hjælpeark!AH86,\"\")","v":""},null,null,{"$f":"IFERROR(Hjælpeark!AI86,\"\")","v":""},null,null,{"$f":"IFERROR(Hjælpeark!AJ86,\"\")","v":""},null,null,{"$f":"IFERROR(Hjælpeark!AK86,\"\")","v":""},null,null,{"$f":"IFERROR(Hjælpeark!AL86,\"\")","v":""}]
[null,"Tilsyn 26",{"$f":"IFERROR(Hjælpeark!AF87,\"\")","v":""},null,null,{"$f":"IFERROR(Hjælpeark!AG87,\"\")","v":""},null,null,{"$f":"IFERROR(Hjælpeark!AH87,\"\")","v":""},null,null,{"$f":"IFERROR(Hjælpeark!AI87,\"\")","v":""},null,null,{"$f":"IFERROR(Hjælpeark!AJ87,\"\")","v":""},null,null,{"$f":"IFERROR(Hjælpeark!AK87,\"\")","v":""},null,null,{"$f":"IFERROR(Hjælpeark!AL87,\"\")","v":""}]
[null,"Tilsyn 27",{"$f":"IFERROR(Hjælpeark!AF88,\"\")","v":""},null,null,{"$f":"IFERROR(Hjælpeark!AG88,\"\")","v":""},null,null,{"$f":"IFERROR(Hjælpeark!AH88,\"\")","v":""},null,null,{"$f":"IFERROR(Hjælpeark!AI88,\"\")","v":""},null,null,{"$f":"IFERROR(Hjælpeark!AJ88,\"\")","v":""},null,null,{"$f":"IFERROR(Hjælpeark!AK88,\"\")","v":""},null,null,{"$f":"IFERROR(Hjælpeark!AL88,\"\")","v":""}]
[null,"Tilsyn 28",{"$f":"IFERROR(Hjælpeark!AF89,\"\")","v":""},null,null,{"$f":"IFERROR(Hjælpeark!AG89,\"\")","v":""},null,null,{"$f":"IFERROR(Hjælpeark!AH89,\"\")","v":""},null,null,{"$f":"IFERROR(Hjælpeark!AI89,\"\")","v":""},null,null,{"$f":"IFERROR(Hjælpeark!AJ89,\"\")","v":""},null,null,{"$f":"IFERROR(Hjælpeark!AK89,\"\")","v":""},null,null,{"$f":"IFERROR(Hjælpeark!AL89,\"\")","v":""}]
[null,"Tilsyn 29",{"$f":"IFERROR(Hjælpeark!AF90,\"\")","v":""},null,null,{"$f":"IFERROR(Hjælpeark!AG90,\"\")","v":""},null,null,{"$f":"IFERROR(Hjælpeark!AH90,\"\")","v":""},null,null,{"$f":"IFERROR(Hjælpeark!AI90,\"\")","v":""},null,null,{"$f":"IFERROR(Hjælpeark!AJ90,\"\")","v":""},null,null,{"$f":"IFERROR(Hjælpeark!AK90,\"\")","v":""},null,null,{"$f":"IFERROR(Hjælpeark!AL90,\"\")","v":""}]
[null,"Tilsyn 30",{"$f":"IFERROR(Hjælpeark!AF91,\"\")","v":""},null,null,{"$f":"IFERROR(Hjælpeark!AG91,\"\")","v":""},null,null,{"$f":"IFERROR(Hjælpeark!AH91,\"\")","v":""},null,null,{"$f":"IFERROR(Hjælpeark!AI91,\"\")","v":""},null,null,{"$f":"IFERROR(Hjælpeark!AJ91,\"\")","v":""},null,null,{"$f":"IFERROR(Hjælpeark!AK91,\"\")","v":""},null,null,{"$f":"IFERROR(Hjælpeark!AL91,\"\")","v":""}]
[null,"Tilsyn 31",{"$f":"IFERROR(Hjælpeark!AF92,\"\")","v":""},null,null,{"$f":"IFERROR(Hjælpeark!AG92,\"\")","v":""},null,null,{"$f":"IFERROR(Hjælpeark!AH92,\"\")","v":""},null,null,{"$f":"IFERROR(Hjælpeark!AI92,\"\")","v":""},null,null,{"$f":"IFERROR(Hjælpeark!AJ92,\"\")","v":""},null,null,{"$f":"IFERROR(Hjælpeark!AK92,\"\")","v":""},null,null,{"$f":"IFERROR(Hjælpeark!AL92,\"\")","v":""}]
[null,"Tilsyn 32",{"$f":"IFERROR(Hjælpeark!AF93,\"\")","v":""},null,null,{"$f":"IFERROR(Hjælpeark!AG93,\"\")","v":""},null,null,{"$f":"IFERROR(Hjælpeark!AH93,\"\")","v":""},null,null,{"$f":"IFERROR(Hjælpeark!AI93,\"\")","v":""},null,null,{"$f":"IFERROR(Hjælpeark!AJ93,\"\")","v":""},null,null,{"$f":"IFERROR(Hjælpeark!AK93,\"\")","v":""},null,null,{"$f":"IFERROR(Hjælpeark!AL93,\"\")","v":""}]
[null,"Tilsyn 33",{"$f":"IFERROR(Hjælpeark!AF94,\"\")","v":""},null,null,{"$f":"IFERROR(Hjælpeark!AG94,\"\")","v":""},null,null,{"$f":"IFERROR(Hjælpeark!AH94,\"\")","v":""},null,null,{"$f":"IFERROR(Hjælpeark!AI94,\"\")","v":""},null,null,{"$f":"IFERROR(Hjælpeark!AJ94,\"\")","v":""},null,null,{"$f":"IFERROR(Hjælpeark!AK94,\"\")","v":""},null,null,{"$f":"IFERROR(Hjælpeark!AL94,\"\")","v":""}]
[null,"Tilsyn 34",{"$f":"IFERROR(Hjælpeark!AF95,\"\")","v":""},null,null,{"$f":"IFERROR(Hjælpeark!AG95,\"\")","v":""},null,null,{"$f":"IFERROR(Hjælpeark!AH95,\"\")","v":""},null,null,{"$f":"IFERROR(Hjælpeark!AI95,\"\")","v":""},null,null,{"$f":"IFERROR(Hjælpeark!AJ95,\"\")","v":""},null,null,{"$f":"IFERROR(Hjælpeark!AK95,\"\")","v":""},null,null,{"$f":"IFERROR(Hjælpeark!AL95,\"\")","v":""}]
[null,"Tilsyn 35",{"$f":"IFERROR(Hjælpeark!AF96,\"\")","v":""},null,null,{"$f":"IFERROR(Hjælpeark!AG96,\"\")","v":""},null,null,{"$f":"IFERROR(Hjælpeark!AH96,\"\")","v":""},null,null,{"$f":"IFERROR(Hjælpeark!AI96,\"\")","v":""},null,null,{"$f":"IFERROR(Hjælpeark!AJ96,\"\")","v":""},null,null,{"$f":"IFERROR(Hjælpeark!AK96,\"\")","v":""},null,null,{"$f":"IFERROR(Hjælpeark!AL96,\"\")","v":""}]
[null,"Tilsyn 36",{"$f":"IFERROR(Hjælpeark!AF97,\"\")","v":""},null,null,{"$f":"IFERROR(Hjælpeark!AG97,\"\")","v":""},null,null,{"$f":"IFERROR(Hjælpeark!AH97,\"\")","v":""},null,null,{"$f":"IFERROR(Hjælpeark!AI97,\"\")","v":""},null,null,{"$f":"IFERROR(Hjælpeark!AJ97,\"\")","v":""},null,null,{"$f":"IFERROR(Hjælpeark!AK97,\"\")","v":""},null,null,{"$f":"IFERROR(Hjælpeark!AL97,\"\")","v":""}]
[null,"Tilsyn 37",{"$f":"IFERROR(Hjælpeark!AF98,\"\")","v":""},null,null,{"$f":"IFERROR(Hjælpeark!AG98,\"\")","v":""},null,null,{"$f":"IFERROR(Hjælpeark!AH98,\"\")","v":""},null,null,{"$f":"IFERROR(Hjælpeark!AI98,\"\")","v":""},null,null,{"$f":"IFERROR(Hjælpeark!AJ98,\"\")","v":""},null,null,{"$f":"IFERROR(Hjælpeark!AK98,\"\")","v":""},null,null,{"$f":"IFERROR(Hjælpeark!AL98,\"\")","v":""}]
[null,"Tilsyn 38",{"$f":"IFERROR(Hjælpeark!AF99,\"\")","v":""},null,null,{"$f":"IFERROR(Hjælpeark!AG99,\"\")","v":""},null,null,{"$f":"IFERROR(Hjælpeark!AH99,\"\")","v":""},null,null,{"$f":"IFERROR(Hjælpeark!AI99,\"\")","v":""},null,null,{"$f":"IFERROR(Hjælpeark!AJ99,\"\")","v":""},null,null,{"$f":"IFERROR(Hjælpeark!AK99,\"\")","v":""},null,null,{"$f":"IFERROR(Hjælpeark!AL99,\"\")","v":""}]
[null,"Tilsyn 39",{"$f":"IFERROR(Hjælpeark!AF100,\"\")","v":""},null,null,{"$f":"IFERROR(Hjælpeark!AG100,\"\")","v":""},null,null,{"$f":"IFERROR(Hjælpeark!AH100,\"\")","v":""},null,null,{"$f":"IFERROR(Hjælpeark!AI100,\"\")","v":""},null,null,{"$f":"IFERROR(Hjælpeark!AJ100,\"\")","v":""},null,null,{"$f":"IFERROR(Hjælpeark!AK100,\"\")","v":""},null,null,{"$f":"IFERROR(Hjælpeark!AL100,\"\")","v":""}]
[null,"Tilsyn 40",{"$f":"IFERROR(Hjælpeark!AF101,\"\")","v":""},null,null,{"$f":"IFERROR(Hjælpeark!AG101,\"\")","v":""},null,null,{"$f":"IFERROR(Hjælpeark!AH101,\"\")","v":""},null,null,{"$f":"IFERROR(Hjælpeark!AI101,\"\")","v":""},null,null,{"$f":"IFERROR(Hjælpeark!AJ101,\"\")","v":""},null,null,{"$f":"IFERROR(Hjælpeark!AK101,\"\")","v":""},null,null,{"$f":"IFERROR(Hjælpeark!AL101,\"\")","v":""}]
[null,"Tilsyn 41",{"$f":"IFERROR(Hjælpeark!AF102,\"\")","v":""},null,null,{"$f":"IFERROR(Hjælpeark!AG102,\"\")","v":""},null,null,{"$f":"IFERROR(Hjælpeark!AH102,\"\")","v":""},null,null,{"$f":"IFERROR(Hjælpeark!AI102,\"\")","v":""},null,null,{"$f":"IFERROR(Hjælpeark!AJ102,\"\")","v":""},null,null,{"$f":"IFERROR(Hjælpeark!AK102,\"\")","v":""},null,null,{"$f":"IFERROR(Hjælpeark!AL102,\"\")","v":""}]
[null,"Tilsyn 42",{"$f":"IFERROR(Hjælpeark!AF103,\"\")","v":""},null,null,{"$f":"IFERROR(Hjælpeark!AG103,\"\")","v":""},null,null,{"$f":"IFERROR(Hjælpeark!AH103,\"\")","v":""},null,null,{"$f":"IFERROR(Hjælpeark!AI103,\"\")","v":""},null,null,{"$f":"IFERROR(Hjælpeark!AJ103,\"\")","v":""},null,null,{"$f":"IFERROR(Hjælpeark!AK103,\"\")","v":""},null,null,{"$f":"IFERROR(Hjælpeark!AL103,\"\")","v":""}]
[null,"Tilsyn 43",{"$f":"IFERROR(Hjælpeark!AF104,\"\")","v":""},null,null,{"$f":"IFERROR(Hjælpeark!AG104,\"\")","v":""},null,null,{"$f":"IFERROR(Hjælpeark!AH104,\"\")","v":""},null,null,{"$f":"IFERROR(Hjælpeark!AI104,\"\")","v":""},null,null,{"$f":"IFERROR(Hjælpeark!AJ104,\"\")","v":""},null,null,{"$f":"IFERROR(Hjælpeark!AK104,\"\")","v":""},null,null,{"$f":"IFERROR(Hjælpeark!AL104,\"\")","v":""}]
[null,"Tilsyn 44",{"$f":"IFERROR(Hjælpeark!AF105,\"\")","v":""},null,null,{"$f":"IFERROR(Hjælpeark!AG105,\"\")","v":""},null,null,{"$f":"IFERROR(Hjælpeark!AH105,\"\")","v":""},null,null,{"$f":"IFERROR(Hjælpeark!AI105,\"\")","v":""},null,null,{"$f":"IFERROR(Hjælpeark!AJ105,\"\")","v":""},null,null,{"$f":"IFERROR(Hjælpeark!AK105,\"\")","v":""},null,null,{"$f":"IFERROR(Hjælpeark!AL105,\"\")","v":""}]
[null,"Tilsyn 45",{"$f":"IFERROR(Hjælpeark!AF106,\"\")","v":""},null,null,{"$f":"IFERROR(Hjælpeark!AG106,\"\")","v":""},null,null,{"$f":"IFERROR(Hjælpeark!AH106,\"\")","v":""},null,null,{"$f":"IFERROR(Hjælpeark!AI106,\"\")","v":""},null,null,{"$f":"IFERROR(Hjælpeark!AJ106,\"\")","v":""},null,null,{"$f":"IFERROR(Hjælpeark!AK106,\"\")","v":""},null,null,{"$f":"IFERROR(Hjælpeark!AL106,\"\")","v":""}]
[null,"Tilsyn 46",{"$f":"IFERROR(Hjælpeark!AF107,\"\")","v":""},null,null,{"$f":"IFERROR(Hjælpeark!AG107,\"\")","v":""},null,null,{"$f":"IFERROR(Hjælpeark!AH107,\"\")","v":""},null,null,{"$f":"IFERROR(Hjælpeark!AI107,\"\")","v":""},null,null,{"$f":"IFERROR(Hjælpeark!AJ107,\"\")","v":""},null,null,{"$f":"IFERROR(Hjælpeark!AK107,\"\")","v":""},null,null,{"$f":"IFERROR(Hjælpeark!AL107,\"\")","v":""}]
[null,"Tilsyn 47",{"$f":"IFERROR(Hjælpeark!AF108,\"\")","v":""},null,null,{"$f":"IFERROR(Hjælpeark!AG108,\"\")","v":""},null,null,{"$f":"IFERROR(Hjælpeark!AH108,\"\")","v":""},null,null,{"$f":"IFERROR(Hjælpeark!AI108,\"\")","v":""},null,null,{"$f":"IFERROR(Hjælpeark!AJ108,\"\")","v":""},null,null,{"$f":"IFERROR(Hjælpeark!AK108,\"\")","v":""},null,null,{"$f":"IFERROR(Hjælpeark!AL108,\"\")","v":""}]
[null,"Tilsyn 48",{"$f":"IFERROR(Hjælpeark!AF109,\"\")","v":""},null,null,{"$f":"IFERROR(Hjælpeark!AG109,\"\")","v":""},null,null,{"$f":"IFERROR(Hjælpeark!AH109,\"\")","v":""},null,null,{"$f":"IFERROR(Hjælpeark!AI109,\"\")","v":""},null,null,{"$f":"IFERROR(Hjælpeark!AJ109,\"\")","v":""},null,null,{"$f":"IFERROR(Hjælpeark!AK109,\"\")","v":""},null,null,{"$f":"IFERROR(Hjælpeark!AL109,\"\")","v":""}]
[null,"Tilsyn 49",{"$f":"IFERROR(Hjælpeark!AF110,\"\")","v":""},null,null,{"$f":"IFERROR(Hjælpeark!AG110,\"\")","v":""},null,null,{"$f":"IFERROR(Hjælpeark!AH110,\"\")","v":""},null,null,{"$f":"IFERROR(Hjælpeark!AI110,\"\")","v":""},null,null,{"$f":"IFERROR(Hjælpeark!AJ110,\"\")","v":""},null,null,{"$f":"IFERROR(Hjælpeark!AK110,\"\")","v":""},null,null,{"$f":"IFERROR(Hjælpeark!AL110,\"\")","v":""}]
[null,"Tilsyn 50",{"$f":"IFERROR(Hjælpeark!AF111,\"\")","v":""},null,null,{"$f":"IFERROR(Hjælpeark!AG111,\"\")","v":""},null,null,{"$f":"IFERROR(Hjælpeark!AH111,\"\")","v":""},null,null,{"$f":"IFERROR(Hjælpeark!AI111,\"\")","v":""},null,null,{"$f":"IFERROR(Hjælpeark!AJ111,\"\")","v":""},null,null,{"$f":"IFERROR(Hjælpeark!AK111,\"\")","v":""},null,null,{"$f":"IFERROR(Hjælpeark!AL111,\"\")","v":""}]
[null,"Tilsyn 51",{"$f":"IFERROR(Hjælpeark!AF112,\"\")","v":""},null,null,{"$f":"IFERROR(Hjælpeark!AG112,\"\")","v":""},null,null,{"$f":"IFERROR(Hjælpeark!AH112,\"\")","v":""},null,null,{"$f":"IFERROR(Hjælpeark!AI112,\"\")","v":""},null,null,{"$f":"IFERROR(Hjælpeark!AJ112,\"\")","v":""},null,null,{"$f":"IFERROR(Hjælpeark!AK112,\"\")","v":""},null,null,{"$f":"IFERROR(Hjælpeark!AL112,\"\")","v":""}]
[null,"Tilsyn 52",{"$f":"IFERROR(Hjælpeark!AF113,\"\")","v":""},null,null,{"$f":"IFERROR(Hjælpeark!AG113,\"\")","v":""},null,null,{"$f":"IFERROR(Hjælpeark!AH113,\"\")","v":""},null,null,{"$f":"IFERROR(Hjælpeark!AI113,\"\")","v":""},null,null,{"$f":"IFERROR(Hjælpeark!AJ113,\"\")","v":""},null,null,{"$f":"IFERROR(Hjælpeark!AK113,\"\")","v":""},null,null,{"$f":"IFERROR(Hjælpeark!AL113,\"\")","v":""}]
[null,"Tilsyn 53",{"$f":"IFERROR(Hjælpeark!AF114,\"\")","v":""},null,null,{"$f":"IFERROR(Hjælpeark!AG114,\"\")","v":""},null,null,{"$f":"IFERROR(Hjælpeark!AH114,\"\")","v":""},null,null,{"$f":"IFERROR(Hjælpeark!AI114,\"\")","v":""},null,null,{"$f":"IFERROR(Hjælpeark!AJ114,\"\")","v":""},null,null,{"$f":"IFERROR(Hjælpeark!AK114,\"\")","v":""},null,null,{"$f":"IFERROR(Hjælpeark!AL114,\"\")","v":""}]
[null,"Tilsyn 54",{"$f":"IFERROR(Hjælpeark!AF115,\"\")","v":""},null,null,{"$f":"IFERROR(Hjælpeark!AG115,\"\")","v":""},null,null,{"$f":"IFERROR(Hjælpeark!AH115,\"\")","v":""},null,null,{"$f":"IFERROR(Hjælpeark!AI115,\"\")","v":""},null,null,{"$f":"IFERROR(Hjælpeark!AJ115,\"\")","v":""},null,null,{"$f":"IFERROR(Hjælpeark!AK115,\"\")","v":""},null,null,{"$f":"IFERROR(Hjælpeark!AL115,\"\")","v":""}]
[null,"Tilsyn 55",{"$f":"IFERROR(Hjælpeark!AF116,\"\")","v":""},null,null,{"$f":"IFERROR(Hjælpeark!AG116,\"\")","v":""},null,null,{"$f":"IFERROR(Hjælpeark!AH116,\"\")","v":""},null,null,{"$f":"IFERROR(Hjælpeark!AI116,\"\")","v":""},null,null,{"$f":"IFERROR(Hjælpeark!AJ116,\"\")","v":""},null,null,{"$f":"IFERROR(Hjælpeark!AK116,\"\")","v":""},null,null,{"$f":"IFERROR(Hjælpeark!AL116,\"\")","v":""}]
[null,"Tilsyn 56",{"$f":"IFERROR(Hjælpeark!AF117,\"\")","v":""},null,null,{"$f":"IFERROR(Hjælpeark!AG117,\"\")","v":""},null,null,{"$f":"IFERROR(Hjælpeark!AH117,\"\")","v":""},null,null,{"$f":"IFERROR(Hjælpeark!AI117,\"\")","v":""},null,null,{"$f":"IFERROR(Hjælpeark!AJ117,\"\")","v":""},null,null,{"$f":"IFERROR(Hjælpeark!AK117,\"\")","v":""},null,null,{"$f":"IFERROR(Hjælpeark!AL117,\"\")","v":""}]
[null,"Tilsyn 57",{"$f":"IFERROR(Hjælpeark!AF118,\"\")","v":""},null,null,{"$f":"IFERROR(Hjælpeark!AG118,\"\")","v":""},null,null,{"$f":"IFERROR(Hjælpeark!AH118,\"\")","v":""},null,null,{"$f":"IFERROR(Hjælpeark!AI118,\"\")","v":""},null,null,{"$f":"IFERROR(Hjælpeark!AJ118,\"\")","v":""},null,null,{"$f":"IFERROR(Hjælpeark!AK118,\"\")","v":""},null,null,{"$f":"IFERROR(Hjælpeark!AL118,\"\")","v":""}]
[null,"Tilsyn 58",{"$f":"IFERROR(Hjælpeark!AF119,\"\")","v":""},null,null,{"$f":"IFERROR(Hjælpeark!AG119,\"\")","v":""},null,null,{"$f":"IFERROR(Hjælpeark!AH119,\"\")","v":""},null,null,{"$f":"IFERROR(Hjælpeark!AI119,\"\")","v":""},null,null,{"$f":"IFERROR(Hjælpeark!AJ119,\"\")","v":""},null,null,{"$f":"IFERROR(Hjælpeark!AK119,\"\")","v":""},null,null,{"$f":"IFERROR(Hjælpeark!AL119,\"\")","v":""}]
[null,"Tilsyn 59",{"$f":"IFERROR(Hjælpeark!AF120,\"\")","v":""},null,null,{"$f":"IFERROR(Hjælpeark!AG120,\"\")","v":""},null,null,{"$f":"IFERROR(Hjælpeark!AH120,\"\")","v":""},null,null,{"$f":"IFERROR(Hjælpeark!AI120,\"\")","v":""},null,null,{"$f":"IFERROR(Hjælpeark!AJ120,\"\")","v":""},null,null,{"$f":"IFERROR(Hjælpeark!AK120,\"\")","v":""},null,null,{"$f":"IFERROR(Hjælpeark!AL120,\"\")","v":""}]
[null,"Tilsyn 60",{"$f":"IFERROR(Hjælpeark!AF121,\"\")","v":""},null,null,{"$f":"IFERROR(Hjælpeark!AG121,\"\")","v":""},null,null,{"$f":"IFERROR(Hjælpeark!AH121,\"\")","v":""},null,null,{"$f":"IFERROR(Hjælpeark!AI121,\"\")","v":""},null,null,{"$f":"IFERROR(Hjælpeark!AJ121,\"\")","v":""},null,null,{"$f":"IFERROR(Hjælpeark!AK121,\"\")","v":""},null,null,{"$f":"IFERROR(Hjælpeark!AL121,\"\")","v":""}]
[null,"Tilsyn 61",{"$f":"IFERROR(Hjælpeark!AF122,\"\")","v":""},null,null,{"$f":"IFERROR(Hjælpeark!AG122,\"\")","v":""},null,null,{"$f":"IFERROR(Hjælpeark!AH122,\"\")","v":""},null,null,{"$f":"IFERROR(Hjælpeark!AI122,\"\")","v":""},null,null,{"$f":"IFERROR(Hjælpeark!AJ122,\"\")","v":""},null,null,{"$f":"IFERROR(Hjælpeark!AK122,\"\")","v":""},null,null,{"$f":"IFERROR(Hjælpeark!AL122,\"\")","v":""}]
[null,"Tilsyn 62",{"$f":"IFERROR(Hjælpeark!AF123,\"\")","v":""},null,null,{"$f":"IFERROR(Hjælpeark!AG123,\"\")","v":""},null,null,{"$f":"IFERROR(Hjælpeark!AH123,\"\")","v":""},null,null,{"$f":"IFERROR(Hjælpeark!AI123,\"\")","v":""},null,null,{"$f":"IFERROR(Hjælpeark!AJ123,\"\")","v":""},null,null,{"$f":"IFERROR(Hjælpeark!AK123,\"\")","v":""},null,null,{"$f":"IFERROR(Hjælpeark!AL123,\"\")","v":""}]
[null,"Tilsyn 63",{"$f":"IFERROR(Hjælpeark!AF124,\"\")","v":""},null,null,{"$f":"IFERROR(Hjælpeark!AG124,\"\")","v":""},null,null,{"$f":"IFERROR(Hjælpeark!AH124,\"\")","v":""},null,null,{"$f":"IFERROR(Hjælpeark!AI124,\"\")","v":""},null,null,{"$f":"IFERROR(Hjælpeark!AJ124,\"\")","v":""},null,null,{"$f":"IFERROR(Hjælpeark!AK124,\"\")","v":""},null,null,{"$f":"IFERROR(Hjælpeark!AL124,\"\")","v":""}]
[null,"Tilsyn 64",{"$f":"IFERROR(Hjælpeark!AF125,\"\")","v":""},null,null,{"$f":"IFERROR(Hjælpeark!AG125,\"\")","v":""},null,null,{"$f":"IFERROR(Hjælpeark!AH125,\"\")","v":""},null,null,{"$f":"IFERROR(Hjælpeark!AI125,\"\")","v":""},null,null,{"$f":"IFERROR(Hjælpeark!AJ125,\"\")","v":""},null,null,{"$f":"IFERROR(Hjælpeark!AK125,\"\")","v":""},null,null,{"$f":"IFERROR(Hjælpeark!AL125,\"\")","v":""}]
[null,"Tilsyn 65",{"$f":"IFERROR(Hjælpeark!AF126,\"\")","v":""},null,null,{"$f":"IFERROR(Hjælpeark!AG126,\"\")","v":""},null,null,{"$f":"IFERROR(Hjælpeark!AH126,\"\")","v":""},null,null,{"$f":"IFERROR(Hjælpeark!AI126,\"\")","v":""},null,null,{"$f":"IFERROR(Hjælpeark!AJ126,\"\")","v":""},null,null,{"$f":"IFERROR(Hjælpeark!AK126,\"\")","v":""},null,null,{"$f":"IFERROR(Hjælpeark!AL126,\"\")","v":""}]
[null,"Tilsyn 66",{"$f":"IFERROR(Hjælpeark!AF127,\"\")","v":""},null,null,{"$f":"IFERROR(Hjælpeark!AG127,\"\")","v":""},null,null,{"$f":"IFERROR(Hjælpeark!AH127,\"\")","v":""},null,null,{"$f":"IFERROR(Hjælpeark!AI127,\"\")","v":""},null,null,{"$f":"IFERROR(Hjælpeark!AJ127,\"\")","v":""},null,null,{"$f":"IFERROR(Hjælpeark!AK127,\"\")","v":""},null,null,{"$f":"IFERROR(Hjælpeark!AL127,\"\")","v":""}]
[null,"Tilsyn 67",{"$f":"IFERROR(Hjælpeark!AF128,\"\")","v":""},null,null,{"$f":"IFERROR(Hjælpeark!AG128,\"\")","v":""},null,null,{"$f":"IFERROR(Hjælpeark!AH128,\"\")","v":""},null,null,{"$f":"IFERROR(Hjælpeark!AI128,\"\")","v":""},null,null,{"$f":"IFERROR(Hjælpeark!AJ128,\"\")","v":""},null,null,{"$f":"IFERROR(Hjælpeark!AK128,\"\")","v":""},null,null,{"$f":"IFERROR(Hjælpeark!AL128,\"\")","v":""}]
[null,"Tilsyn 68",{"$f":"IFERROR(Hjælpeark!AF129,\"\")","v":""},null,null,{"$f":"IFERROR(Hjælpeark!AG129,\"\")","v":""},null,null,{"$f":"IFERROR(Hjælpeark!AH129,\"\")","v":""},null,null,{"$f":"IFERROR(Hjælpeark!AI129,\"\")","v":""},null,null,{"$f":"IFERROR(Hjælpeark!AJ129,\"\")","v":""},null,null,{"$f":"IFERROR(Hjælpeark!AK129,\"\")","v":""},null,null,{"$f":"IFERROR(Hjælpeark!AL129,\"\")","v":""}]
[null,"Tilsyn 69",{"$f":"IFERROR(Hjælpeark!AF130,\"\")","v":""},null,null,{"$f":"IFERROR(Hjælpeark!AG130,\"\")","v":""},null,null,{"$f":"IFERROR(Hjælpeark!AH130,\"\")","v":""},null,null,{"$f":"IFERROR(Hjælpeark!AI130,\"\")","v":""},null,null,{"$f":"IFERROR(Hjælpeark!AJ130,\"\")","v":""},null,null,{"$f":"IFERROR(Hjælpeark!AK130,\"\")","v":""},null,null,{"$f":"IFERROR(Hjælpeark!AL130,\"\")","v":""}]
[null,"Tilsyn 70",{"$f":"IFERROR(Hjælpeark!AF131,\"\")","v":""},null,null,{"$f":"IFERROR(Hjælpeark!AG131,\"\")","v":""},null,null,{"$f":"IFERROR(Hjælpeark!AH131,\"\")","v":""},null,null,{"$f":"IFERROR(Hjælpeark!AI131,\"\")","v":""},null,null,{"$f":"IFERROR(Hjælpeark!AJ131,\"\")","v":""},null,null,{"$f":"IFERROR(Hjælpeark!AK131,\"\")","v":""},null,null,{"$f":"IFERROR(Hjælpeark!AL131,\"\")","v":""}]
[null,"Tilsyn 71",{"$f":"IFERROR(Hjælpeark!AF132,\"\")","v":""},null,null,{"$f":"IFERROR(Hjælpeark!AG132,\"\")","v":""},null,null,{"$f":"IFERROR(Hjælpeark!AH132,\"\")","v":""},null,null,{"$f":"IFERROR(Hjælpeark!AI132,\"\")","v":""},null,null,{"$f":"IFERROR(Hjælpeark!AJ132,\"\")","v":""},null,null,{"$f":"IFERROR(Hjælpeark!AK132,\"\")","v":""},null,null,{"$f":"IFERROR(Hjælpeark!AL132,\"\")","v":""}]
[null,"Tilsyn 72",{"$f":"IFERROR(Hjælpeark!AF133,\"\")","v":""},null,null,{"$f":"IFERROR(Hjælpeark!AG133,\"\")","v":""},null,null,{"$f":"IFERROR(Hjælpeark!AH133,\"\")","v":""},null,null,{"$f":"IFERROR(Hjælpeark!AI133,\"\")","v":""},null,null,{"$f":"IFERROR(Hjælpeark!AJ133,\"\")","v":""},null,null,{"$f":"IFERROR(Hjælpeark!AK133,\"\")","v":""},null,null,{"$f":"IFERROR(Hjælpeark!AL133,\"\")","v":""}]
[null,"Tilsyn 73",{"$f":"IFERROR(Hjælpeark!AF134,\"\")","v":""},null,null,{"$f":"IFERROR(Hjælpeark!AG134,\"\")","v":""},null,null,{"$f":"IFERROR(Hjælpeark!AH134,\"\")","v":""},null,null,{"$f":"IFERROR(Hjælpeark!AI134,\"\")","v":""},null,null,{"$f":"IFERROR(Hjælpeark!AJ134,\"\")","v":""},null,null,{"$f":"IFERROR(Hjælpeark!AK134,\"\")","v":""},null,null,{"$f":"IFERROR(Hjælpeark!AL134,\"\")","v":""}]
[null,"Tilsyn 74",{"$f":"IFERROR(Hjælpeark!AF135,\"\")","v":""},null,null,{"$f":"IFERROR(Hjælpeark!AG135,\"\")","v":""},null,null,{"$f":"IFERROR(Hjælpeark!AH135,\"\")","v":""},null,null,{"$f":"IFERROR(Hjælpeark!AI135,\"\")","v":""},null,null,{"$f":"IFERROR(Hjælpeark!AJ135,\"\")","v":""},null,null,{"$f":"IFERROR(Hjælpeark!AK135,\"\")","v":""},null,null,{"$f":"IFERROR(Hjælpeark!AL135,\"\")","v":""}]
[null,"Tilsyn 75",{"$f":"IFERROR(Hjælpeark!AF136,\"\")","v":""},null,null,{"$f":"IFERROR(Hjælpeark!AG136,\"\")","v":""},null,null,{"$f":"IFERROR(Hjælpeark!AH136,\"\")","v":""},null,null,{"$f":"IFERROR(Hjælpeark!AI136,\"\")","v":""},null,null,{"$f":"IFERROR(Hjælpeark!AJ136,\"\")","v":""},null,null,{"$f":"IFERROR(Hjælpeark!AK136,\"\")","v":""},null,null,{"$f":"IFERROR(Hjælpeark!AL136,\"\")","v":""}]
[null,"Tilsyn 76",{"$f":"IFERROR(Hjælpeark!AF137,\"\")","v":""},null,null,{"$f":"IFERROR(Hjælpeark!AG137,\"\")","v":""},null,null,{"$f":"IFERROR(Hjælpeark!AH137,\"\")","v":""},null,null,{"$f":"IFERROR(Hjælpeark!AI137,\"\")","v":""},null,null,{"$f":"IFERROR(Hjælpeark!AJ137,\"\")","v":""},null,null,{"$f":"IFERROR(Hjælpeark!AK137,\"\")","v":""},null,null,{"$f":"IFERROR(Hjælpeark!AL137,\"\")","v":""}]
[null,"Tilsyn 77",{"$f":"IFERROR(Hjælpeark!AF138,\"\")","v":""},null,null,{"$f":"IFERROR(Hjælpeark!AG138,\"\")","v":""},null,null,{"$f":"IFERROR(Hjælpeark!AH138,\"\")","v":""},null,null,{"$f":"IFERROR(Hjælpeark!AI138,\"\")","v":""},null,null,{"$f":"IFERROR(Hjælpeark!AJ138,\"\")","v":""},null,null,{"$f":"IFERROR(Hjælpeark!AK138,\"\")","v":""},null,null,{"$f":"IFERROR(Hjælpeark!AL138,\"\")","v":""}]
[null,"Tilsyn 78",{"$f":"IFERROR(Hjælpeark!AF139,\"\")","v":""},null,null,{"$f":"IFERROR(Hjælpeark!AG139,\"\")","v":""},null,null,{"$f":"IFERROR(Hjælpeark!AH139,\"\")","v":""},null,null,{"$f":"IFERROR(Hjælpeark!AI139,\"\")","v":""},null,null,{"$f":"IFERROR(Hjælpeark!AJ139,\"\")","v":""},null,null,{"$f":"IFERROR(Hjælpeark!AK139,\"\")","v":""},null,null,{"$f":"IFERROR(Hjælpeark!AL139,\"\")","v":""}]
[null,"Tilsyn 79",{"$f":"IFERROR(Hjælpeark!AF140,\"\")","v":""},null,null,{"$f":"IFERROR(Hjælpeark!AG140,\"\")","v":""},null,null,{"$f":"IFERROR(Hjælpeark!AH140,\"\")","v":""},null,null,{"$f":"IFERROR(Hjælpeark!AI140,\"\")","v":""},null,null,{"$f":"IFERROR(Hjælpeark!AJ140,\"\")","v":""},null,null,{"$f":"IFERROR(Hjælpeark!AK140,\"\")","v":""},null,null,{"$f":"IFERROR(Hjælpeark!AL140,\"\")","v":""}]
[null,"Tilsyn 80",{"$f":"IFERROR(Hjælpeark!AF141,\"\")","v":""},null,null,{"$f":"IFERROR(Hjælpeark!AG141,\"\")","v":""},null,null,{"$f":"IFERROR(Hjælpeark!AH141,\"\")","v":""},null,null,{"$f":"IFERROR(Hjælpeark!AI141,\"\")","v":""},null,null,{"$f":"IFERROR(Hjælpeark!AJ141,\"\")","v":""},null,null,{"$f":"IFERROR(Hjælpeark!AK141,\"\")","v":""},null,null,{"$f":"IFERROR(Hjælpeark!AL141,\"\")","v":""}]
[null,"Tilsyn 81",{"$f":"IFERROR(Hjælpeark!AF142,\"\")","v":""},null,null,{"$f":"IFERROR(Hjælpeark!AG142,\"\")","v":""},null,null,{"$f":"IFERROR(Hjælpeark!AH142,\"\")","v":""},null,null,{"$f":"IFERROR(Hjælpeark!AI142,\"\")","v":""},null,null,{"$f":"IFERROR(Hjælpeark!AJ142,\"\")","v":""},null,null,{"$f":"IFERROR(Hjælpeark!AK142,\"\")","v":""},null,null,{"$f":"IFERROR(Hjælpeark!AL142,\"\")","v":""}]
[null,"Tilsyn 82",{"$f":"IFERROR(Hjælpeark!AF143,\"\")","v":""},null,null,{"$f":"IFERROR(Hjælpeark!AG143,\"\")","v":""},null,null,{"$f":"IFERROR(Hjælpeark!AH143,\"\")","v":""},null,null,{"$f":"IFERROR(Hjælpeark!AI143,\"\")","v":""},null,null,{"$f":"IFERROR(Hjælpeark!AJ143,\"\")","v":""},null,null,{"$f":"IFERROR(Hjælpeark!AK143,\"\")","v":""},null,null,{"$f":"IFERROR(Hjælpeark!AL143,\"\")","v":""}]
[null,"Tilsyn 83",{"$f":"IFERROR(Hjælpeark!AF144,\"\")","v":""},null,null,{"$f":"IFERROR(Hjælpeark!AG144,\"\")","v":""},null,null,{"$f":"IFERROR(Hjælpeark!AH144,\"\")","v":""},null,null,{"$f":"IFERROR(Hjælpeark!AI144,\"\")","v":""},null,null,{"$f":"IFERROR(Hjælpeark!AJ144,\"\")","v":""},null,null,{"$f":"IFERROR(Hjælpeark!AK144,\"\")","v":""},null,null,{"$f":"IFERROR(Hjælpeark!AL144,\"\")","v":""}]
[null,"Tilsyn 84",{"$f":"IFERROR(Hjælpeark!AF145,\"\")","v":""},null,null,{"$f":"IFERROR(Hjælpeark!AG145,\"\")","v":""},null,null,{"$f":"IFERROR(Hjælpeark!AH145,\"\")","v":""},null,null,{"$f":"IFERROR(Hjælpeark!AI145,\"\")","v":""},null,null,{"$f":"IFERROR(Hjælpeark!AJ145,\"\")","v":""},null,null,{"$f":"IFERROR(Hjælpeark!AK145,\"\")","v":""},null,null,{"$f":"IFERROR(Hjælpeark!AL145,\"\")","v":""}]
[null,"Tilsyn 85",{"$f":"IFERROR(Hjælpeark!AF146,\"\")","v":""},null,null,{"$f":"IFERROR(Hjælpeark!AG146,\"\")","v":""},null,null,{"$f":"IFERROR(Hjælpeark!AH146,\"\")","v":""},null,null,{"$f":"IFERROR(Hjælpeark!AI146,\"\")","v":""},null,null,{"$f":"IFERROR(Hjælpeark!AJ146,\"\")","v":""},null,null,{"$f":"IFERROR(Hjælpeark!AK146,\"\")","v":""},null,null,{"$f":"IFERROR(Hjælpeark!AL146,\"\")","v":""}]
[null,"Tilsyn 86",{"$f":"IFERROR(Hjælpeark!AF147,\"\")","v":""},null,null,{"$f":"IFERROR(Hjælpeark!AG147,\"\")","v":""},null,null,{"$f":"IFERROR(Hjælpeark!AH147,\"\")","v":""},null,null,{"$f":"IFERROR(Hjælpeark!AI147,\"\")","v":""},null,null,{"$f":"IFERROR(Hjælpeark!AJ147,\"\")","v":""},null,null,{"$f":"IFERROR(Hjælpeark!AK147,\"\")","v":""},null,null,{"$f":"IFERROR(Hjælpeark!AL147,\"\")","v":""}]
[null,"Tilsyn 87",{"$f":"IFERROR(Hjælpeark!AF148,\"\")","v":""},null,null,{"$f":"IFERROR(Hjælpeark!AG148,\"\")","v":""},null,null,{"$f":"IFERROR(Hjælpeark!AH148,\"\")","v":""},null,null,{"$f":"IFERROR(Hjælpeark!AI148,\"\")","v":""},null,null,{"$f":"IFERROR(Hjælpeark!AJ148,\"\")","v":""},null,null,{"$f":"IFERROR(Hjælpeark!AK148,\"\")","v":""},null,null,{"$f":"IFERROR(Hjælpeark!AL148,\"\")","v":""}]
[null,"Tilsyn 88",{"$f":"IFERROR(Hjælpeark!AF149,\"\")","v":""},null,null,{"$f":"IFERROR(Hjælpeark!AG149,\"\")","v":""},null,null,{"$f":"IFERROR(Hjælpeark!AH149,\"\")","v":""},null,null,{"$f":"IFERROR(Hjælpeark!AI149,\"\")","v":""},null,null,{"$f":"IFERROR(Hjælpeark!AJ149,\"\")","v":""},null,null,{"$f":"IFERROR(Hjælpeark!AK149,\"\")","v":""},null,null,{"$f":"IFERROR(Hjælpeark!AL149,\"\")","v":""}]
[null,"Tilsyn 89",{"$f":"IFERROR(Hjælpeark!AF150,\"\")","v":""},null,null,{"$f":"IFERROR(Hjælpeark!AG150,\"\")","v":""},null,null,{"$f":"IFERROR(Hjælpeark!AH150,\"\")","v":""},null,null,{"$f":"IFERROR(Hjælpeark!AI150,\"\")","v":""},null,null,{"$f":"IFERROR(Hjælpeark!AJ150,\"\")","v":""},null,null,{"$f":"IFERROR(Hjælpeark!AK150,\"\")","v":""},null,null,{"$f":"IFERROR(Hjælpeark!AL150,\"\")","v":""}]
[null,"Tilsyn 90",{"$f":"IFERROR(Hjælpeark!AF151,\"\")","v":""},null,null,{"$f":"IFERROR(Hjælpeark!AG151,\"\")","v":""},null,null,{"$f":"IFERROR(Hjælpeark!AH151,\"\")","v":""},null,null,{"$f":"IFERROR(Hjælpeark!AI151,\"\")","v":""},null,null,{"$f":"IFERROR(Hjælpeark!AJ151,\"\")","v":""},null,null,{"$f":"IFERROR(Hjælpeark!AK151,\"\")","v":""},null,null,{"$f":"IFERROR(Hjælpeark!AL151,\"\")","v":""}]
[null,"Tilsyn 91",{"$f":"IFERROR(Hjælpeark!AF152,\"\")","v":""},null,null,{"$f":"IFERROR(Hjælpeark!AG152,\"\")","v":""},null,null,{"$f":"IFERROR(Hjælpeark!AH152,\"\")","v":""},null,null,{"$f":"IFERROR(Hjælpeark!AI152,\"\")","v":""},null,null,{"$f":"IFERROR(Hjælpeark!AJ152,\"\")","v":""},null,null,{"$f":"IFERROR(Hjælpeark!AK152,\"\")","v":""},null,null,{"$f":"IFERROR(Hjælpeark!AL152,\"\")","v":""}]
[null,"Tilsyn 92",{"$f":"IFERROR(Hjælpeark!AF153,\"\")","v":""},null,null,{"$f":"IFERROR(Hjælpeark!AG153,\"\")","v":""},null,null,{"$f":"IFERROR(Hjælpeark!AH153,\"\")","v":""},null,null,{"$f":"IFERROR(Hjælpeark!AI153,\"\")","v":""},null,null,{"$f":"IFERROR(Hjælpeark!AJ153,\"\")","v":""},null,null,{"$f":"IFERROR(Hjælpeark!AK153,\"\")","v":""},null,null,{"$f":"IFERROR(Hjælpeark!AL153,\"\")","v":""}]
[null,"Tilsyn 93",{"$f":"IFERROR(Hjælpeark!AF154,\"\")","v":""},null,null,{"$f":"IFERROR(Hjælpeark!AG154,\"\")","v":""},null,null,{"$f":"IFERROR(Hjælpeark!AH154,\"\")","v":""},null,null,{"$f":"IFERROR(Hjælpeark!AI154,\"\")","v":""},null,null,{"$f":"IFERROR(Hjælpeark!AJ154,\"\")","v":""},null,null,{"$f":"IFERROR(Hjælpeark!AK154,\"\")","v":""},null,null,{"$f":"IFERROR(Hjælpeark!AL154,\"\")","v":""}]
[null,"Tilsyn 94",{"$f":"IFERROR(Hjælpeark!AF155,\"\")","v":""},null,null,{"$f":"IFERROR(Hjælpeark!AG155,\"\")","v":""},null,null,{"$f":"IFERROR(Hjælpeark!AH155,\"\")","v":""},null,null,{"$f":"IFERROR(Hjælpeark!AI155,\"\")","v":""},null,null,{"$f":"IFERROR(Hjælpeark!AJ155,\"\")","v":""},null,null,{"$f":"IFERROR(Hjælpeark!AK155,\"\")","v":""},null,null,{"$f":"IFERROR(Hjælpeark!AL155,\"\")","v":""}]
[null,"Tilsyn 95",{"$f":"IFERROR(Hjælpeark!AF156,\"\")","v":""},null,null,{"$f":"IFERROR(Hjælpeark!AG156,\"\")","v":""},null,null,{"$f":"IFERROR(Hjælpeark!AH156,\"\")","v":""},null,null,{"$f":"IFERROR(Hjælpeark!AI156,\"\")","v":""},null,null,{"$f":"IFERROR(Hjælpeark!AJ156,\"\")","v":""},null,null,{"$f":"IFERROR(Hjælpeark!AK156,\"\")","v":""},null,null,{"$f":"IFERROR(Hjælpeark!AL156,\"\")","v":""}]
[null,"Tilsyn 96",{"$f":"IFERROR(Hjælpeark!AF157,\"\")","v":""},null,null,{"$f":"IFERROR(Hjælpeark!AG157,\"\")","v":""},null,null,{"$f":"IFERROR(Hjælpeark!AH157,\"\")","v":""},null,null,{"$f":"IFERROR(Hjælpeark!AI157,\"\")","v":""},null,null,{"$f":"IFERROR(Hjælpeark!AJ157,\"\")","v":""},null,null,{"$f":"IFERROR(Hjælpeark!AK157,\"\")","v":""},null,null,{"$f":"IFERROR(Hjælpeark!AL157,\"\")","v":""}]
[null,"Tilsyn 97",{"$f":"IFERROR(Hjælpeark!AF158,\"\")","v":""},null,null,{"$f":"IFERROR(Hjælpeark!AG158,\"\")","v":""},null,null,{"$f":"IFERROR(Hjælpeark!AH158,\"\")","v":""},null,null,{"$f":"IFERROR(Hjælpeark!AI158,\"\")","v":""},null,null,{"$f":"IFERROR(Hjælpeark!AJ158,\"\")","v":""},null,null,{"$f":"IFERROR(Hjælpeark!AK158,\"\")","v":""},null,null,{"$f":"IFERROR(Hjælpeark!AL158,\"\")","v":""}]
[null,"Tilsyn 98",{"$f":"IFERROR(Hjælpeark!AF159,\"\")","v":""},null,null,{"$f":"IFERROR(Hjælpeark!AG159,\"\")","v":""},null,null,{"$f":"IFERROR(Hjælpeark!AH159,\"\")","v":""},null,null,{"$f":"IFERROR(Hjælpeark!AI159,\"\")","v":""},null,null,{"$f":"IFERROR(Hjælpeark!AJ159,\"\")","v":""},null,null,{"$f":"IFERROR(Hjælpeark!AK159,\"\")","v":""},null,null,{"$f":"IFERROR(Hjælpeark!AL159,\"\")","v":""}]
[null,"Tilsyn 99",{"$f":"IFERROR(Hjælpeark!AF160,\"\")","v":""},null,null,{"$f":"IFERROR(Hjælpeark!AG160,\"\")","v":""},null,null,{"$f":"IFERROR(Hjælpeark!AH160,\"\")","v":""},null,null,{"$f":"IFERROR(Hjælpeark!AI160,\"\")","v":""},null,null,{"$f":"IFERROR(Hjælpeark!AJ160,\"\")","v":""},null,null,{"$f":"IFERROR(Hjælpeark!AK160,\"\")","v":""},null,null,{"$f":"IFERROR(Hjælpeark!AL160,\"\")","v":""}]
[null,"Tilsyn 100",{"$f":"IFERROR(Hjælpeark!AF161,\"\")","v":""},null,null,{"$f":"IFERROR(Hjælpeark!AG161,\"\")","v":""},null,null,{"$f":"IFERROR(Hjælpeark!AH161,\"\")","v":""},null,null,{"$f":"IFERROR(Hjælpeark!AI161,\"\")","v":""},null,null,{"$f":"IFERROR(Hjælpeark!AJ161,\"\")","v":""},null,null,{"$f":"IFERROR(Hjælpeark!AK161,\"\")","v":""},null,null,{"$f":"IFERROR(Hjælpeark!AL161,\"\")","v":""}]

{"sheet":"Analyse, B&U","index":3,"n_rows":49,"n_cols":5,"rows_kept":49,"cut":false,"hidden":false,"merged":[[4,0,16,6],[1,0,1,6],[41,0,41,1],[42,0,42,1],[48,0,48,1],[43,0,43,1],[44,0,44,1],[45,0,45,1],[46,0,46,1],[47,0,47,1]]}
[]
["Ledelsesinformation for de oprettede ledelsestilsyn"]
[]
["Overordnet vurdering"]
["[her kan du skrive din vurdering på tværs af de udførte overordnede og tematiserede ledelsestilsyn samt i forhold til tabellen og grafen nedenfor. Vær opmærksom på ressourcer og opmærksomhedspunkter  i forhold til både lovmedholdelighed og socialfaglig kvalitet]"]
[]
[]
[]
[]
[]
[]
[]
[]
[]
[]
[]
[]
[]
[]
[]
["Figur 1"]
[]
[]
[]
[]
[]
[]
[]
[]
[]
[]
[]
[]
[]
[]
[]
[]
[]
[]
["Tabel 1"]
[null,null,"Ingen opmærksomhed","Let opmærksomhed","Særlig opmærksomhed"]
[{"$f":"'Skabelon, B&U'!B23","v":"Faglig udredning - Underretning efter kapitel 16"},null,{"$f":"COUNTIFS(Hjælpeark!B$62:B$361,Hjælpeark!$A$58,Hjælpeark!K$62:K$361,1)","v":0},{"$f":"COUNTIFS(Hjælpeark!B$62:B$361,Hjælpeark!$A$59,Hjælpeark!K$62:K$361,1)","v":0},{"$f":"COUNTIFS(Hjælpeark!B$62:B$361,Hjælpeark!$A$60,Hjælpeark!K$62:K$361,1)","v":0}]
[{"$f":"'Skabelon, B&U'!B36","v":"Faglig udredning - Screening efter §18"},null,{"$f":"COUNTIFS(Hjælpeark!B$62:B$361,Hjælpeark!$A$58,Hjælpeark!L$62:L$361,1)","v":0},{"$f":"COUNTIFS(Hjælpeark!B$62:B$361,Hjælpeark!$A$59,Hjælpeark!L$62:L$361,1)","v":0},{"$f":"COUNTIFS(Hjælpeark!B$62:B$361,Hjælpeark!$A$60,Hjælpeark!L$62:L$361,1)","v":0}]
[{"$f":"'Skabelon, B&U'!B45","v":"Faglig udredning - Afdækning efter § 19"},null,{"$f":"COUNTIFS(Hjælpeark!B$62:B$361,Hjælpeark!$A$58,Hjælpeark!M$62:M$361,1)","v":0},{"$f":"COUNTIFS(Hjælpeark!B$62:B$361,Hjælpeark!$A$59,Hjælpeark!M$62:M$361,1)","v":0},{"$f":"COUNTIFS(Hjælpeark!B$62:B$361,Hjælpeark!$A$60,Hjælpeark!M$62:M$361,1)","v":0}]
[{"$f":"'Skabelon, B&U'!B69","v":"Faglig udredning - Børnefaglig undersøgelse efter § 20"},null,{"$f":"COUNTIFS(Hjælpeark!B$62:B$361,Hjælpeark!$A$58,Hjælpeark!N$62:N$361,1)","v":0},{"$f":"COUNTIFS(Hjælpeark!B$62:B$361,Hjælpeark!$A$59,Hjælpeark!N$62:N$361,1)","v":0},{"$f":"COUNTIFS(Hjælpeark!B$62:B$361,Hjælpeark!$A$60,Hjælpeark!N$62:N$361,1)","v":0}]
[{"$f":"'Skabelon, B&U'!B100","v":"Valg af indsats - Støttende indsats efter § 32"},null,{"$f":"COUNTIFS(Hjælpeark!B$62:B$361,Hjælpeark!$A$58,Hjælpeark!O$62:O$361,1)","v":0},{"$f":"COUNTIFS(Hjælpeark!B$62:B$361,Hjælpeark!$A$59,Hjælpeark!O$62:O$361,1)","v":0},{"$f":"COUNTIFS(Hjælpeark!B$62:B$361,Hjælpeark!$A$60,Hjælpeark!O$62:O$361,1)","v":0}]
[{"$f":"'Skabelon, B&U'!B131","v":"Valg af indsats - Anbringelse med samtykke efter § 46"},null,{"$f":"COUNTIFS(Hjælpeark!B$62:B$361,Hjælpeark!$A$58,Hjælpeark!P$62:P$361,1)","v":0},{"$f":"COUNTIFS(Hjælpeark!B$62:B$361,Hjælpeark!$A$59,Hjælpeark!P$62:P$361,1)","v":0},{"$f":"COUNTIFS(Hjælpeark!B$62:B$361,Hjælpeark!$A$60,Hjælpeark!P$62:P$361,1)","v":0}]
[{"$f":"'Skabelon, B&U'!B163","v":"Opfølgning - Opfølgning efter § 95"},null,{"$f":"COUNTIFS(Hjælpeark!B$62:B$361,Hjælpeark!$A$58,Hjælpeark!Q$62:Q$361,1)","v":0},{"$f":"COUNTIFS(Hjælpeark!B$62:B$361,Hjælpeark!$A$59,Hjælpeark!Q$62:Q$361,1)","v":0},{"$f":"COUNTIFS(Hjælpeark!B$62:B$361,Hjælpeark!$A$60,Hjælpeark!Q$62:Q$361,1)","v":0}]
[{"$f":"'Skabelon, B&U'!B193","v":"Opfølgning - Personrettet tilsyn ved anbringelse efter § 46"},null,{"$f":"COUNTIFS(Hjælpeark!B$62:B$361,Hjælpeark!$A$58,Hjælpeark!R$62:R$361,1)","v":0},{"$f":"COUNTIFS(Hjælpeark!B$62:B$361,Hjælpeark!$A$59,Hjælpeark!R$62:R$361,1)","v":0},{"$f":"COUNTIFS(Hjælpeark!B$62:B$361,Hjælpeark!$A$60,Hjælpeark!R$62:R$361,1)","v":0}]

{"sheet":"Skabelon, B&U","index":4,"n_rows":434,"n_cols":8,"rows_kept":434,"cut":false,"hidden":false,"merged":[[19,6,21,6],[224,6,247,6],[418,2,418,3],[211,1,211,2],[244,2,244,3],[258,2,258,3],[294,2,294,3],[350,2,350,3],[245,2,245,3],[259,2,259,3],[295,2,295,3],[228,1,228,3],[234,1,234,3],[239,1,239,3],[277,1,277,3],[282,1,282,3],[301,1,301,3],[305,1,305,3],[379,1,379,3],[390,1,390,3],[356,1,356,3],[362,1,362,3],[370,1,370,3],[387,1,387,3],[433,2,433,3],[421,1,421,3],[431,2,431,3],[417,2,417,3],[427,2,427,3],[428,2,428,3],[432,2,432,3],[430,1,430,3],[399,1,399,3],[406,1,406,3],[411,1,411,3],[130,1,130,3],[189,2,189,3],[190,2,190,3],[4,1,4,3],[5,1,5,3],[6,1,6,3],[7,1,7,3],[8,1,8,3],[22,1,22,3],[35,1,35,3],[12,2,12,3],[13,2,13,3],[14,2,14,3],[16,2,16,3],[18,2,18,3],[17,2,17,3],[15,2,15,3],[32,2,32,3],[33,2,33,3],[155,1,155,3],[164,1,164,3],[44,1,44,3],[159,2,159,3],[97,2,97,3],[216,4,216,6],[215,4,215,6],[213,4,213,6],[212,4,212,6],[331,1,331,3],[384,2,384,3],[383,2,383,3],[354,1,354,3],[225,1,225,3],[248,1,248,3],[262,1,262,3],[351,2,351,3],[42,2,42,3],[66,2,66,3],[210,1,210,6],[208,1,208,3],[339,1,339,3],[298,1,298,3],[218,1,218,2],[219,1,219,2],[220,3,220,6],[265,1,265,3],[272,1,272,3],[216,1,216,2],[212,1,212,2],[213,1,213,2],[214,1,214,2],[215,1,215,2],[312,1,312,3],[323,1,323,3],[219,4,219,6],[218,4,218,6],[217,4,217,6],[220,1,220,2],[211,4,211,6],[214,4,214,6],[128,2,128,3],[111,1,111,3],[198,2,198,3],[199,2,199,3],[217,1,217,2],[148,1,148,3],[203,2,203,3],[204,2,204,3],[41,2,41,3],[65,2,65,3],[96,2,96,3],[127,2,127,3],[207,1,207,3],[68,1,68,3],[99,1,99,3],[201,1,201,3],[202,2,202,3],[162,1,162,3],[192,1,192,3],[171,1,171,3],[118,1,118,3],[175,1,175,3],[160,2,160,3],[142,1,142,3]]}
[]
[]
[null,"Ledelsestilsyn"]
[]
[null,"Redskabet udfyldes først med de generelle sagsoplysninger, hvorefter det overordnede ledelsestilsyn udfyldes."]
[null,"På de sorte pile foldes spørgsmålene ud. "]
[null,"Ved nogle af spørgsmålene kan du trykke på det røde i-ikon, for en uddybende forklaring."]
[null,"For at besvare et spørgsmål trykkes der på besvarelsesfeltet, hvor en pil kommer frem og præsenterer svarmulighederne."]
[null,"Bemærkningsfeltet bruges til at skrive korte opmærksomhedspunkter, refleksioner eller andre overvejelser, som er relevante ved opsamlingen på ledelsestilsynet."]
[]
[null,{"$f":"\"Stamdata for ledelsestilsyn \"","v":"Stamdata for ledelsestilsyn "}]
[]
[null,"Dato for ledelsestilsynet \n(DD-MM-ÅÅÅÅ)"]
[null,"Hvem udfører ledelsestilsynet?"]
[null,"Team"]
[null,"Navn på børne- og ungerådgiver"]
[null,"Barnets/den unges CPR nummer"]
[null,"Sagstype","[Vælg \"Ny sag\" eller \"Opfølgningssag\" fra listen]"]
[]
[]
[null,"Det overordnede ledelsestilsyn"]
[]
[null,"Faglig udredning - Underretning efter kapitel 16"]
[null,"Spørgsmål","Besvarelse","Bemærkninger",null,null,null,{"$f":"MAX(H25:H31)","v":0}]
[null,"Er der foretaget en 24-timers vurdering i sagen?",null,null,null,null,null,{"$f":"IF(C25=\"ja\",1,(IF(C25=\"nej\",3,IF(C25=\"Fremgår ikke tydeligt af sagen\",2,\"\"))))","v":""}]
[null,"Er der talt med forældremyndig-hedsindehaver i forbindelse med underretningen?",null,null,null,null,null,{"$f":"IF(C26=\"ja\",1,(IF(C26=\"nej\",3,IF(C26=\"Fremgår ikke tydeligt af sagen\",2,\"\"))))","v":""}]
[null,"Er der talt med barnet eller den unge i forbindelse med underretningen?",null,null,null,null,null,{"$f":"IF(C27=\"ja\",1,(IF(C27=\"nej\",3,IF(C27=\"Fremgår ikke tydeligt af sagen\",2,\"\"))))","v":""}]
[null,"Hvis samtale med barnet eller den unge er undladt, er det da socialfagligt begrundet i journalen?",null,null,null,null,null,{"$f":"IF(C28=\"ja\",3,(IF(C28=\"nej\",1,IF(C28=\"Fremgår ikke tydeligt af sagen\",2,\"\"))))","v":""}]
[null,"Er der i sager, hvor der allerede er iværksat en indsats foretaget genvurdering af sagen af én eller flere personer, der ikke tidligere har deltaget i behandlingen af sagen?"]
[null,"Er faglig underretter orienteret om, hvorvidt der er iværksat en afdækning, børnefaglig undersøgelse eller støttende indsatser for det barn eller den unge, som underretningen vedrører?"]
[null,"Er faglig underretter orienteret om, hvilken type indsats, der er iværksat samt den planlagte varighed heraf, hvis oplysningen herom vil kunne have væsentlig betydning for den støtte, som faglig underretter under udøvelsen af hvervet eller tjeneste kan yde barnet eller den unge?",null,null,null,null,null,{"$f":"IF(C31=\"ja\",1,(IF(C31=\"nej\",3,IF(C31=\"Fremgår ikke tydeligt af sagen\",2,\"\"))))","v":""}]
[]
[null,{"$f":"\"Samlet vurdering af opmærksomhedsbehov\"","v":"Samlet vurdering af opmærksomhedsbehov"},null,null,null,null,null,{"$f":"IF(C33=\"Ingen opmærksomhed\",1,(IF(C33=\"særlig opmærksomhed\",3,IF(C33=\"let opmærksomhed\",2,\"\"))))","v":""}]
[null,"Bemærkninger til vurderingen"]
[]
[null,"Faglig udredning - Screening efter §18"]
[null,"Spørgsmål","Besvarelse","Bemærkninger",null,null,null,{"$f":"MAX(H38:H40)","v":0}]
[null,"Er der foretaget en screening?",null,null,null,null,null,{"$f":"IF(C38=\"ja\",1,(IF(C38=\"nej\",3,IF(C38=\"Fremgår ikke tydeligt af sagen\",2,\"\"))))","v":""}]
[null,"Er forældremyndighedsindehaveren orienteret om resultatet af screeningen?",null,null,null,null,null,""]
[null,"Er barnet eller den unge orienteret om resultatet af screeningen?",null,null,null,null,null,""]
[]
[null,{"$f":"\"Samlet vurdering af opmærksomhedsbehov\"","v":"Samlet vurdering af opmærksomhedsbehov"},null,null,null,null,null,{"$f":"IF(C42=\"Ingen opmærksomhed\",1,(IF(C42=\"særlig opmærksomhed\",3,IF(C42=\"let opmærksomhed\",2,\"\"))))","v":""}]
[null,"Bemærkninger til vurderingen"]
[]
[null,"Faglig udredning - Afdækning efter § 19"]
[null,"Spørgsmål","Besvarelse","Bemærkninger",null,null,null,{"$f":"MAX(H47:H64)","v":0}]
[null,"Er der truffet beslutning om, at der skal udarbejdes en afdækning?",null,null,null,null,null,{"$f":"IF(C47=\"ja\",\"\",(IF(C47=\"nej\",\"\",IF(C47=\"Fremgår ikke tydeligt af sagen\",2,\"\"))))","v":""}]
[null,"Er forældremyndighedsindeha-veren orienteret om, at det er besluttet, at der skal udarbejdes en afdækning?"]
[null,"Er barnet eller den unge oriente-ret om, at det er besluttet, at der skal udarbejdes en afdækning?"]
[null,"Er der truffet afgørelse om indsats sideløbende med afdækningen?",null,null,null,null,null,{"$f":"IF(C50=\"ja\",1,(IF(C50=\"nej\",3,IF(C50=\"Fremgår ikke tydeligt af sagen\",2,\"\"))))","v":""}]
[null,"Hvis der er truffet afgørelse om indsats sideløbende med udar-bejdelse af afdækningen, er der så talt med barnet eller den unge om denne?"]
[null,"Hvis der er truffet afgørelse om indsats sideløbende med udarbejdelse af afdækningen, er der så talt med forældremyndighedsindehaveren om denne?"]
[null,"Er der udarbejdet en afdækning?"]
[null,"Er barnet eller den unges holdning og synspunkter løbende tilvejebragt og inddraget gennem samtaler og anden direkte kontakt i forbindelse med afdækning? "]
[null,"Hvis kravet om samtale og anden direkte kontakt til barnet eller den unge i helt særlige tilfælde er helt eller delvis fraveget, er det så begrundet med en socialfaglig vurdering?"]
[null,"Hvis kravet om samtaler og anden direkte kontakt til barnet eller den unge i helt særlige tilfælde er helt eller delvis fraveget, er barnet eller den unges holdning og synspunkter så tilvejebragt og inddraget på anden vis? "]
[null,"Er afdækningen gennemført i et samarbejde med barnet eller den unge?"]
[null,"Inddrages barnets eller den unges holdning og synspunkter i afdækningen?"]
[null,"Er afdækningen gennemført i et samarbejde med forældremyndighedsindehaveren?"]
[null,"Har kommunen som led i afdækningen inddraget de fagfolk der allerede har viden om barnets/den unges eller familiens forhold? "]
[null,"Er der i forbindelse med afdækningen vurderet, om der skal foretages en afdækning af andre børn og unge i familien?"]
[null,"Indeholder afdækningen en socialfaglig vurdering af barnets eller den unges støttebehov?"]
[null,"Afspejles barnets eller den unges holdning og synspunkter i den socialfaglige vurdering, der ligger til grund for afgørelsen?"]
[null,"Peger afdækningen på den iværksatte indsats?",null,null,null,null,null,""]
[]
[null,{"$f":"\"Samlet vurdering af opmærksomhedsbehov\"","v":"Samlet vurdering af opmærksomhedsbehov"},null,null,null,null,null,{"$f":"IF(C66=\"Ingen opmærksomhed\",1,(IF(C66=\"særlig opmærksomhed\",3,IF(C66=\"let opmærksomhed\",2,\"\"))))","v":""}]
[null,"Bemærkninger til vurderingen"]
[]
[null,"Faglig udredning - Børnefaglig undersøgelse efter § 20"]
[null,"Spørgsmål","Besvarelse","Bemærkninger",null,null,null,{"$f":"MAX(H71:H95)","v":0}]
[null,"Er der truffet afgørelse om, at der skal udarbejdes en børnefag-lig undersøgelse?",null,null,null,null,null,{"$f":"IF(C71=\"ja\",1,(IF(C71=\"nej\",2,IF(C71=\"Fremgår ikke tydeligt af sagen\",2,\"\"))))","v":""}]
[null,"Er der talt med forældremyndighedsindehaveren om afgørelsen om at udarbejde en børnefaglig undersøgelse?  "]
[null,"Er der talt med barnet eller den unge om afgørelsen om at udarbejde en børnefaglig undersøgelse?"]
[null,"Er der truffet afgørelse om indsats sideløbende med den børnefaglige undersøgelse?"]
[null,"Hvis der er truffet afgørelse om indsats sideløbende med udarbejdelse af den børnefaglige undersøgelse, er denne så iværksat?"]
[null,"Hvis der er truffet afgørelse om indsats sideløbende med udarbejdelse af den børnefaglige undersøgelse, er der så talt med barnet eller den unge om denne?"]
[null,"Hvis der er truffet afgørelse om indsats sideløbende med udarbejdelse af den børnefaglige undersøgelse, er der så talt med forældremyndighedsindehaveren om denne?"]
[null,"Er den børnefaglige undersøgelse afsluttet seneste 4 måneder efter, at kommunen blev opmærksom på, at barnet eller den unge kan have behov for støtte?"]
[null,"Hvis nej til at fristen er overholdt, er der beskrevet en relevant årsag til, at fristen ikke er overholdt?"]
[null,"Hvis nej til at fristen er overholdt - er der så udarbejdet en foreløbig vurdering?"]
[null,"Er barnet eller den unges holdning og synspunkter løbende tilvejebragt og inddraget gennem samtaler og anden direkte kontakt i forbindelse med børnefaglig undersøgelse?"]
[null,"Hvis kravet om samtale og anden direkte kontakt til barnet eller den unge i helt særlige tilfælde er helt eller delvis fraveget, er det så begrundet med en socialfaglig vurdering?"]
[null,"Hvis kravet om samtaler og anden direkte kontakt til barnet eller den unge i helt særlige tilfælde er helt eller delvis fraveget, er barnet eller den unges holdning og synspunkter så tilvejebragt og inddraget på anden vis?"]
[null,"Har der deltaget to børne- og ungerådgivere under væsentlige møder i forbindelse med udarbejdelsen af den børnefaglig undersøgelse i de sager, hvor der ikke tidligere er iværksat støttende indsatser eller anbringelse?"]
[null,"Er den børnefaglige undersøgelse gennemført i et samarbejde med den unge over 15 år?"]
[null,"Er den børnefaglige undersøgelse gennemført i et samarbejde med forældremyndighedsindehaveren?"]
[null,"Har den børnefaglige undersøgelse afdækket udfordringer og ressourcer hos barnet, den unge, familien og netværket?"]
[null,"Er barnets eller den unges perspektiver inddraget i den børnefaglige undersøgelse?"]
[null,"Har kommunen som led i den børnefaglige undersøgelse inddraget de fagfolk, der allerede har viden om barnets/den unges eller familiens forhold?"]
[null,"Er der i forbindelse med børnefaglig undersøgelse foretaget en vurdering af, om der skal foretages en børnefaglig undersøgelse af andre børn og unge i familien?"]
[null,"Er der i den børnefaglige undersøgelse en begrundet stillingtagen til, om der er grundlag for at iværksætte støtte og i givet fald hvilken?"]
[null,"Afspejles barnets eller den unges holdning og synspunkter i den begrundede stillingtagen?"]
[null,"Indeholder den børnefaglige undersøgelse oplysninger om de forhold i familien eller i dennes omgivelser, som kan bidrage til at afhjælpe vanskelighederne?"]
[null,"Indeholder den børnefaglige undersøgelse oplysninger om, hvordan barnet eller den unge stiller sig til støtten?"]
[null,"Indeholder den børnefaglige undersøgelse oplysninger om, hvordan forældremyndighedsindehaver stiller sig til støtten?",null,null,null,null,null,{"$f":"IF(C95=\"ja\",1,(IF(C95=\"nej\",3,IF(C95=\"Fremgår ikke tydeligt af sagen\",2,\"\"))))","v":""}]
[]
[null,{"$f":"\"Samlet vurdering af opmærksomhedsbehov\"","v":"Samlet vurdering af opmærksomhedsbehov"},null,null,null,null,null,{"$f":"IF(C97=\"Ingen opmærksomhed\",1,(IF(C97=\"særlig opmærksomhed\",3,IF(C97=\"let opmærksomhed\",2,\"\"))))","v":""}]
[null,"Bemærkninger til vurderingen"]
[]
[null,"Valg af indsats - Støttende indsats efter § 32"]
[null,"Spørgsmål","Besvarelse","Bemærkninger",null,null,null,{"$f":"MAX(H102:H126)","v":0}]
[null,"Er der truffet afgørelse om støttende indsats efter § 32?",null,null,null,null,null,{"$f":"IF(C102=\"ja\",1,(IF(C102=\"nej\",3,IF(C102=\"Fremgår ikke tydeligt af sagen\",2,\"\"))))","v":""}]
[null,"Angives formålet og den forventede varighed i afgørelsen om en eller flere støttende indsatser?"]
[null,"Er barnets eller den unges holdning og synspunkter tilvejebragt og inddraget gennem samtaler og anden direkte kontakt inden afgørelsen om en støttende indsats?"]
[null,"Hvis kravet om samtale og anden direkte kontakt til barnet eller den unge i helt særlige tilfælde er helt eller delvis fraveget, er det så begrundet med en socialfaglig vurdering?"]
[null,"Hvis kravet om samtaler og anden direkte kontakt til barnet eller den unge i helt særlige tilfælde er helt eller delvis fraveget, er barnet eller den unges holdning og synspunkter så tilvejebragt og inddraget på anden vis?"]
[null,"Er der talt med forældremyndighedsindehaveren om afgørelsen om støttende indsats?"]
[null,"Er der talt med barnet eller den unge om afgørelsen om støttende indsats? "]
[null,"Er der valgt den eller de støttende indsatser, som bedst kan imødekomme barnets eller den unges særlige behov for støtte?"]
[null,"Er barnets eller den unges ret til indflydelse på de forhold, der vedrører dem sikret i forbindelse med valg af indsats?"]
[null,"Er den støttende indsats tilrettelagt med henblik på at understøtte barnets eller den unges skolegang?",null,null,null,null,null,""]
[null,"Barnets plan"]
[null,"Er der taget stilling til, om der skal udarbejdes en barnets plan, hvis barnet eller den unge er under 16 år?",null,null,null,null,null,""]
[null,"Afspejles barnets eller den unges perspektiver og ønsker i vurderingen af, om der skal udarbejdes en barnets plan?"]
[null,"Hvis det er besluttet, at der skal udarbejdes en barnets plan, er den så vidt muligt udarbejdet i samarbejde med barnet eller den unge?"]
[null,"Hvis det er besluttet, at der skal udarbejdes en barnets plan, er den så vidt muligt udarbejdet i samarbejde med forældremyndighedsindehaver?"]
[null,"Tager barnets plan udgangspunkt i den valgte indsats samt resultaterne af afdækningen eller den børnefaglig undersøgelse?"]
[null,"Er barnets plan afsluttet senest 3 måneder efter, der er truffet afgørelse om indsats jf. § 32, stk. 1?"]
[null,"Ungeplan"]
[null,"Er der taget stilling til, om der skal udarbejdes en ungeplan, hvis den unge er over 16 år?"]
[null,"Afspejles den unges perspektiver og ønsker i vurderingen af, om der skal udarbejdes en ungeplan?"]
[null,"Tages der i ungeplanen stilling til overgange til voksenlivet, herunder beskæftigelse og uddannelse?"]
[null,"Tager ungeplanen udgangspunkt i den unges ønsker og behov?"]
[null,"Er ungeplanen så vidt muligt udarbejdet i samarbejde med den unge?"]
[null,"Er ungeplanen så vidt muligt udarbejdet i samarbejde med forældrene?"]
[null,"Er ungeplanen afsluttet senest 3 måneder efter, der er truffet afgørelse om indsats jf. § 32, stk. 1?",null,null,null,null,null,""]
[]
[null,{"$f":"\"Tilsynsførers vurdering af: \"&B100","v":"Tilsynsførers vurdering af: Valg af indsats - Støttende indsats efter § 32"},null,null,null,null,null,{"$f":"IF(C128=\"Ingen opmærksomhed\",1,(IF(C128=\"særlig opmærksomhed\",3,IF(C128=\"let opmærksomhed\",2,\"\"))))","v":""}]
[null,"Bemærkninger til vurderingen"]
[]
[null,"Valg af indsats - Anbringelse med samtykke efter § 46"]
[null,"Spørgsmål","Besvarelse","Bemærkninger",null,null,null,{"$f":"MAX(H133:H158)","v":0}]
[null,"Er der udarbejdet en børnefaglig undersøgelse?",null,null,null,null,null,{"$f":"IF(C133=\"ja\",1,(IF(C133=\"nej\",3,IF(C133=\"Fremgår ikke tydeligt af sagen\",2,\"\"))))","v":""}]
[null,"Er der truffet afgørelse om anbringelse?"]
[null,"Angives formålet og den forventede varighed i afgørelsen om en anbringelse?"]
[null,"Har den unge over 15 år givet samtykke til formålet med anbringelsen?"]
[null,"Har forældremyndighedsindehaveren givet samtykke til formålet med anbringelsen?"]
[null,"Er barnet eller den unges holdning og synspunkter tilvejebragt og inddraget gennem samtaler og anden direkte kontakt inden afgørelse om anbringelse?"]
[null,"Hvis kravet om samtaler og anden direkte kontakt til barnet eller den unge er helt eller delvis fraveget, er barnet eller den unges holdning og synspunkter så tilvejebragt og inddraget på anden vis?"]
[null,"Hvis kravet om samtale og anden direkte kontakt til barnet eller den unge i helt særlige tilfælde er helt eller delvis fraveget, er det så begrundet med en socialfaglig vurdering?"]
[null,"Er der i afgørelsen om anbringelse taget hensyn til barnets eller den unges ret til indflydelse på de forhold, der vedrører dem?"]
[null,"Er der ved tilrettelæggelsen af anbringelsen taget højde for at understøtte barnets eller den unges skolegang?"]
[null,"Barnets plan"]
[null,"Er der udarbejdet en barnets plan senest 3 måneder efter, at der er truffet afgørelse om anbringelse?",null,null,null,null,null,{"$f":"IF(C144=\"ja\",1,(IF(C144=\"nej\",3,IF(C144=\"Fremgår ikke tydeligt af sagen\",2,\"\"))))","v":""}]
[null,"Tager barnets plan udgangspunkt i anbringelsen samt resultaterne af den børnefaglige undersøgelse?"]
[null,"Er barnets plan så vidt muligt udarbejdet i samarbejde med barnet?"]
[null,"Er barnets plan så vidt muligt udarbejdet i samarbejde forældremyndighedsindehaveren?"]
[null,"Afspejler barnets plan barnets ønsker og behov? "]
[null,"Ungeplan"]
[null,"Er der udarbejdet en ungeplan senest 3 måneder efter, at der er truffet afgørelse om anbringelse?"]
[null,"Tager ungeplanen udgangspunkt i den unges ønsker og behov? "]
[null,"Er ungeplanen så vidt muligt udarbejdet med samtykke fra den unge?"]
[null,"Er ungeplanen så vidt muligt udarbejdet med samtykke fra forældremyndighedsindehaveren?"]
[null,"Er der i ungeplanen taget stilling til overgange til voksenlivet, herunder beskæftigelse og uddannelse?"]
[null,"Er der i ungeplanen taget stilling til overgang til voksenliv senest et halvt år før den unge fylder 18 år?"]
[null,"Hjælp til forældre til anbragte børn eller unge"]
[null,"Er der truffet afgørelse om støtte til forældrene efter § 76 i barnets lov, eller efter anden lovgivning?"]
[null,"Er der udarbejdet en særskilt plan for støtten til forældrene efter § 75 eller § 76?",null,null,null,null,null,""]
[]
[null,{"$f":"\"Samlet vurdering af opmærksomhedsbehov\"","v":"Samlet vurdering af opmærksomhedsbehov"},null,null,null,null,null,{"$f":"IF(C160=\"Ingen opmærksomhed\",1,(IF(C160=\"særlig opmærksomhed\",3,IF(C160=\"let opmærksomhed\",2,\"\"))))","v":""}]
[null,"Bemærkninger til vurderingen"]
[]
[null,"Opfølgning - Opfølgning efter § 95"]
[null,"Spørgsmål","Besvarelse","Bemærkninger"]
[null,"Den første opfølgning"]
[null,"Er opfølgning afholdt første gang på det tidligste af følgende tidspunkter?\n\n1) Når afdækningen eller under-søgelsen, som er foretaget side-løbende med en støttende ind-sats efter § 32, stk. 4, eller en anbringelse efter § 46, efter §§ 19 eller 20 er afsluttet. \n\n2) 3 måneder efter iværksættelse af indsatsen."]
[null,"Er barnet eller den unges holdning og synspunkter tilvejebragt og inddraget gennem samtaler og anden direkte kontakt i forbindelse med opfølgningen?"]
[null,"Hvis kravet om samtale og anden direkte kontakt til barnet eller den unge i helt særlige tilfælde er helt eller delvis fraveget, er det så begrundet med en socialfaglig vurdering?"]
[null,"Hvis kravet om samtaler og anden direkte kontakt til barnet eller den unge i helt særlige tilfælde er helt eller delvis fraveget, er barnet eller den unges holdning og synspunkter så tilvejebragt og inddraget på anden vis?"]
[null,"Er barnets eller den unges holdning og synspunkter inddraget i opfølgningen?"]
[null,"Er forældrene inddraget i opfølgningen?"]
[null,"Tilrettelæggelse af den fremadrettede opfølgning"]
[null,"Er barnets eller den unges ønsker og behov inddraget i beslutningen om den fremadrettede tilrettelæggelse af opfølgningen?"]
[null,"Er beslutningen om den fremadrettede tilrettelæggelse begrundet over for barnet eller den unge?"]
[null,"Er beslutningen om den fremadrettede tilrettelæggelse begrundet over for forældrene?"]
[null,"Efterfølgende opfølgninger"]
[null,"Er der fulgt op i henhold til den planlagte tilrettelæggelse af opfølgning? "]
[null,"Hvis nej, er det begrundet i en socialfaglig vurdering?  "]
[null,"Er der i forbindelse med den løbende opfølgning vurderet om indsatsen skal justeres eller om der er behov for yderligere afdækning eller undersøgelse af barnets eller den unges behov jf. § 19 og § 20?"]
[null,"Er der foretaget en vurdering af, om der er behov for at udarbejde eller revidere barnets plan jf. § 91, ungeplanen jf. § 108 eller relevante dele af den helhedsorienteret plan jf. § 110?"]
[null,"Er der løbende taget stilling til tilrettelæggelsen af opfølgningen? "]
[null,"Er barnets eller den unges ønsker og behov inddraget i de løbende beslutningen?"]
[null,"Er de løbende beslutninger om tilrettelæggelse begrundet over for barnet eller den unge?"]
[null,"Er forældrene inddraget i de løbende beslutninger omkring tilrettelæggelsen?"]
[null,"Er de løbende beslutninger om tilrettelæggelse begrundet over for forældrene?"]
[null,"Er der ved iværksættelse af flere indsatser foretaget en samlet opfølgning? "]
[null,"Ved beslutning om revision af barnets plan eller ungeplanen er barnet, eller den unge da inddraget i beslutningen?"]
[null,"Ved beslutning om revision af barnets plan eller ungeplanen er forældrene da inddraget i beslutningen? "]
[]
[null,{"$f":"\"Samlet vurdering af opmærksomhedsbehov\"","v":"Samlet vurdering af opmærksomhedsbehov"},null,null,null,null,null,{"$f":"IF(C190=\"Ingen opmærksomhed\",1,(IF(C190=\"særlig opmærksomhed\",3,IF(C190=\"let opmærksomhed\",2,\"\"))))","v":""}]
[null,"Bemærkninger til vurderingen"]
[]
[null,"Opfølgning - Personrettet tilsyn ved anbringelse efter § 46"]
[null,"Spørgsmål","Besvarelse","Bemærkninger"]
[null,"Er der i forbindelse med den løbende opfølgning efter § 95 foretaget personrettet tilsyn med barnet eller den unge mindst to gange årligt på anbringelsesstedet?"]
[null,"Er samtalen i forbindelse med det personrettede tilsyn med barnet eller den unge så vidt muligt afholdt uden tilstedeværelse af ansatte fra anbringelsesstedet?"]
[null,"Har der i samtalen med barnet eller den unge i forbindelse med det personrettet tilsyn på anbringelsesstedet deltaget to børne- og ungerådgivere?"]
[]
[null,{"$f":"\"Samlet vurdering af opmærksomhedsbehov\"","v":"Samlet vurdering af opmærksomhedsbehov"},null,null,null,null,null,{"$f":"IF(C199=\"Ingen opmærksomhed\",1,(IF(C199=\"særlig opmærksomhed\",3,IF(C199=\"let opmærksomhed\",2,\"\"))))","v":""}]
[null,"Bemærkninger til vurderingen"]
[]
[null,"Opsamling på det overordnede ledelsestilsyn"]
[null,"Er der noter i bemærkningsfelterne, som giver anledning til en særlig opmærksomhed? Hvis ja, hvilke?"]
[null,"Konkrete bemærkninger til børne- og ungerådgiveren."]
[null,"Generelle overvejelser eller bemærkninger."]
[]
[]
[]
[null,"Opsamling på vurderinger og bemærkninger på det overordnede ledelsestilsyn"]
[]
[null,"På baggrund af det udfyldte overordnede ledelsestilsyn finder du en opsamling inden for de forskellige temaer."]
[null,"Temaer fra det overordnet ledelsestilsyn",null,"Vurdering","Bemærkninger til vurderingen af de enkelte temaer"]
[null,{"$f":"B23","v":"Faglig udredning - Underretning efter kapitel 16"},null,null,{"$f":"IF(C34=\"\",\"\",C34)","v":""}]
[null,{"$f":"B36","v":"Faglig udredning - Screening efter §18"},null,null,{"$f":"IF(C43=\"\",\"\",C43)","v":""}]
[null,{"$f":"B45","v":"Faglig udredning - Afdækning efter § 19"},null,null,{"$f":"IF(C67=\"\",\"\",C67)","v":""}]
[null,{"$f":"B69","v":"Faglig udredning - Børnefaglig undersøgelse efter § 20"},null,null,{"$f":"IF(C98=\"\",\"\",C98)","v":""}]
[null,{"$f":"B100","v":"Valg af indsats - Støttende indsats efter § 32"},null,null,{"$f":"IF(C129=\"\",\"\",C129)","v":""}]
[null,{"$f":"B131","v":"Valg af indsats - Anbringelse med samtykke efter § 46"},null,null,{"$f":"IF(C161=\"\",\"\",C161)","v":""}]
[null,{"$f":"B163","v":"Opfølgning - Opfølgning efter § 95"},null,null,{"$f":"IF(C191=\"\",\"\",C191)","v":""}]
[null,{"$f":"B193","v":"Opfølgning - Personrettet tilsyn ved anbringelse efter § 46"},null,null,{"$f":"IF(C200=\"\",\"\",C200)","v":""}]
[null,{"$f":"B202","v":"Opsamling på det overordnede ledelsestilsyn"},null,"[Evt. vurdering]"]
[]
[]
[null,"Det tematiserede ledelsestilsyn"]
[]
[null,"Faglig udredning - Underretning efter barnets lov kapitel 16"]
[null,"Spørgsmål","Besvarelse","Bemærkninger"]
[null,"I hvilken grad er der foretaget en socialfaglig vurdering af bekymringen i underretningen inden for 24 timer?"]
[null,"Inddragelse af barnet eller den unge"]
[null,"I hvilken grad er barnet eller den unge inddraget ved modtagelsen af underretningen?"]
[null,"I hvilken grad er barnet eller den unges perspektiver inddraget ved modtagelsen af underretningen, når det ikke er muligt at afholde en samtale?"]
[null,"I hvilken grad er barnet eller den unge orienteret om sine rettigheder?"]
[null,"I hvilken grad er barnet eller den unge orienteret om sagsprocessen?"]
[null,"I hvilken grad er barnet eller den unge blevet forberedt forud for samtalen om underretningen?"]
[null,"Inddragelse af forældremyndighedsindehaver"]
[null,"I hvilken grad er forældrene inddraget ved modtagelsen af underretningen?"]
[null,"I hvilken grad er forældrene blevet forberedt forud for samtalen om underretningen?"]
[null,"I hvilken grad er forældrene orienteret om deres rettigheder?"]
[null,"I hvilken grad er forældrene orienteret om sagsprocessen?"]
[null,"Rettidig behandling af underretning"]
[null,"I hvilken grad er der handlet hurtigt og i overensstemmelse med oplysningerne i underretningen?"]
[null,"I hvilken grad er der talt med barnet eller den unge om indholdet af underretningen tilpas hurtigt i forhold til bekymringsgraden?"]
[null,"I hvilken grad er der talt med forældrene om indholdet af underretningen tilpas hurtigt i forhold til bekymringsgraden?"]
[]
[null,{"$f":"\"Type af handling vi bør igangsætte\"","v":"Type af handling vi bør igangsætte"},null,null,null,null,null,{"$f":"IF(C245=\"Ingen opmærksomhed\",1,(IF(C245=\"individuel læring\",2,IF(C245=\"læring på grupppeniveau\",3,IF(C245=\"kompetenceudvikling\",4,IF(C245=\"ændrings af arbejdsgange\",5,IF(C245=\"se på politiske beslutninger\",6,\"\")))))))","v":""}]
[null,"Bemærkninger til vurderingen"]
[]
[]
[null,"Faglig udredning - Screening efter barnets lov § 18"]
[null,"Spørgsmål","Besvarelse","Bemærkninger"]
[null,"I hvilken grad er der foretaget en fyldestgørende screening af enten underretning, henvendelse, ansøgning eller lignende?"]
[null,"I hvilken grad fremgår barnets eller den unges perspektiver i screeningen?"]
[null,"I hvilken grad fremgår forældrenes perspektiver i screeningen?"]
[null,"I hvilken grad fremgår det, hvad der skal ske på baggrund af screeningen?"]
[null,"I hvilken grad vurderes det, at resultatet af screeningen modsvarer barnets eller den unges og familiens kendte problemstillinger?"]
[null,"I hvilken grad er der talt med barnet eller den unge om resultatet af screeningen?"]
[null,"I hvilken grad er der talt med forældrene om resultatet af udredningen af screeningen?"]
[]
[null,{"$f":"\"Type af handling vi bør igangsætte\"","v":"Type af handling vi bør igangsætte"},null,null,null,null,null,{"$f":"IF(C259=\"Ingen opmærksomhed\",1,(IF(C259=\"individuel læring\",2,IF(C259=\"læring på grupppeniveau\",3,IF(C259=\"kompetenceudvikling\",4,IF(C259=\"ændrings af arbejdsgange\",5,IF(C259=\"se på politiske beslutninger\",6,\"\")))))))","v":""}]
[null,"Bemærkninger til vurderingen"]
[]
[]
[null,"Faglig udredning - Afdækning efter barnets lov § 19"]
[null,"Spørgsmål","Besvarelse","Bemærkninger"]
[null,"I hvilken grad vurderes det med udgangspunkt i de kendte problemstillinger, at en afdækning er tilstrækkelig til at vurdere barnets eller den unges støttebehov?"]
[null,"Inddragelse af barnet eller den unge"]
[null,"I hvilken grad er der med udgangspunkt i barnets eller den unges individuelle forhold udvalgt fokuspunkter sammen med barnet eller den unge, der skal afdækkes nærmere?"]
[null,"I hvilken grad er afdækningen så vidt muligt gennemført i samarbejde med barnet eller den unge?"]
[null,"I hvilken grad er barnet eller den unges perspektiver inddraget, når det ikke er muligt at samarbejde om afdækningen?"]
[null,"I hvilken grad er barnet eller den unge orienteret om sine rettigheder?"]
[null,"I hvilken grad er barnet eller den unge orienteret om sagsprocessen?"]
[null,"I hvilken grad er barnet eller den unge blevet forberedt forud for samarbejdet om afdækningen?"]
[null,"Inddragelse af forældremyndighedsindehaver"]
[null,"I hvilken grad er afdækningen så vidt muligt gennemført i samarbejde med forældremyndighedsindehaveren?"]
[null,"I hvilken grad er forældrene blevet forberedt forud for samarbejdet om afdækningen?"]
[null,"I hvilken grad er forældrene orienteret om deres rettigheder?"]
[null,"I hvilken grad er forældrene orienteret om sagsprocessen?"]
[null,"Inddragelse af privat og professionelt netværk"]
[null,"I hvilken grad er det afdækket, om der er netværk i barnets eller den unges hverdagsliv, som er relevant at inddrage?"]
[null,"I hvilken grad er der inddraget viden om barnets eller den unges trivsel fra privat netværk (eksempelvis bedsteforældre, samlevende m.v.)?"]
[null,"I hvilken grad er det vurderet, hvordan barnets eller den unges og familiens private netværk evt. kan bidrage med støtte?"]
[null,"I hvilken grad er der indhentet relevant viden fra det professionelt netværk, som allerede har viden om barnet eller den unge og familien?"]
[null,"Selve afdækningen"]
[null,"I hvilken grad er der foretaget en relevant og tilstrækkelig afdækning?"]
[null,"I hvilken grad er der udarbejdet en relevant socialfaglig vurdering, hvor der fremgår en beskrivelse af og begrundelse for barnets, den unges eller familiens støttebehov?"]
[null,"I hvilken grad fremgår barnets eller den unges ønsker og perspektiver i afdækningen?"]
[null,"I hvilken grad fremgår forældrenes ønsker og perspektiver i afdækningen?"]
[null,"I hvilken grad er barnet eller den unge orienteret om resultatet af afdækningen?"]
[null,"I hvilken grad fremgår barnets eller den unges holdning og synspunkter til mulige indsatser?"]
[null,"I hvilken grad er barnets eller den unges holdning og synspunkter til mulige indsatser tillagt vægt?"]
[null,"I hvilken grad er forældremyndighedsindehaveren orienteret om resultatet af afdækningen?"]
[null,"I hvilken grad fremgår forældrenes holdning og synspunkter til mulige indsatser?"]
[null,"I hvilken grad er forældrenes holdning og synspunkter til mulige indsatser tillagt vægt?"]
[]
[null,{"$f":"\"Type af handling vi bør igangsætte\"","v":"Type af handling vi bør igangsætte"},null,null,null,null,null,{"$f":"IF(C295=\"Ingen opmærksomhed\",1,(IF(C295=\"individuel læring\",2,IF(C295=\"læring på grupppeniveau\",3,IF(C295=\"kompetenceudvikling\",4,IF(C295=\"ændrings af arbejdsgange\",5,IF(C295=\"se på politiske beslutninger\",6,\"\")))))))","v":""}]
[null,"Bemærkninger til vurderingen"]
[]
[]
[null,"Faglig udredning - Børnefaglig undersøgelse efter barnets lov § 20"]
[null,"Spørgsmål","Besvarelse","Bemærkninger"]
[null,"I hvilken grad vurderes det, med udgangspunkt i de kendte problemstillinger, at en børnefaglig undersøgelse er det rette til at vurdere barnets eller den unges støttebehov?"]
[null,"Fokusering af undersøgelsen"]
[null,"I hvilken grad fremgår baggrunden for den børnefaglige undersøgelse?"]
[null,"I hvilken grad fremgår det, hvad den børnefaglige undersøgelse skal fokusere på?"]
[null,"I hvilken grad bruges fokuseringen til at præcisere, hvilken viden der skal indhentes for at undersøge problemstillingen?"]
[null,"Inddragelse af barnet eller den unge"]
[null,"I hvilken grad er den børnefaglige undersøgelse så vidt muligt gennemført i samarbejde med barnet eller den unge?"]
[null,"I hvilken grad er barnets eller den unges perspektiver inddraget, når det ikke er muligt at samarbejde om den børnefaglige undersøgelse?"]
[null,"I hvilken grad er barnet eller den unge orienteret om sine rettigheder?"]
[null,"I hvilken grad er barnet eller den unge orienteret om sagsprocessen?"]
[null,"I hvilken grad er barnet eller den unge blevet forberedt forud for samarbejdet om den børnefaglige undersøgelse?"]
[null,"I hvilken grad er viden og perspektiver fra barnet eller den unge anvendt i undersøgelsen, herunder analysen og i den socialfaglige vurdering?"]
[null,"Inddragelse af forældrene"]
[null,"I hvilken grad den børnefaglige undersøgelse så vidt muligt gennemført i samarbejde med forældremyndighedsindehaveren?"]
[null,"I hvilken grad er der talt med forældrene om deres forståelse af barnet eller den unge og familie?"]
[null,"I hvilken grad er der talt med forældrene om, hvordan de støtter og stimulerer barnet eller den unge i hverdagen?"]
[null,"I hvilken grad er der talt med forældrene om deres familieforhold og baggrund? (hvis dette er relevant jf. fokusering)"]
[null,"I hvilken grad er der talt med forældrene om bolig, beskæftigelse og økonomi? \n(hvis dette er relevant jf. fokusering)"]
[null,"I hvilken grad er der talt med forældrene om deres netværk, og om netværket kan være en støtte for familien?"]
[null,"I hvilken grad er viden og perspektiver fra forældrene anvendt i undersøgelsen, herunder i analysen og i den socialfaglige vurdering?"]
[null,"I hvilken grad er forældrene blevet forberedt forud for samarbejdet om den børnefaglige undersøgelse?"]
[null,"I hvilken grad er forældrene orienteret om deres rettigheder?"]
[null,"I hvilken grad er forældrene orienteret om sagsprocessen?"]
[null,"Inddragelse af netværk i den børnefaglige undersøgelse"]
[null,"I hvilken grad er viden og perspektiver fra relevante personer i barnets eller den unges og forældrenes private netværk anvendt i den børnefaglige undersøgelse?"]
[null,"I hvilken grad er det vurderet, hvordan barnets eller den unges og familiens private netværk eventuelt kan bidrage med støtte?"]
[null,"I hvilken grad er det afdækket om der er et professionelt netværk i barnets eller den unges hverdagsliv, som er relevant at inddrage?"]
[null,"I hvilken grad er der indhentet relevant viden fra det professionelt netværk, som allerede har viden om barnet eller den unge og familien?"]
[null,"I hvilken grad er viden og perspektiver fra relevante personer i barnets eller den unges og forældrenes professionelle netværk anvendt i den børnefaglige undersøgelse? "]
[null,"I hvilken grad har det professionelle netværk været med til at pege på, hvordan de kan støtte barnet eller den unge, eventuelt allerede i undersøgelsesfasen?"]
[null,"I hvilken grad er der indhentet relevant specialiseret viden for at forstå problemstillingen – eksempelvis Børnehusene, SIRI, psykiatrien, jobcenter, VISO?"]
[null,"Beskrivelse af barnets, den unges og familiens ressourcer og udfordringer"]
[null,"I hvilken grad er der taget stilling til barnets eller den unges udvikling og adfærd?"]
[null,"I hvilken grad er der taget stilling til barnets elle den unges sundhedsforhold?"]
[null,"I hvilken grad er der taget stilling til barnets eller den unges fritidsforhold og venskaber?"]
[null,"I hvilken grad er der taget stilling til barnets eller den unges dagtilbud, skoleforhold, beskæftigelse og læring?"]
[null,"I hvilken grad er der taget stilling til, hvordan forældrene skaber et trygt omsorgsmiljø?"]
[null,"I hvilken grad fremgår det, hvordan forældrene stimulerer og vejleder barnet eller den unge relevant?"]
[null,"I hvilken grad er der taget stilling til, hvordan forældrene understøtter barnets eller den unges sociale relationer?"]
[null,"Analyse og socialfaglig vurdering"]
[null,"I hvilken grad giver den børnefaglige undersøgelse samlet set et dækkende billede af barnets eller den unges og familiens aktuelle situation?"]
[null,"I hvilken grad er der udarbejdet en relevant socialfaglig analyse, hvor udfordringer og ressourcer og deres sammenhæng er belyst og sat i forhold til barnets eller den unges behov? "]
[null,"I hvilken grad er der udarbejdet en relevant socialfaglig vurdering, hvor der fremgår en beskrivelse af og begrundelse for, hvilken støtte der vil være egnet til at imødekomme støttebehovet hos barnet eller den unge og i familien?"]
[null,"I hvilken grad er barnet eller den unge orienteret om resultatet af den børnefaglige undersøgelse?"]
[null,"I hvilken grad fremgår barnets eller den unges holdning og synspunkter til mulige indsatser eller anbringelse?"]
[null,"I hvilken grad er barnets eller den unges holdning og synspunkter til mulige indsatser eller anbringelse tillagt vægt?"]
[null,"I hvilken grad er forældrene orienteret om resultatet af den børnefaglige undersøgelse?"]
[null,"I hvilken grad fremgår forældrenes holdning og synspunkter til mulige indsatser eller anbringelse?"]
[null,"I hvilken grad er forældrenes holdning og synspunkter til mulige indsatser tillagt vægt?"]
[]
[null,{"$f":"\"Type af handling vi bør igangsætte\"","v":"Type af handling vi bør igangsætte"},null,null,null,null,null,{"$f":"IF(C351=\"Ingen opmærksomhed\",1,(IF(C351=\"individuel læring\",2,IF(C351=\"læring på grupppeniveau\",3,IF(C351=\"kompetenceudvikling\",4,IF(C351=\"ændrings af arbejdsgange\",5,IF(C351=\"se på politiske beslutninger\",6,\"\")))))))","v":""}]
[null,"Bemærkninger til vurderingen"]
[]
[]
[null,"Valg af indsats - Støttende indsats efter barnets lov § 32 og anbringelse efter barnets lov § 46"]
[null,"Spørgsmål","Besvarelse","Bemærkninger"]
[null,"Før afgørelse"]
[null,"I hvilken grad er barnets eller den unges holdning og synspunkter til mulige indsatser eller anbringelse inddraget forud for afgørelse?"]
[null,"I hvilken grad er barnets eller den unges holdning og synspunkter til mulige indsatser eller anbringelse tillagt vægt før afgørelse?"]
[null,"I hvilken grad fremgår forældrenes holdning og synspunkter til mulige indsatser eller anbringelse?"]
[null,"I hvilken grad er forældrenes holdning og synspunkter til mulige indsatser eller anbringelse tillagt vægt før afgørelse?"]
[null,"I hvilken grad er der valgt støttende indsatser eller anbringelse, der bedst kan imødekomme barnets eller den unges særlige behov for støtte?"]
[null,"Formål med den valgte indsats eller anbringelse"]
[null,"I hvilken grad er barnet eller den unge inddraget i formulering af det overordnede formål med indsatsen eller anbringelsen? "]
[null,"I hvilken grad er forældrene inddraget i formulering af det overordnede formål med indsatsen eller anbringelsen?"]
[null,"I hvilken grad er indsatsen eller anbringelse tilrettelagt med henblik på at sikre barnets eller den unges muligheder for personlig udvikling og opbygning af kompetencer?"]
[null,"I hvilken grad er indsatsen eller anbringelsen tilrettelagt med henblik på at fremme barnets eller den unges sundhed og trivsel?"]
[null,"I hvilken grad er indsatsen eller anbringelsen tilrettelagt med henblik på at understøtte barnets eller den unges skolegang og mulighed for at gennemføre en uddannelse? "]
[null,"I hvilken grad er indsatsen eller anbringelsen tilrettelagt med henblik at sikre kontinuitet i opvæksten og et trygt omsorgsmiljø, der tilbyder nære og stabile relationer til voksne, herunder ved at understøtte barnets eller den unges familiemæssige relationer og øvrige netværk?"]
[null,"I hvilken grad fremgår det, hvem der har ansvar for de konkrete tiltag og indsatser?"]
[null,"Barnets plan eller ungeplanen"]
[null,"I hvilken grad er der en relevant vurdering af, om der skal udarbejdes en barnets plan eller ungeplan?"]
[null,"I hvilken grad indeholder og understøtte barnets plan eller ungeplanen konkrete mål for barnets eller den unges trivsel og udvikling i overensstemmelse med det overordnede formål med indsatsen eller anbringelsen?"]
[null,"I hvilken grad indeholder og understøtter ungeplanen konkrete mål i forhold til den unges uddannelse eller beskæftigelse?"]
[null,"I hvilken grad indeholder og understøtter ungeplanen konkrete mål i forhold til den unges overgang til voksenlivet?"]
[null,"I hvilken grad er barnets plan eller ungeplanen udarbejdet med barnet eller den unge? "]
[null,"I hvilken grad er barnets plan eller ungeplanen udarbejdet sammen med forældrene?"]
[null,"I hvilken grad afspejler målene barnets eller den unges egne ønsker og drømme i forhold til at sikre en positiv trivsel og udvikling?"]
[null,"I hvilken grad er målene i barnets plan eller i ungeplanen konkrete og mulige at følge op på?"]
[null,"Inddragelse af privat og professionelt netværk"]
[null,"I hvilken grad er barnets, den unges og familiens private netværk inddraget i at støtte op om barnet eller den unge og familien?"]
[null,"I hvilken grad er barnets, den unges og familiens professionelle netværk inddraget i at støtte op om barnet eller den unge og familien?"]
[]
[null,{"$f":"\"Type af handling vi bør igangsætte\"","v":"Type af handling vi bør igangsætte"},null,null,null,null,null,{"$f":"IF(C384=\"Ingen opmærksomhed\",1,(IF(C384=\"individuel læring\",2,IF(C384=\"læring på grupppeniveau\",3,IF(C384=\"kompetenceudvikling\",4,IF(C384=\"ændrings af arbejdsgange\",5,IF(C384=\"se på politiske beslutninger\",6,\"\")))))))","v":""}]
[null,"Bemærkninger til vurderingen"]
[]
[]
[null,"Opfølgning - Opfølgning efter barnets lov § 95"]
[null,"Spørgsmål","Besvarelse","Bemærkninger"]
[null,"I hvilken grad er der på baggrund af opfølgningen foretaget en socialfaglig vurdering?"]
[null,"Inddragelse af barnet eller den unge"]
[null,"I hvilken grad, er barnet eller den unge inddraget i opfølgning på støttende indsatser eller anbringelse og eventuelle mål i barnets plan eller i ungeplanen?"]
[null,"I hvilken grad er barnet eller den unges perspektiver inddraget i opfølgningen, når det ikke er muligt at afholde en samtale?"]
[null,"I hvilken grad er barnets eller den unges holdning og synspunkter tillagt vægt i opfølgningen?"]
[null,"I hvilken grad er barnet eller den unge orienteret om sine rettigheder?"]
[null,"I hvilken grad er barnet eller den unge orienteret om sagsprocessen?"]
[null,"I hvilken grad er barnet eller den unge blevet forberedt forud for samtalen om opfølgning?"]
[null,"I hvilken grad er barnet eller den unge orienteret om resultatet af opfølgningen?"]
[null,"I hvilken grad er sagsbehandlingen i forbindelse med opfølgningen tilrettelagt, så barnet eller den unge har mulighed for at medvirke aktivt i forløbet på lige fod med forældrene?"]
[null,"Inddragelse af forældrene i forbindelse med opfølgning"]
[null,"I hvilken grad er forældrene inddraget i opfølgningen på indsats eller anbringelse og eventuelle mål i barnets plan eller ungeplanen?"]
[null,"I hvilken grad er forældrene orienteret om resultatet af opfølgningen?"]
[null,"I hvilken grad er forældrenes holdning og synspunkter tillagt vægt?"]
[null,"I hvilken grad er forældrene blevet forberedt forud for opfølgningen?"]
[null,"I hvilken grad er forældrene orienteret om deres rettigheder?"]
[null,"I hvilken grad er forældrene orienteret om sagsprocessen?"]
[null,"Inddragelse af privat og professionelt netværk i forbindelse med opfølgning"]
[null,"I hvilken grad er dem, der har ansvaret for de støttende indsatser eller anbringelsen inddraget i opfølgningen?"]
[null,"I hvilken grad er der, i forbindelse med opfølgningen, talt med personer i det private og professionelle netværk, der har ansvaret for eventuelle andre tiltag i forbindelse med opfølgningerne?"]
[null,"I hvilken grad er det professionelle netværk i barnets eller den unges hverdagsliv inddraget i opfølgningen?"]
[null,"I hvilken grad er barnets eller den unges eller families netværk inddraget i opfølgningen?"]
[null,"Tilrettelæggelse af opfølgning på indsatsen"]
[null,"I hvilken grad er der løbende taget stilling til tilrettelæggelsen af opfølgningen"]
[null,"I hvilken grad har barnet eller den unge haft indflydelse på tilrettelæggelsen af opfølgningen?"]
[null,"I hvilken grad har forældrene haft indflydelse på tilrettelæggelsen af opfølgningen?"]
[null,"I hvilken grad afspejler beslutningen om tilrettelæggelse af opfølgning forholdene i den konkrete sag?"]
[]
[null,{"$f":"\"Type af handling vi bør igangsætte\"","v":"Type af handling vi bør igangsætte"},null,null,null,null,null,{"$f":"IF(C418=\"Ingen opmærksomhed\",1,(IF(C418=\"individuel læring\",2,IF(C418=\"læring på grupppeniveau\",3,IF(C418=\"kompetenceudvikling\",4,IF(C418=\"ændrings af arbejdsgange\",5,IF(C418=\"se på politiske beslutninger\",6,\"\")))))))","v":""}]
[null,"Bemærkninger til vurderingen"]
[]
[]
[null,"Gennem hele sagen - Intentionerne med barnets lov"]
[null,"Spørgsmål","Besvarelse","Bemærkninger"]
[null,"I hvilken grad ses det på tværs af sagen, at barnet eller den unge er inddraget løbende, herunder om barnets eller den unges perspektiver, ressourcer og behov er afdækket og fremstår styrende for sagsbehandlingen og den iværksatte støtte?"]
[null,"I hvilken grad er hjælp og støtte tilrettelagt ud fra en konkret og individuel vurdering af det enkelte barns eller den enkelte unges og families behov, forhold og forudsætninger? "]
[null,"I hvilken grad har barnet eller den unge og familien modtaget den rette hjælp og støtte på det rette tidspunkt?"]
[]
[null,{"$f":"\"Type af handling vi bør igangsætte\"","v":"Type af handling vi bør igangsætte"},null,null,null,null,null,{"$f":"IF(C428=\"Ingen opmærksomhed\",1,(IF(C428=\"individuel læring\",2,IF(C428=\"læring på grupppeniveau\",3,IF(C428=\"kompetenceudvikling\",4,IF(C428=\"ændrings af arbejdsgange\",5,IF(C428=\"se på politiske beslutninger\",6,\"\")))))))","v":""}]
[null,"Bemærkninger til vurderingen"]
[]
[null,"Opsamling på det tematiserede ledelsestilsyn"]
[null,"Er der noter i bemærkningsfelterne, som giver anledning til særlig opmærksomhed? Hvis ja, hvilke?"]
[null,"Konkrete bemærkninger til børne- og ungerådgiveren."]
[null,"Generelle overvejelser eller bemærkninger."]

{"sheet":"Hjælpeark","index":5,"n_rows":365,"n_cols":38,"rows_kept":365,"cut":false,"hidden":false,"merged":[[59,10,59,18],[59,31,59,37]]}
[]
[]
[]
[]
[]
[]
[]
[]
[]
[]
[]
[]
[]
[]
[]
[]
[]
[]
[]
[]
[]
[]
[]
[]
[]
[]
[]
[]
[]
[]
[]
[]
[]
[]
[]
[]
[]
[]
[]
[]
[]
[]
[]
[]
[]
[]
[]
[]
[]
[]
[]
[]
[]
[]
[]
[]
[]
["Status:  grøn"]
["Status:  gul"]
["Status:  rød",null,null,null,null,null,null,null,null,null,"Børn og Unge (B&U)",null,null,null,null,null,null,null,null,null,null,null,null,null,null,null,null,null,null,null,null,"Børn og Unge (B&U)"]
[null,null,null,null,null,null,null,null,null,null,{"$f":"'Skabelon, B&U'!B23","v":"Faglig udredning - Underretning efter kapitel 16"},{"$f":"'Skabelon, B&U'!B36","v":"Faglig udredning - Screening efter §18"},{"$f":"'Skabelon, B&U'!B45","v":"Faglig udredning - Afdækning efter § 19"},{"$f":"'Skabelon, B&U'!B69","v":"Faglig udredning - Børnefaglig undersøgelse efter § 20"},{"$f":"'Skabelon, B&U'!B100","v":"Valg af indsats - Støttende indsats efter § 32"},{"$f":"'Skabelon, B&U'!B131","v":"Valg af indsats - Anbringelse med samtykke efter § 46"},{"$f":"'Skabelon, B&U'!B163","v":"Opfølgning - Opfølgning efter § 95"},{"$f":"'Skabelon, B&U'!B193","v":"Opfølgning - Personrettet tilsyn ved anbringelse efter § 46"},{"$f":"'Skabelon, B&U'!B202","v":"Opsamling på det overordnede ledelsestilsyn"},null,null,null,null,null,null,null,null,null,null,null,null,{"$f":"'Skabelon, B&U'!B226","v":"Faglig udredning - Underretning efter barnets lov kapitel 16"},{"$f":"'Skabelon, B&U'!B249","v":"Faglig udredning - Screening efter barnets lov § 18"},{"$f":"'Skabelon, B&U'!B263","v":"Faglig udredning - Afdækning efter barnets lov § 19"},{"$f":"'Skabelon, B&U'!B299","v":"Faglig udredning - Børnefaglig undersøgelse efter barnets lov § 20"},{"$f":"'Skabelon, B&U'!B355","v":"Valg af indsats - Støttende indsats efter barnets lov § 32 og anbringelse efter barnets lov § 46"},{"$f":"'Skabelon, B&U'!B388","v":"Opfølgning - Opfølgning efter barnets lov § 95"},{"$f":"'Skabelon, B&U'!B422","v":"Gennem hele sagen - Intentionerne med barnets lov"}]
["Tilsyn 1","Status:  grøn",null,null,null,null,null,null,null,null,{"$f":"COUNTIF(IF(ISERROR(INDIRECT(\"'B&U_\"&A62&\"'!$H$33\",TRUE)),\"\",INDIRECT(\"'B&U_\"&A62&\"'!$H$33\",TRUE)),1)","v":{"$error":"#VALUE!"}},{"$f":"COUNTIF(IF(ISERROR(INDIRECT(\"'B&U_\"&A62&\"'!$h$42\",TRUE)),\"\",INDIRECT(\"'B&U_\"&A62&\"'!$h$42\",TRUE)),1)","v":{"$error":"#VALUE!"}},{"$f":"COUNTIF(IF(ISERROR(INDIRECT(\"'B&U_\"&A62&\"'!$H$66\",TRUE)),\"\",INDIRECT(\"'B&U_\"&A62&\"'!$H$66\",TRUE)),1)","v":{"$error":"#VALUE!"}},{"$f":"COUNTIF(IF(ISERROR(INDIRECT(\"'B&U_\"&A62&\"'!$H$97\",TRUE)),\"\",INDIRECT(\"'B&U_\"&A62&\"'!$H$97\",TRUE)),1)","v":{"$error":"#VALUE!"}},{"$f":"COUNTIF(IF(ISERROR(INDIRECT(\"'B&U_\"&A62&\"'!$H$128\",TRUE)),\"\",INDIRECT(\"'B&U_\"&A62&\"'!$H$128\",TRUE)),1)","v":{"$error":"#VALUE!"}},{"$f":"COUNTIF(IF(ISERROR(INDIRECT(\"'B&U_\"&A62&\"'!$H$160\",TRUE)),\"\",INDIRECT(\"'B&U_\"&A62&\"'!$H$160\",TRUE)),1)","v":{"$error":"#VALUE!"}},{"$f":"COUNTIF(IF(ISERROR(INDIRECT(\"'B&U_\"&A62&\"'!$H$190\",TRUE)),\"\",INDIRECT(\"'B&U_\"&A62&\"'!$H$190\",TRUE)),1)","v":{"$error":"#VALUE!"}},{"$f":"COUNTIF(IF(ISERROR(INDIRECT(\"'B&U_\"&A62&\"'!$H$199\",TRUE)),\"\",INDIRECT(\"'B&U_\"&A62&\"'!$H$199\",TRUE)),1)","v":{"$error":"#VALUE!"}},null,null,"Tilsyn 1",null,null,null,null,null,null,null,null,null,null,{"$f":"IF(INDIRECT(\"'B&U_\"&U62&\"'!$c$245\")=\"\",\"\",IFERROR(INDIRECT(\"'B&U_\"&U62&\"'!$c$245\",TRUE),\"\"))","v":{"$error":"#REF!"}},{"$f":"IF(INDIRECT(\"'B&U_\"&U62&\"'!$c$259\")=\"\",\"\",IFERROR(INDIRECT(\"'B&U_\"&U62&\"'!$c$259\",TRUE),\"\"))","v":{"$error":"#REF!"}},{"$f":"IF(INDIRECT(\"'B&U_\"&U62&\"'!$c$295\")=\"\",\"\",IFERROR(INDIRECT(\"'B&U_\"&U62&\"'!$c$295\",TRUE),\"\"))","v":{"$error":"#REF!"}},{"$f":"IF(INDIRECT(\"'B&U_\"&U62&\"'!$c$351\")=\"\",\"\",IFERROR(INDIRECT(\"'B&U_\"&U62&\"'!$c$351\",TRUE),\"\"))","v":{"$error":"#REF!"}},{"$f":"IF(INDIRECT(\"'B&U_\"&U62&\"'!$c$384\")=\"\",\"\",IFERROR(INDIRECT(\"'B&U_\"&U62&\"'!$c$384\",TRUE),\"\"))","v":{"$error":"#REF!"}},{"$f":"IF(INDIRECT(\"'B&U_\"&U62&\"'!$c$418\")=\"\",\"\",IFERROR(INDIRECT(\"'B&U_\"&U62&\"'!$c$418\",TRUE),\"\"))","v":{"$error":"#REF!"}},{"$f":"IF(INDIRECT(\"'B&U_\"&U62&\"'!$c$428\")=\"\",\"\",IFERROR(INDIRECT(\"'B&U_\"&U62&\"'!$c$428\",TRUE),\"\"))","v":{"$error":"#REF!"}}]
["Tilsyn 1","Status:  gul",null,null,null,null,null,null,null,null,{"$f":"COUNTIF(IF(ISERROR(INDIRECT(\"'B&U_\"&A63&\"'!$H$33\",TRUE)),\"\",INDIRECT(\"'B&U_\"&A63&\"'!$H$33\",TRUE)),2)","v":{"$error":"#VALUE!"}},{"$f":"COUNTIF(IF(ISERROR(INDIRECT(\"'B&U_\"&A63&\"'!$h$42\",TRUE)),\"\",INDIRECT(\"'B&U_\"&A63&\"'!$h$42\",TRUE)),2)","v":{"$error":"#VALUE!"}},{"$f":"COUNTIF(IF(ISERROR(INDIRECT(\"'B&U_\"&A63&\"'!$H$66\",TRUE)),\"\",INDIRECT(\"'B&U_\"&A63&\"'!$H$66\",TRUE)),2)","v":{"$error":"#VALUE!"}},{"$f":"COUNTIF(IF(ISERROR(INDIRECT(\"'B&U_\"&A63&\"'!$H$97\",TRUE)),\"\",INDIRECT(\"'B&U_\"&A63&\"'!$H$97\",TRUE)),2)","v":{"$error":"#VALUE!"}},{"$f":"COUNTIF(IF(ISERROR(INDIRECT(\"'B&U_\"&A63&\"'!$H$128\",TRUE)),\"\",INDIRECT(\"'B&U_\"&A63&\"'!$H$128\",TRUE)),2)","v":{"$error":"#VALUE!"}},{"$f":"COUNTIF(IF(ISERROR(INDIRECT(\"'B&U_\"&A63&\"'!$H$160\",TRUE)),\"\",INDIRECT(\"'B&U_\"&A63&\"'!$H$160\",TRUE)),2)","v":{"$error":"#VALUE!"}},{"$f":"COUNTIF(IF(ISERROR(INDIRECT(\"'B&U_\"&A63&\"'!$H$190\",TRUE)),\"\",INDIRECT(\"'B&U_\"&A63&\"'!$H$190\",TRUE)),2)","v":{"$error":"#VALUE!"}},{"$f":"COUNTIF(IF(ISERROR(INDIRECT(\"'B&U_\"&A63&\"'!$H$199\",TRUE)),\"\",INDIRECT(\"'B&U_\"&A63&\"'!$H$199\",TRUE)),2)","v":{"$error":"#VALUE!"}},null,null,"Tilsyn 2",null,null,null,null,null,null,null,null,null,null,{"$error":"#REF!"},{"$error":"#REF!"},{"$error":"#REF!"},{"$error":"#REF!"},{"$error":"#REF!"},{"$error":"#REF!"},{"$error":"#REF!"}]
["Tilsyn 1","Status:  rød",null,null,null,null,null,null,null,null,{"$f":"COUNTIF(IF(ISERROR(INDIRECT(\"'B&U_\"&A64&\"'!$H$33\",TRUE)),\"\",INDIRECT(\"'B&U_\"&A64&\"'!$H$33\",TRUE)),3)","v":{"$error":"#VALUE!"}},{"$f":"COUNTIF(IF(ISERROR(INDIRECT(\"'B&U_\"&A64&\"'!$h$42\",TRUE)),\"\",INDIRECT(\"'B&U_\"&A64&\"'!$h$42\",TRUE)),3)","v":{"$error":"#VALUE!"}},{"$f":"COUNTIF(IF(ISERROR(INDIRECT(\"'B&U_\"&A64&\"'!$H$66\",TRUE)),\"\",INDIRECT(\"'B&U_\"&A64&\"'!$H$66\",TRUE)),3)","v":{"$error":"#VALUE!"}},{"$f":"COUNTIF(IF(ISERROR(INDIRECT(\"'B&U_\"&A64&\"'!$H$97\",TRUE)),\"\",INDIRECT(\"'B&U_\"&A64&\"'!$H$97\",TRUE)),3)","v":{"$error":"#VALUE!"}},{"$f":"COUNTIF(IF(ISERROR(INDIRECT(\"'B&U_\"&A64&\"'!$H$128\",TRUE)),\"\",INDIRECT(\"'B&U_\"&A64&\"'!$H$128\",TRUE)),3)","v":{"$error":"#VALUE!"}},{"$f":"COUNTIF(IF(ISERROR(INDIRECT(\"'B&U_\"&A64&\"'!$H$160\",TRUE)),\"\",INDIRECT(\"'B&U_\"&A64&\"'!$H$160\",TRUE)),3)","v":{"$error":"#VALUE!"}},{"$f":"COUNTIF(IF(ISERROR(INDIRECT(\"'B&U_\"&A64&\"'!$H$190\",TRUE)),\"\",INDIRECT(\"'B&U_\"&A64&\"'!$H$190\",TRUE)),3)","v":{"$error":"#VALUE!"}},{"$f":"COUNTIF(IF(ISERROR(INDIRECT(\"'B&U_\"&A64&\"'!$H$199\",TRUE)),\"\",INDIRECT(\"'B&U_\"&A64&\"'!$H$199\",TRUE)),3)","v":{"$error":"#VALUE!"}},null,null,"Tilsyn 3",null,null,null,null,null,null,null,null,null,null,{"$error":"#REF!"},{"$error":"#REF!"},{"$error":"#REF!"},{"$error":"#REF!"},{"$error":"#REF!"},{"$error":"#REF!"},{"$error":"#REF!"}]
["Tilsyn 2","Status:  grøn",null,null,null,null,null,null,null,null,{"$f":"COUNTIF(IF(ISERROR(INDIRECT(\"'B&U_\"&A65&\"'!$H$33\",TRUE)),\"\",INDIRECT(\"'B&U_\"&A65&\"'!$H$33\",TRUE)),1)","v":{"$error":"#VALUE!"}},{"$f":"COUNTIF(IF(ISERROR(INDIRECT(\"'B&U_\"&A65&\"'!$h$42\",TRUE)),\"\",INDIRECT(\"'B&U_\"&A65&\"'!$h$42\",TRUE)),1)","v":{"$error":"#VALUE!"}},{"$f":"COUNTIF(IF(ISERROR(INDIRECT(\"'B&U_\"&A65&\"'!$H$66\",TRUE)),\"\",INDIRECT(\"'B&U_\"&A65&\"'!$H$66\",TRUE)),1)","v":{"$error":"#VALUE!"}},{"$f":"COUNTIF(IF(ISERROR(INDIRECT(\"'B&U_\"&A65&\"'!$H$97\",TRUE)),\"\",INDIRECT(\"'B&U_\"&A65&\"'!$H$97\",TRUE)),1)","v":{"$error":"#VALUE!"}},{"$f":"COUNTIF(IF(ISERROR(INDIRECT(\"'B&U_\"&A65&\"'!$H$128\",TRUE)),\"\",INDIRECT(\"'B&U_\"&A65&\"'!$H$128\",TRUE)),1)","v":{"$error":"#VALUE!"}},{"$f":"COUNTIF(IF(ISERROR(INDIRECT(\"'B&U_\"&A65&\"'!$H$160\",TRUE)),\"\",INDIRECT(\"'B&U_\"&A65&\"'!$H$160\",TRUE)),1)","v":{"$error":"#VALUE!"}},{"$f":"COUNTIF(IF(ISERROR(INDIRECT(\"'B&U_\"&A65&\"'!$H$190\",TRUE)),\"\",INDIRECT(\"'B&U_\"&A65&\"'!$H$190\",TRUE)),1)","v":{"$error":"#VALUE!"}},{"$f":"COUNTIF(IF(ISERROR(INDIRECT(\"'B&U_\"&A65&\"'!$H$199\",TRUE)),\"\",INDIRECT(\"'B&U_\"&A65&\"'!$H$199\",TRUE)),1)","v":{"$error":"#VALUE!"}},null,null,"Tilsyn 4",null,null,null,null,null,null,null,null,null,null,{"$error":"#REF!"},{"$error":"#REF!"},{"$error":"#REF!"},{"$error":"#REF!"},{"$error":"#REF!"},{"$error":"#REF!"},{"$error":"#REF!"}]
["Tilsyn 2","Status:  gul",null,null,null,null,null,null,null,null,{"$f":"COUNTIF(IF(ISERROR(INDIRECT(\"'B&U_\"&A66&\"'!$H$33\",TRUE)),\"\",INDIRECT(\"'B&U_\"&A66&\"'!$H$33\",TRUE)),2)","v":{"$error":"#VALUE!"}},{"$f":"COUNTIF(IF(ISERROR(INDIRECT(\"'B&U_\"&A66&\"'!$h$42\",TRUE)),\"\",INDIRECT(\"'B&U_\"&A66&\"'!$h$42\",TRUE)),2)","v":{"$error":"#VALUE!"}},{"$f":"COUNTIF(IF(ISERROR(INDIRECT(\"'B&U_\"&A66&\"'!$H$66\",TRUE)),\"\",INDIRECT(\"'B&U_\"&A66&\"'!$H$66\",TRUE)),2)","v":{"$error":"#VALUE!"}},{"$f":"COUNTIF(IF(ISERROR(INDIRECT(\"'B&U_\"&A66&\"'!$H$97\",TRUE)),\"\",INDIRECT(\"'B&U_\"&A66&\"'!$H$97\",TRUE)),2)","v":{"$error":"#VALUE!"}},{"$f":"COUNTIF(IF(ISERROR(INDIRECT(\"'B&U_\"&A66&\"'!$H$128\",TRUE)),\"\",INDIRECT(\"'B&U_\"&A66&\"'!$H$128\",TRUE)),2)","v":{"$error":"#VALUE!"}},{"$f":"COUNTIF(IF(ISERROR(INDIRECT(\"'B&U_\"&A66&\"'!$H$160\",TRUE)),\"\",INDIRECT(\"'B&U_\"&A66&\"'!$H$160\",TRUE)),2)","v":{"$error":"#VALUE!"}},{"$f":"COUNTIF(IF(ISERROR(INDIRECT(\"'B&U_\"&A66&\"'!$H$190\",TRUE)),\"\",INDIRECT(\"'B&U_\"&A66&\"'!$H$190\",TRUE)),2)","v":{"$error":"#VALUE!"}},{"$f":"COUNTIF(IF(ISERROR(INDIRECT(\"'B&U_\"&A66&\"'!$H$199\",TRUE)),\"\",INDIRECT(\"'B&U_\"&A66&\"'!$H$199\",TRUE)),2)","v":{"$error":"#VALUE!"}},null,null,"Tilsyn 5",null,null,null,null,null,null,null,null,null,null,{"$error":"#REF!"},{"$error":"#REF!"},{"$error":"#REF!"},{"$error":"#REF!"},{"$error":"#REF!"},{"$error":"#REF!"},{"$error":"#REF!"}]
["Tilsyn 2","Status:  rød",null,null,null,null,null,null,null,null,{"$f":"COUNTIF(IF(ISERROR(INDIRECT(\"'B&U_\"&A67&\"'!$H$33\",TRUE)),\"\",INDIRECT(\"'B&U_\"&A67&\"'!$H$33\",TRUE)),3)","v":{"$error":"#VALUE!"}},{"$f":"COUNTIF(IF(ISERROR(INDIRECT(\"'B&U_\"&A67&\"'!$h$42\",TRUE)),\"\",INDIRECT(\"'B&U_\"&A67&\"'!$h$42\",TRUE)),3)","v":{"$error":"#VALUE!"}},{"$f":"COUNTIF(IF(ISERROR(INDIRECT(\"'B&U_\"&A67&\"'!$H$66\",TRUE)),\"\",INDIRECT(\"'B&U_\"&A67&\"'!$H$66\",TRUE)),3)","v":{"$error":"#VALUE!"}},{"$f":"COUNTIF(IF(ISERROR(INDIRECT(\"'B&U_\"&A67&\"'!$H$97\",TRUE)),\"\",INDIRECT(\"'B&U_\"&A67&\"'!$H$97\",TRUE)),3)","v":{"$error":"#VALUE!"}},{"$f":"COUNTIF(IF(ISERROR(INDIRECT(\"'B&U_\"&A67&\"'!$H$128\",TRUE)),\"\",INDIRECT(\"'B&U_\"&A67&\"'!$H$128\",TRUE)),3)","v":{"$error":"#VALUE!"}},{"$f":"COUNTIF(IF(ISERROR(INDIRECT(\"'B&U_\"&A67&\"'!$H$160\",TRUE)),\"\",INDIRECT(\"'B&U_\"&A67&\"'!$H$160\",TRUE)),3)","v":{"$error":"#VALUE!"}},{"$f":"COUNTIF(IF(ISERROR(INDIRECT(\"'B&U_\"&A67&\"'!$H$190\",TRUE)),\"\",INDIRECT(\"'B&U_\"&A67&\"'!$H$190\",TRUE)),3)","v":{"$error":"#VALUE!"}},{"$f":"COUNTIF(IF(ISERROR(INDIRECT(\"'B&U_\"&A67&\"'!$H$199\",TRUE)),\"\",INDIRECT(\"'B&U_\"&A67&\"'!$H$199\",TRUE)),3)","v":{"$error":"#VALUE!"}},null,null,"Tilsyn 6",null,null,null,null,null,null,null,null,null,null,{"$error":"#REF!"},{"$error":"#REF!"},{"$error":"#REF!"},{"$error":"#REF!"},{"$error":"#REF!"},{"$error":"#REF!"},{"$error":"#REF!"}]
["Tilsyn 3","Status:  grøn",null,null,null,null,null,null,null,null,{"$f":"COUNTIF(IF(ISERROR(INDIRECT(\"'B&U_\"&A68&\"'!$H$33\",TRUE)),\"\",INDIRECT(\"'B&U_\"&A68&\"'!$H$33\",TRUE)),1)","v":{"$error":"#VALUE!"}},{"$f":"COUNTIF(IF(ISERROR(INDIRECT(\"'B&U_\"&A68&\"'!$h$42\",TRUE)),\"\",INDIRECT(\"'B&U_\"&A68&\"'!$h$42\",TRUE)),1)","v":{"$error":"#VALUE!"}},{"$f":"COUNTIF(IF(ISERROR(INDIRECT(\"'B&U_\"&A68&\"'!$H$66\",TRUE)),\"\",INDIRECT(\"'B&U_\"&A68&\"'!$H$66\",TRUE)),1)","v":{"$error":"#VALUE!"}},{"$f":"COUNTIF(IF(ISERROR(INDIRECT(\"'B&U_\"&A68&\"'!$H$97\",TRUE)),\"\",INDIRECT(\"'B&U_\"&A68&\"'!$H$97\",TRUE)),1)","v":{"$error":"#VALUE!"}},{"$f":"COUNTIF(IF(ISERROR(INDIRECT(\"'B&U_\"&A68&\"'!$H$128\",TRUE)),\"\",INDIRECT(\"'B&U_\"&A68&\"'!$H$128\",TRUE)),1)","v":{"$error":"#VALUE!"}},{"$f":"COUNTIF(IF(ISERROR(INDIRECT(\"'B&U_\"&A68&\"'!$H$160\",TRUE)),\"\",INDIRECT(\"'B&U_\"&A68&\"'!$H$160\",TRUE)),1)","v":{"$error":"#VALUE!"}},{"$f":"COUNTIF(IF(ISERROR(INDIRECT(\"'B&U_\"&A68&\"'!$H$190\",TRUE)),\"\",INDIRECT(\"'B&U_\"&A68&\"'!$H$190\",TRUE)),1)","v":{"$error":"#VALUE!"}},{"$f":"COUNTIF(IF(ISERROR(INDIRECT(\"'B&U_\"&A68&\"'!$H$199\",TRUE)),\"\",INDIRECT(\"'B&U_\"&A68&\"'!$H$199\",TRUE)),1)","v":{"$error":"#VALUE!"}},null,null,"Tilsyn 7",null,null,null,null,null,null,null,null,null,null,{"$error":"#REF!"},{"$error":"#REF!"},{"$error":"#REF!"},{"$error":"#REF!"},{"$error":"#REF!"},{"$error":"#REF!"},{"$error":"#REF!"}]
["Tilsyn 3","Status:  gul",null,null,null,null,null,null,null,null,{"$f":"COUNTIF(IF(ISERROR(INDIRECT(\"'B&U_\"&A69&\"'!$H$33\",TRUE)),\"\",INDIRECT(\"'B&U_\"&A69&\"'!$H$33\",TRUE)),2)","v":{"$error":"#VALUE!"}},{"$f":"COUNTIF(IF(ISERROR(INDIRECT(\"'B&U_\"&A69&\"'!$h$42\",TRUE)),\"\",INDIRECT(\"'B&U_\"&A69&\"'!$h$42\",TRUE)),2)","v":{"$error":"#VALUE!"}},{"$f":"COUNTIF(IF(ISERROR(INDIRECT(\"'B&U_\"&A69&\"'!$H$66\",TRUE)),\"\",INDIRECT(\"'B&U_\"&A69&\"'!$H$66\",TRUE)),2)","v":{"$error":"#VALUE!"}},{"$f":"COUNTIF(IF(ISERROR(INDIRECT(\"'B&U_\"&A69&\"'!$H$97\",TRUE)),\"\",INDIRECT(\"'B&U_\"&A69&\"'!$H$97\",TRUE)),2)","v":{"$error":"#VALUE!"}},{"$f":"COUNTIF(IF(ISERROR(INDIRECT(\"'B&U_\"&A69&\"'!$H$128\",TRUE)),\"\",INDIRECT(\"'B&U_\"&A69&\"'!$H$128\",TRUE)),2)","v":{"$error":"#VALUE!"}},{"$f":"COUNTIF(IF(ISERROR(INDIRECT(\"'B&U_\"&A69&\"'!$H$160\",TRUE)),\"\",INDIRECT(\"'B&U_\"&A69&\"'!$H$160\",TRUE)),2)","v":{"$error":"#VALUE!"}},{"$f":"COUNTIF(IF(ISERROR(INDIRECT(\"'B&U_\"&A69&\"'!$H$190\",TRUE)),\"\",INDIRECT(\"'B&U_\"&A69&\"'!$H$190\",TRUE)),2)","v":{"$error":"#VALUE!"}},{"$f":"COUNTIF(IF(ISERROR(INDIRECT(\"'B&U_\"&A69&\"'!$H$199\",TRUE)),\"\",INDIRECT(\"'B&U_\"&A69&\"'!$H$199\",TRUE)),2)","v":{"$error":"#VALUE!"}},null,null,"Tilsyn 8",null,null,null,null,null,null,null,null,null,null,{"$error":"#REF!"},{"$error":"#REF!"},{"$error":"#REF!"},{"$error":"#REF!"},{"$error":"#REF!"},{"$error":"#REF!"},{"$error":"#REF!"}]
["Tilsyn 3","Status:  rød",null,null,null,null,null,null,null,null,{"$f":"COUNTIF(IF(ISERROR(INDIRECT(\"'B&U_\"&A70&\"'!$H$33\",TRUE)),\"\",INDIRECT(\"'B&U_\"&A70&\"'!$H$33\",TRUE)),3)","v":{"$error":"#VALUE!"}},{"$f":"COUNTIF(IF(ISERROR(INDIRECT(\"'B&U_\"&A70&\"'!$h$42\",TRUE)),\"\",INDIRECT(\"'B&U_\"&A70&\"'!$h$42\",TRUE)),3)","v":{"$error":"#VALUE!"}},{"$f":"COUNTIF(IF(ISERROR(INDIRECT(\"'B&U_\"&A70&\"'!$H$66\",TRUE)),\"\",INDIRECT(\"'B&U_\"&A70&\"'!$H$66\",TRUE)),3)","v":{"$error":"#VALUE!"}},{"$f":"COUNTIF(IF(ISERROR(INDIRECT(\"'B&U_\"&A70&\"'!$H$97\",TRUE)),\"\",INDIRECT(\"'B&U_\"&A70&\"'!$H$97\",TRUE)),3)","v":{"$error":"#VALUE!"}},{"$f":"COUNTIF(IF(ISERROR(INDIRECT(\"'B&U_\"&A70&\"'!$H$128\",TRUE)),\"\",INDIRECT(\"'B&U_\"&A70&\"'!$H$128\",TRUE)),3)","v":{"$error":"#VALUE!"}},{"$f":"COUNTIF(IF(ISERROR(INDIRECT(\"'B&U_\"&A70&\"'!$H$160\",TRUE)),\"\",INDIRECT(\"'B&U_\"&A70&\"'!$H$160\",TRUE)),3)","v":{"$error":"#VALUE!"}},{"$f":"COUNTIF(IF(ISERROR(INDIRECT(\"'B&U_\"&A70&\"'!$H$190\",TRUE)),\"\",INDIRECT(\"'B&U_\"&A70&\"'!$H$190\",TRUE)),3)","v":{"$error":"#VALUE!"}},{"$f":"COUNTIF(IF(ISERROR(INDIRECT(\"'B&U_\"&A70&\"'!$H$199\",TRUE)),\"\",INDIRECT(\"'B&U_\"&A70&\"'!$H$199\",TRUE)),3)","v":{"$error":"#VALUE!"}},null,null,"Tilsyn 9",null,null,null,null,null,null,null,null,null,null,{"$error":"#REF!"},{"$error":"#REF!"},{"$error":"#REF!"},{"$error":"#REF!"},{"$error":"#REF!"},{"$error":"#REF!"},{"$error":"#REF!"}]
["Tilsyn 4","Status:  grøn",null,null,null,null,null,null,null,null,{"$f":"COUNTIF(IF(ISERROR(INDIRECT(\"'B&U_\"&A71&\"'!$H$33\",TRUE)),\"\",INDIRECT(\"'B&U_\"&A71&\"'!$H$33\",TRUE)),1)","v":{"$error":"#VALUE!"}},{"$f":"COUNTIF(IF(ISERROR(INDIRECT(\"'B&U_\"&A71&\"'!$h$42\",TRUE)),\"\",INDIRECT(\"'B&U_\"&A71&\"'!$h$42\",TRUE)),1)","v":{"$error":"#VALUE!"}},{"$f":"COUNTIF(IF(ISERROR(INDIRECT(\"'B&U_\"&A71&\"'!$H$66\",TRUE)),\"\",INDIRECT(\"'B&U_\"&A71&\"'!$H$66\",TRUE)),1)","v":{"$error":"#VALUE!"}},{"$f":"COUNTIF(IF(ISERROR(INDIRECT(\"'B&U_\"&A71&\"'!$H$97\",TRUE)),\"\",INDIRECT(\"'B&U_\"&A71&\"'!$H$97\",TRUE)),1)","v":{"$error":"#VALUE!"}},{"$f":"COUNTIF(IF(ISERROR(INDIRECT(\"'B&U_\"&A71&\"'!$H$128\",TRUE)),\"\",INDIRECT(\"'B&U_\"&A71&\"'!$H$128\",TRUE)),1)","v":{"$error":"#VALUE!"}},{"$f":"COUNTIF(IF(ISERROR(INDIRECT(\"'B&U_\"&A71&\"'!$H$160\",TRUE)),\"\",INDIRECT(\"'B&U_\"&A71&\"'!$H$160\",TRUE)),1)","v":{"$error":"#VALUE!"}},{"$f":"COUNTIF(IF(ISERROR(INDIRECT(\"'B&U_\"&A71&\"'!$H$190\",TRUE)),\"\",INDIRECT(\"'B&U_\"&A71&\"'!$H$190\",TRUE)),1)","v":{"$error":"#VALUE!"}},{"$f":"COUNTIF(IF(ISERROR(INDIRECT(\"'B&U_\"&A71&\"'!$H$199\",TRUE)),\"\",INDIRECT(\"'B&U_\"&A71&\"'!$H$199\",TRUE)),1)","v":{"$error":"#VALUE!"}},null,null,"Tilsyn 10",null,null,null,null,null,null,null,null,null,null,{"$error":"#REF!"},{"$error":"#REF!"},{"$error":"#REF!"},{"$error":"#REF!"},{"$error":"#REF!"},{"$error":"#REF!"},{"$error":"#REF!"}]
["Tilsyn 4","Status:  gul",null,null,null,null,null,null,null,null,{"$f":"COUNTIF(IF(ISERROR(INDIRECT(\"'B&U_\"&A72&\"'!$H$33\",TRUE)),\"\",INDIRECT(\"'B&U_\"&A72&\"'!$H$33\",TRUE)),2)","v":{"$error":"#VALUE!"}},{"$f":"COUNTIF(IF(ISERROR(INDIRECT(\"'B&U_\"&A72&\"'!$h$42\",TRUE)),\"\",INDIRECT(\"'B&U_\"&A72&\"'!$h$42\",TRUE)),2)","v":{"$error":"#VALUE!"}},{"$f":"COUNTIF(IF(ISERROR(INDIRECT(\"'B&U_\"&A72&\"'!$H$66\",TRUE)),\"\",INDIRECT(\"'B&U_\"&A72&\"'!$H$66\",TRUE)),2)","v":{"$error":"#VALUE!"}},{"$f":"COUNTIF(IF(ISERROR(INDIRECT(\"'B&U_\"&A72&\"'!$H$97\",TRUE)),\"\",INDIRECT(\"'B&U_\"&A72&\"'!$H$97\",TRUE)),2)","v":{"$error":"#VALUE!"}},{"$f":"COUNTIF(IF(ISERROR(INDIRECT(\"'B&U_\"&A72&\"'!$H$128\",TRUE)),\"\",INDIRECT(\"'B&U_\"&A72&\"'!$H$128\",TRUE)),2)","v":{"$error":"#VALUE!"}},{"$f":"COUNTIF(IF(ISERROR(INDIRECT(\"'B&U_\"&A72&\"'!$H$160\",TRUE)),\"\",INDIRECT(\"'B&U_\"&A72&\"'!$H$160\",TRUE)),2)","v":{"$error":"#VALUE!"}},{"$f":"COUNTIF(IF(ISERROR(INDIRECT(\"'B&U_\"&A72&\"'!$H$190\",TRUE)),\"\",INDIRECT(\"'B&U_\"&A72&\"'!$H$190\",TRUE)),2)","v":{"$error":"#VALUE!"}},{"$f":"COUNTIF(IF(ISERROR(INDIRECT(\"'B&U_\"&A72&\"'!$H$199\",TRUE)),\"\",INDIRECT(\"'B&U_\"&A72&\"'!$H$199\",TRUE)),2)","v":{"$error":"#VALUE!"}},null,null,"Tilsyn 11",null,null,null,null,null,null,null,null,null,null,{"$error":"#REF!"},{"$error":"#REF!"},{"$error":"#REF!"},{"$error":"#REF!"},{"$error":"#REF!"},{"$error":"#REF!"},{"$error":"#REF!"}]
["Tilsyn 4","Status:  rød",null,null,null,null,null,null,null,null,{"$f":"COUNTIF(IF(ISERROR(INDIRECT(\"'B&U_\"&A73&\"'!$H$33\",TRUE)),\"\",INDIRECT(\"'B&U_\"&A73&\"'!$H$33\",TRUE)),3)","v":{"$error":"#VALUE!"}},{"$f":"COUNTIF(IF(ISERROR(INDIRECT(\"'B&U_\"&A73&\"'!$h$42\",TRUE)),\"\",INDIRECT(\"'B&U_\"&A73&\"'!$h$42\",TRUE)),3)","v":{"$error":"#VALUE!"}},{"$f":"COUNTIF(IF(ISERROR(INDIRECT(\"'B&U_\"&A73&\"'!$H$66\",TRUE)),\"\",INDIRECT(\"'B&U_\"&A73&\"'!$H$66\",TRUE)),3)","v":{"$error":"#VALUE!"}},{"$f":"COUNTIF(IF(ISERROR(INDIRECT(\"'B&U_\"&A73&\"'!$H$97\",TRUE)),\"\",INDIRECT(\"'B&U_\"&A73&\"'!$H$97\",TRUE)),3)","v":{"$error":"#VALUE!"}},{"$f":"COUNTIF(IF(ISERROR(INDIRECT(\"'B&U_\"&A73&\"'!$H$128\",TRUE)),\"\",INDIRECT(\"'B&U_\"&A73&\"'!$H$128\",TRUE)),3)","v":{"$error":"#VALUE!"}},{"$f":"COUNTIF(IF(ISERROR(INDIRECT(\"'B&U_\"&A73&\"'!$H$160\",TRUE)),\"\",INDIRECT(\"'B&U_\"&A73&\"'!$H$160\",TRUE)),3)","v":{"$error":"#VALUE!"}},{"$f":"COUNTIF(IF(ISERROR(INDIRECT(\"'B&U_\"&A73&\"'!$H$190\",TRUE)),\"\",INDIRECT(\"'B&U_\"&A73&\"'!$H$190\",TRUE)),3)","v":{"$error":"#VALUE!"}},{"$f":"COUNTIF(IF(ISERROR(INDIRECT(\"'B&U_\"&A73&\"'!$H$199\",TRUE)),\"\",INDIRECT(\"'B&U_\"&A73&\"'!$H$199\",TRUE)),3)","v":{"$error":"#VALUE!"}},null,null,"Tilsyn 12",null,null,null,null,null,null,null,null,null,null,{"$error":"#REF!"},{"$error":"#REF!"},{"$error":"#REF!"},{"$error":"#REF!"},{"$error":"#REF!"},{"$error":"#REF!"},{"$error":"#REF!"}]
["Tilsyn 5","Status:  grøn",null,null,null,null,null,null,null,null,{"$f":"COUNTIF(IF(ISERROR(INDIRECT(\"'B&U_\"&A74&\"'!$H$33\",TRUE)),\"\",INDIRECT(\"'B&U_\"&A74&\"'!$H$33\",TRUE)),1)","v":{"$error":"#VALUE!"}},{"$f":"COUNTIF(IF(ISERROR(INDIRECT(\"'B&U_\"&A74&\"'!$h$42\",TRUE)),\"\",INDIRECT(\"'B&U_\"&A74&\"'!$h$42\",TRUE)),1)","v":{"$error":"#VALUE!"}},{"$f":"COUNTIF(IF(ISERROR(INDIRECT(\"'B&U_\"&A74&\"'!$H$66\",TRUE)),\"\",INDIRECT(\"'B&U_\"&A74&\"'!$H$66\",TRUE)),1)","v":{"$error":"#VALUE!"}},{"$f":"COUNTIF(IF(ISERROR(INDIRECT(\"'B&U_\"&A74&\"'!$H$97\",TRUE)),\"\",INDIRECT(\"'B&U_\"&A74&\"'!$H$97\",TRUE)),1)","v":{"$error":"#VALUE!"}},{"$f":"COUNTIF(IF(ISERROR(INDIRECT(\"'B&U_\"&A74&\"'!$H$128\",TRUE)),\"\",INDIRECT(\"'B&U_\"&A74&\"'!$H$128\",TRUE)),1)","v":{"$error":"#VALUE!"}},{"$f":"COUNTIF(IF(ISERROR(INDIRECT(\"'B&U_\"&A74&\"'!$H$160\",TRUE)),\"\",INDIRECT(\"'B&U_\"&A74&\"'!$H$160\",TRUE)),1)","v":{"$error":"#VALUE!"}},{"$f":"COUNTIF(IF(ISERROR(INDIRECT(\"'B&U_\"&A74&\"'!$H$190\",TRUE)),\"\",INDIRECT(\"'B&U_\"&A74&\"'!$H$190\",TRUE)),1)","v":{"$error":"#VALUE!"}},{"$f":"COUNTIF(IF(ISERROR(INDIRECT(\"'B&U_\"&A74&\"'!$H$199\",TRUE)),\"\",INDIRECT(\"'B&U_\"&A74&\"'!$H$199\",TRUE)),1)","v":{"$error":"#VALUE!"}},null,null,"Tilsyn 13",null,null,null,null,null,null,null,null,null,null,{"$error":"#REF!"},{"$error":"#REF!"},{"$error":"#REF!"},{"$error":"#REF!"},{"$error":"#REF!"},{"$error":"#REF!"},{"$error":"#REF!"}]
["Tilsyn 5","Status:  gul",null,null,null,null,null,null,null,null,{"$f":"COUNTIF(IF(ISERROR(INDIRECT(\"'B&U_\"&A75&\"'!$H$33\",TRUE)),\"\",INDIRECT(\"'B&U_\"&A75&\"'!$H$33\",TRUE)),2)","v":{"$error":"#VALUE!"}},{"$f":"COUNTIF(IF(ISERROR(INDIRECT(\"'B&U_\"&A75&\"'!$h$42\",TRUE)),\"\",INDIRECT(\"'B&U_\"&A75&\"'!$h$42\",TRUE)),2)","v":{"$error":"#VALUE!"}},{"$f":"COUNTIF(IF(ISERROR(INDIRECT(\"'B&U_\"&A75&\"'!$H$66\",TRUE)),\"\",INDIRECT(\"'B&U_\"&A75&\"'!$H$66\",TRUE)),2)","v":{"$error":"#VALUE!"}},{"$f":"COUNTIF(IF(ISERROR(INDIRECT(\"'B&U_\"&A75&\"'!$H$97\",TRUE)),\"\",INDIRECT(\"'B&U_\"&A75&\"'!$H$97\",TRUE)),2)","v":{"$error":"#VALUE!"}},{"$f":"COUNTIF(IF(ISERROR(INDIRECT(\"'B&U_\"&A75&\"'!$H$128\",TRUE)),\"\",INDIRECT(\"'B&U_\"&A75&\"'!$H$128\",TRUE)),2)","v":{"$error":"#VALUE!"}},{"$f":"COUNTIF(IF(ISERROR(INDIRECT(\"'B&U_\"&A75&\"'!$H$160\",TRUE)),\"\",INDIRECT(\"'B&U_\"&A75&\"'!$H$160\",TRUE)),2)","v":{"$error":"#VALUE!"}},{"$f":"COUNTIF(IF(ISERROR(INDIRECT(\"'B&U_\"&A75&\"'!$H$190\",TRUE)),\"\",INDIRECT(\"'B&U_\"&A75&\"'!$H$190\",TRUE)),2)","v":{"$error":"#VALUE!"}},{"$f":"COUNTIF(IF(ISERROR(INDIRECT(\"'B&U_\"&A75&\"'!$H$199\",TRUE)),\"\",INDIRECT(\"'B&U_\"&A75&\"'!$H$199\",TRUE)),2)","v":{"$error":"#VALUE!"}},null,null,"Tilsyn 14",null,null,null,null,null,null,null,null,null,null,{"$error":"#REF!"},{"$error":"#REF!"},{"$error":"#REF!"},{"$error":"#REF!"},{"$error":"#REF!"},{"$error":"#REF!"},{"$error":"#REF!"}]
["Tilsyn 5","Status:  rød",null,null,null,null,null,null,null,null,{"$f":"COUNTIF(IF(ISERROR(INDIRECT(\"'B&U_\"&A76&\"'!$H$33\",TRUE)),\"\",INDIRECT(\"'B&U_\"&A76&\"'!$H$33\",TRUE)),3)","v":{"$error":"#VALUE!"}},{"$f":"COUNTIF(IF(ISERROR(INDIRECT(\"'B&U_\"&A76&\"'!$h$42\",TRUE)),\"\",INDIRECT(\"'B&U_\"&A76&\"'!$h$42\",TRUE)),3)","v":{"$error":"#VALUE!"}},{"$f":"COUNTIF(IF(ISERROR(INDIRECT(\"'B&U_\"&A76&\"'!$H$66\",TRUE)),\"\",INDIRECT(\"'B&U_\"&A76&\"'!$H$66\",TRUE)),3)","v":{"$error":"#VALUE!"}},{"$f":"COUNTIF(IF(ISERROR(INDIRECT(\"'B&U_\"&A76&\"'!$H$97\",TRUE)),\"\",INDIRECT(\"'B&U_\"&A76&\"'!$H$97\",TRUE)),3)","v":{"$error":"#VALUE!"}},{"$f":"COUNTIF(IF(ISERROR(INDIRECT(\"'B&U_\"&A76&\"'!$H$128\",TRUE)),\"\",INDIRECT(\"'B&U_\"&A76&\"'!$H$128\",TRUE)),3)","v":{"$error":"#VALUE!"}},{"$f":"COUNTIF(IF(ISERROR(INDIRECT(\"'B&U_\"&A76&\"'!$H$160\",TRUE)),\"\",INDIRECT(\"'B&U_\"&A76&\"'!$H$160\",TRUE)),3)","v":{"$error":"#VALUE!"}},{"$f":"COUNTIF(IF(ISERROR(INDIRECT(\"'B&U_\"&A76&\"'!$H$190\",TRUE)),\"\",INDIRECT(\"'B&U_\"&A76&\"'!$H$190\",TRUE)),3)","v":{"$error":"#VALUE!"}},{"$f":"COUNTIF(IF(ISERROR(INDIRECT(\"'B&U_\"&A76&\"'!$H$199\",TRUE)),\"\",INDIRECT(\"'B&U_\"&A76&\"'!$H$199\",TRUE)),3)","v":{"$error":"#VALUE!"}},null,null,"Tilsyn 15",null,null,null,null,null,null,null,null,null,null,{"$error":"#REF!"},{"$error":"#REF!"},{"$error":"#REF!"},{"$error":"#REF!"},{"$error":"#REF!"},{"$error":"#REF!"},{"$error":"#REF!"}]
["Tilsyn 6","Status:  grøn",null,null,null,null,null,null,null,null,{"$f":"COUNTIF(IF(ISERROR(INDIRECT(\"'B&U_\"&A77&\"'!$H$33\",TRUE)),\"\",INDIRECT(\"'B&U_\"&A77&\"'!$H$33\",TRUE)),1)","v":{"$error":"#VALUE!"}},{"$f":"COUNTIF(IF(ISERROR(INDIRECT(\"'B&U_\"&A77&\"'!$h$42\",TRUE)),\"\",INDIRECT(\"'B&U_\"&A77&\"'!$h$42\",TRUE)),1)","v":{"$error":"#VALUE!"}},{"$f":"COUNTIF(IF(ISERROR(INDIRECT(\"'B&U_\"&A77&\"'!$H$66\",TRUE)),\"\",INDIRECT(\"'B&U_\"&A77&\"'!$H$66\",TRUE)),1)","v":{"$error":"#VALUE!"}},{"$f":"COUNTIF(IF(ISERROR(INDIRECT(\"'B&U_\"&A77&\"'!$H$97\",TRUE)),\"\",INDIRECT(\"'B&U_\"&A77&\"'!$H$97\",TRUE)),1)","v":{"$error":"#VALUE!"}},{"$f":"COUNTIF(IF(ISERROR(INDIRECT(\"'B&U_\"&A77&\"'!$H$128\",TRUE)),\"\",INDIRECT(\"'B&U_\"&A77&\"'!$H$128\",TRUE)),1)","v":{"$error":"#VALUE!"}},{"$f":"COUNTIF(IF(ISERROR(INDIRECT(\"'B&U_\"&A77&\"'!$H$160\",TRUE)),\"\",INDIRECT(\"'B&U_\"&A77&\"'!$H$160\",TRUE)),1)","v":{"$error":"#VALUE!"}},{"$f":"COUNTIF(IF(ISERROR(INDIRECT(\"'B&U_\"&A77&\"'!$H$190\",TRUE)),\"\",INDIRECT(\"'B&U_\"&A77&\"'!$H$190\",TRUE)),1)","v":{"$error":"#VALUE!"}},{"$f":"COUNTIF(IF(ISERROR(INDIRECT(\"'B&U_\"&A77&\"'!$H$199\",TRUE)),\"\",INDIRECT(\"'B&U_\"&A77&\"'!$H$199\",TRUE)),1)","v":{"$error":"#VALUE!"}},null,null,"Tilsyn 16",null,null,null,null,null,null,null,null,null,null,{"$error":"#REF!"},{"$error":"#REF!"},{"$error":"#REF!"},{"$error":"#REF!"},{"$error":"#REF!"},{"$error":"#REF!"},{"$error":"#REF!"}]
["Tilsyn 6","Status:  gul",null,null,null,null,null,null,null,null,{"$f":"COUNTIF(IF(ISERROR(INDIRECT(\"'B&U_\"&A78&\"'!$H$33\",TRUE)),\"\",INDIRECT(\"'B&U_\"&A78&\"'!$H$33\",TRUE)),2)","v":{"$error":"#VALUE!"}},{"$f":"COUNTIF(IF(ISERROR(INDIRECT(\"'B&U_\"&A78&\"'!$h$42\",TRUE)),\"\",INDIRECT(\"'B&U_\"&A78&\"'!$h$42\",TRUE)),2)","v":{"$error":"#VALUE!"}},{"$f":"COUNTIF(IF(ISERROR(INDIRECT(\"'B&U_\"&A78&\"'!$H$66\",TRUE)),\"\",INDIRECT(\"'B&U_\"&A78&\"'!$H$66\",TRUE)),2)","v":{"$error":"#VALUE!"}},{"$f":"COUNTIF(IF(ISERROR(INDIRECT(\"'B&U_\"&A78&\"'!$H$97\",TRUE)),\"\",INDIRECT(\"'B&U_\"&A78&\"'!$H$97\",TRUE)),2)","v":{"$error":"#VALUE!"}},{"$f":"COUNTIF(IF(ISERROR(INDIRECT(\"'B&U_\"&A78&\"'!$H$128\",TRUE)),\"\",INDIRECT(\"'B&U_\"&A78&\"'!$H$128\",TRUE)),2)","v":{"$error":"#VALUE!"}},{"$f":"COUNTIF(IF(ISERROR(INDIRECT(\"'B&U_\"&A78&\"'!$H$160\",TRUE)),\"\",INDIRECT(\"'B&U_\"&A78&\"'!$H$160\",TRUE)),2)","v":{"$error":"#VALUE!"}},{"$f":"COUNTIF(IF(ISERROR(INDIRECT(\"'B&U_\"&A78&\"'!$H$190\",TRUE)),\"\",INDIRECT(\"'B&U_\"&A78&\"'!$H$190\",TRUE)),2)","v":{"$error":"#VALUE!"}},{"$f":"COUNTIF(IF(ISERROR(INDIRECT(\"'B&U_\"&A78&\"'!$H$199\",TRUE)),\"\",INDIRECT(\"'B&U_\"&A78&\"'!$H$199\",TRUE)),2)","v":{"$error":"#VALUE!"}},null,null,"Tilsyn 17",null,null,null,null,null,null,null,null,null,null,{"$error":"#REF!"},{"$error":"#REF!"},{"$error":"#REF!"},{"$error":"#REF!"},{"$error":"#REF!"},{"$error":"#REF!"},{"$error":"#REF!"}]
["Tilsyn 6","Status:  rød",null,null,null,null,null,null,null,null,{"$f":"COUNTIF(IF(ISERROR(INDIRECT(\"'B&U_\"&A79&\"'!$H$33\",TRUE)),\"\",INDIRECT(\"'B&U_\"&A79&\"'!$H$33\",TRUE)),3)","v":{"$error":"#VALUE!"}},{"$f":"COUNTIF(IF(ISERROR(INDIRECT(\"'B&U_\"&A79&\"'!$h$42\",TRUE)),\"\",INDIRECT(\"'B&U_\"&A79&\"'!$h$42\",TRUE)),3)","v":{"$error":"#VALUE!"}},{"$f":"COUNTIF(IF(ISERROR(INDIRECT(\"'B&U_\"&A79&\"'!$H$66\",TRUE)),\"\",INDIRECT(\"'B&U_\"&A79&\"'!$H$66\",TRUE)),3)","v":{"$error":"#VALUE!"}},{"$f":"COUNTIF(IF(ISERROR(INDIRECT(\"'B&U_\"&A79&\"'!$H$97\",TRUE)),\"\",INDIRECT(\"'B&U_\"&A79&\"'!$H$97\",TRUE)),3)","v":{"$error":"#VALUE!"}},{"$f":"COUNTIF(IF(ISERROR(INDIRECT(\"'B&U_\"&A79&\"'!$H$128\",TRUE)),\"\",INDIRECT(\"'B&U_\"&A79&\"'!$H$128\",TRUE)),3)","v":{"$error":"#VALUE!"}},{"$f":"COUNTIF(IF(ISERROR(INDIRECT(\"'B&U_\"&A79&\"'!$H$160\",TRUE)),\"\",INDIRECT(\"'B&U_\"&A79&\"'!$H$160\",TRUE)),3)","v":{"$error":"#VALUE!"}},{"$f":"COUNTIF(IF(ISERROR(INDIRECT(\"'B&U_\"&A79&\"'!$H$190\",TRUE)),\"\",INDIRECT(\"'B&U_\"&A79&\"'!$H$190\",TRUE)),3)","v":{"$error":"#VALUE!"}},{"$f":"COUNTIF(IF(ISERROR(INDIRECT(\"'B&U_\"&A79&\"'!$H$199\",TRUE)),\"\",INDIRECT(\"'B&U_\"&A79&\"'!$H$199\",TRUE)),3)","v":{"$error":"#VALUE!"}},null,null,"Tilsyn 18",null,null,null,null,null,null,null,null,null,null,{"$error":"#REF!"},{"$error":"#REF!"},{"$error":"#REF!"},{"$error":"#REF!"},{"$error":"#REF!"},{"$error":"#REF!"},{"$error":"#REF!"}]
["Tilsyn 7","Status:  grøn",null,null,null,null,null,null,null,null,{"$f":"COUNTIF(IF(ISERROR(INDIRECT(\"'B&U_\"&A80&\"'!$H$33\",TRUE)),\"\",INDIRECT(\"'B&U_\"&A80&\"'!$H$33\",TRUE)),1)","v":{"$error":"#VALUE!"}},{"$f":"COUNTIF(IF(ISERROR(INDIRECT(\"'B&U_\"&A80&\"'!$h$42\",TRUE)),\"\",INDIRECT(\"'B&U_\"&A80&\"'!$h$42\",TRUE)),1)","v":{"$error":"#VALUE!"}},{"$f":"COUNTIF(IF(ISERROR(INDIRECT(\"'B&U_\"&A80&\"'!$H$66\",TRUE)),\"\",INDIRECT(\"'B&U_\"&A80&\"'!$H$66\",TRUE)),1)","v":{"$error":"#VALUE!"}},{"$f":"COUNTIF(IF(ISERROR(INDIRECT(\"'B&U_\"&A80&\"'!$H$97\",TRUE)),\"\",INDIRECT(\"'B&U_\"&A80&\"'!$H$97\",TRUE)),1)","v":{"$error":"#VALUE!"}},{"$f":"COUNTIF(IF(ISERROR(INDIRECT(\"'B&U_\"&A80&\"'!$H$128\",TRUE)),\"\",INDIRECT(\"'B&U_\"&A80&\"'!$H$128\",TRUE)),1)","v":{"$error":"#VALUE!"}},{"$f":"COUNTIF(IF(ISERROR(INDIRECT(\"'B&U_\"&A80&\"'!$H$160\",TRUE)),\"\",INDIRECT(\"'B&U_\"&A80&\"'!$H$160\",TRUE)),1)","v":{"$error":"#VALUE!"}},{"$f":"COUNTIF(IF(ISERROR(INDIRECT(\"'B&U_\"&A80&\"'!$H$190\",TRUE)),\"\",INDIRECT(\"'B&U_\"&A80&\"'!$H$190\",TRUE)),1)","v":{"$error":"#VALUE!"}},{"$f":"COUNTIF(IF(ISERROR(INDIRECT(\"'B&U_\"&A80&\"'!$H$199\",TRUE)),\"\",INDIRECT(\"'B&U_\"&A80&\"'!$H$199\",TRUE)),1)","v":{"$error":"#VALUE!"}},null,null,"Tilsyn 19",null,null,null,null,null,null,null,null,null,null,{"$error":"#REF!"},{"$error":"#REF!"},{"$error":"#REF!"},{"$error":"#REF!"},{"$error":"#REF!"},{"$error":"#REF!"},{"$error":"#REF!"}]
["Tilsyn 7","Status:  gul",null,null,null,null,null,null,null,null,{"$f":"COUNTIF(IF(ISERROR(INDIRECT(\"'B&U_\"&A81&\"'!$H$33\",TRUE)),\"\",INDIRECT(\"'B&U_\"&A81&\"'!$H$33\",TRUE)),2)","v":{"$error":"#VALUE!"}},{"$f":"COUNTIF(IF(ISERROR(INDIRECT(\"'B&U_\"&A81&\"'!$h$42\",TRUE)),\"\",INDIRECT(\"'B&U_\"&A81&\"'!$h$42\",TRUE)),2)","v":{"$error":"#VALUE!"}},{"$f":"COUNTIF(IF(ISERROR(INDIRECT(\"'B&U_\"&A81&\"'!$H$66\",TRUE)),\"\",INDIRECT(\"'B&U_\"&A81&\"'!$H$66\",TRUE)),2)","v":{"$error":"#VALUE!"}},{"$f":"COUNTIF(IF(ISERROR(INDIRECT(\"'B&U_\"&A81&\"'!$H$97\",TRUE)),\"\",INDIRECT(\"'B&U_\"&A81&\"'!$H$97\",TRUE)),2)","v":{"$error":"#VALUE!"}},{"$f":"COUNTIF(IF(ISERROR(INDIRECT(\"'B&U_\"&A81&\"'!$H$128\",TRUE)),\"\",INDIRECT(\"'B&U_\"&A81&\"'!$H$128\",TRUE)),2)","v":{"$error":"#VALUE!"}},{"$f":"COUNTIF(IF(ISERROR(INDIRECT(\"'B&U_\"&A81&\"'!$H$160\",TRUE)),\"\",INDIRECT(\"'B&U_\"&A81&\"'!$H$160\",TRUE)),2)","v":{"$error":"#VALUE!"}},{"$f":"COUNTIF(IF(ISERROR(INDIRECT(\"'B&U_\"&A81&\"'!$H$190\",TRUE)),\"\",INDIRECT(\"'B&U_\"&A81&\"'!$H$190\",TRUE)),2)","v":{"$error":"#VALUE!"}},{"$f":"COUNTIF(IF(ISERROR(INDIRECT(\"'B&U_\"&A81&\"'!$H$199\",TRUE)),\"\",INDIRECT(\"'B&U_\"&A81&\"'!$H$199\",TRUE)),2)","v":{"$error":"#VALUE!"}},null,null,"Tilsyn 20",null,null,null,null,null,null,null,null,null,null,{"$error":"#REF!"},{"$error":"#REF!"},{"$error":"#REF!"},{"$error":"#REF!"},{"$error":"#REF!"},{"$error":"#REF!"},{"$error":"#REF!"}]
["Tilsyn 7","Status:  rød",null,null,null,null,null,null,null,null,{"$f":"COUNTIF(IF(ISERROR(INDIRECT(\"'B&U_\"&A82&\"'!$H$33\",TRUE)),\"\",INDIRECT(\"'B&U_\"&A82&\"'!$H$33\",TRUE)),3)","v":{"$error":"#VALUE!"}},{"$f":"COUNTIF(IF(ISERROR(INDIRECT(\"'B&U_\"&A82&\"'!$h$42\",TRUE)),\"\",INDIRECT(\"'B&U_\"&A82&\"'!$h$42\",TRUE)),3)","v":{"$error":"#VALUE!"}},{"$f":"COUNTIF(IF(ISERROR(INDIRECT(\"'B&U_\"&A82&\"'!$H$66\",TRUE)),\"\",INDIRECT(\"'B&U_\"&A82&\"'!$H$66\",TRUE)),3)","v":{"$error":"#VALUE!"}},{"$f":"COUNTIF(IF(ISERROR(INDIRECT(\"'B&U_\"&A82&\"'!$H$97\",TRUE)),\"\",INDIRECT(\"'B&U_\"&A82&\"'!$H$97\",TRUE)),3)","v":{"$error":"#VALUE!"}},{"$f":"COUNTIF(IF(ISERROR(INDIRECT(\"'B&U_\"&A82&\"'!$H$128\",TRUE)),\"\",INDIRECT(\"'B&U_\"&A82&\"'!$H$128\",TRUE)),3)","v":{"$error":"#VALUE!"}},{"$f":"COUNTIF(IF(ISERROR(INDIRECT(\"'B&U_\"&A82&\"'!$H$160\",TRUE)),\"\",INDIRECT(\"'B&U_\"&A82&\"'!$H$160\",TRUE)),3)","v":{"$error":"#VALUE!"}},{"$f":"COUNTIF(IF(ISERROR(INDIRECT(\"'B&U_\"&A82&\"'!$H$190\",TRUE)),\"\",INDIRECT(\"'B&U_\"&A82&\"'!$H$190\",TRUE)),3)","v":{"$error":"#VALUE!"}},{"$f":"COUNTIF(IF(ISERROR(INDIRECT(\"'B&U_\"&A82&\"'!$H$199\",TRUE)),\"\",INDIRECT(\"'B&U_\"&A82&\"'!$H$199\",TRUE)),3)","v":{"$error":"#VALUE!"}},null,null,"Tilsyn 21",null,null,null,null,null,null,null,null,null,null,{"$error":"#REF!"},{"$error":"#REF!"},{"$error":"#REF!"},{"$error":"#REF!"},{"$error":"#REF!"},{"$error":"#REF!"},{"$error":"#REF!"}]
["Tilsyn 8","Status:  grøn",null,null,null,null,null,null,null,null,{"$f":"COUNTIF(IF(ISERROR(INDIRECT(\"'B&U_\"&A83&\"'!$H$33\",TRUE)),\"\",INDIRECT(\"'B&U_\"&A83&\"'!$H$33\",TRUE)),1)","v":{"$error":"#VALUE!"}},{"$f":"COUNTIF(IF(ISERROR(INDIRECT(\"'B&U_\"&A83&\"'!$h$42\",TRUE)),\"\",INDIRECT(\"'B&U_\"&A83&\"'!$h$42\",TRUE)),1)","v":{"$error":"#VALUE!"}},{"$f":"COUNTIF(IF(ISERROR(INDIRECT(\"'B&U_\"&A83&\"'!$H$66\",TRUE)),\"\",INDIRECT(\"'B&U_\"&A83&\"'!$H$66\",TRUE)),1)","v":{"$error":"#VALUE!"}},{"$f":"COUNTIF(IF(ISERROR(INDIRECT(\"'B&U_\"&A83&\"'!$H$97\",TRUE)),\"\",INDIRECT(\"'B&U_\"&A83&\"'!$H$97\",TRUE)),1)","v":{"$error":"#VALUE!"}},{"$f":"COUNTIF(IF(ISERROR(INDIRECT(\"'B&U_\"&A83&\"'!$H$128\",TRUE)),\"\",INDIRECT(\"'B&U_\"&A83&\"'!$H$128\",TRUE)),1)","v":{"$error":"#VALUE!"}},{"$f":"COUNTIF(IF(ISERROR(INDIRECT(\"'B&U_\"&A83&\"'!$H$160\",TRUE)),\"\",INDIRECT(\"'B&U_\"&A83&\"'!$H$160\",TRUE)),1)","v":{"$error":"#VALUE!"}},{"$f":"COUNTIF(IF(ISERROR(INDIRECT(\"'B&U_\"&A83&\"'!$H$190\",TRUE)),\"\",INDIRECT(\"'B&U_\"&A83&\"'!$H$190\",TRUE)),1)","v":{"$error":"#VALUE!"}},{"$f":"COUNTIF(IF(ISERROR(INDIRECT(\"'B&U_\"&A83&\"'!$H$199\",TRUE)),\"\",INDIRECT(\"'B&U_\"&A83&\"'!$H$199\",TRUE)),1)","v":{"$error":"#VALUE!"}},null,null,"Tilsyn 22",null,null,null,null,null,null,null,null,null,null,{"$error":"#REF!"},{"$error":"#REF!"},{"$error":"#REF!"},{"$error":"#REF!"},{"$error":"#REF!"},{"$error":"#REF!"},{"$error":"#REF!"}]
["Tilsyn 8","Status:  gul",null,null,null,null,null,null,null,null,{"$f":"COUNTIF(IF(ISERROR(INDIRECT(\"'B&U_\"&A84&\"'!$H$33\",TRUE)),\"\",INDIRECT(\"'B&U_\"&A84&\"'!$H$33\",TRUE)),2)","v":{"$error":"#VALUE!"}},{"$f":"COUNTIF(IF(ISERROR(INDIRECT(\"'B&U_\"&A84&\"'!$h$42\",TRUE)),\"\",INDIRECT(\"'B&U_\"&A84&\"'!$h$42\",TRUE)),2)","v":{"$error":"#VALUE!"}},{"$f":"COUNTIF(IF(ISERROR(INDIRECT(\"'B&U_\"&A84&\"'!$H$66\",TRUE)),\"\",INDIRECT(\"'B&U_\"&A84&\"'!$H$66\",TRUE)),2)","v":{"$error":"#VALUE!"}},{"$f":"COUNTIF(IF(ISERROR(INDIRECT(\"'B&U_\"&A84&\"'!$H$97\",TRUE)),\"\",INDIRECT(\"'B&U_\"&A84&\"'!$H$97\",TRUE)),2)","v":{"$error":"#VALUE!"}},{"$f":"COUNTIF(IF(ISERROR(INDIRECT(\"'B&U_\"&A84&\"'!$H$128\",TRUE)),\"\",INDIRECT(\"'B&U_\"&A84&\"'!$H$128\",TRUE)),2)","v":{"$error":"#VALUE!"}},{"$f":"COUNTIF(IF(ISERROR(INDIRECT(\"'B&U_\"&A84&\"'!$H$160\",TRUE)),\"\",INDIRECT(\"'B&U_\"&A84&\"'!$H$160\",TRUE)),2)","v":{"$error":"#VALUE!"}},{"$f":"COUNTIF(IF(ISERROR(INDIRECT(\"'B&U_\"&A84&\"'!$H$190\",TRUE)),\"\",INDIRECT(\"'B&U_\"&A84&\"'!$H$190\",TRUE)),2)","v":{"$error":"#VALUE!"}},{"$f":"COUNTIF(IF(ISERROR(INDIRECT(\"'B&U_\"&A84&\"'!$H$199\",TRUE)),\"\",INDIRECT(\"'B&U_\"&A84&\"'!$H$199\",TRUE)),2)","v":{"$error":"#VALUE!"}},null,null,"Tilsyn 23",null,null,null,null,null,null,null,null,null,null,{"$error":"#REF!"},{"$error":"#REF!"},{"$error":"#REF!"},{"$error":"#REF!"},{"$error":"#REF!"},{"$error":"#REF!"},{"$error":"#REF!"}]
["Tilsyn 8","Status:  rød",null,null,null,null,null,null,null,null,{"$f":"COUNTIF(IF(ISERROR(INDIRECT(\"'B&U_\"&A85&\"'!$H$33\",TRUE)),\"\",INDIRECT(\"'B&U_\"&A85&\"'!$H$33\",TRUE)),3)","v":{"$error":"#VALUE!"}},{"$f":"COUNTIF(IF(ISERROR(INDIRECT(\"'B&U_\"&A85&\"'!$h$42\",TRUE)),\"\",INDIRECT(\"'B&U_\"&A85&\"'!$h$42\",TRUE)),3)","v":{"$error":"#VALUE!"}},{"$f":"COUNTIF(IF(ISERROR(INDIRECT(\"'B&U_\"&A85&\"'!$H$66\",TRUE)),\"\",INDIRECT(\"'B&U_\"&A85&\"'!$H$66\",TRUE)),3)","v":{"$error":"#VALUE!"}},{"$f":"COUNTIF(IF(ISERROR(INDIRECT(\"'B&U_\"&A85&\"'!$H$97\",TRUE)),\"\",INDIRECT(\"'B&U_\"&A85&\"'!$H$97\",TRUE)),3)","v":{"$error":"#VALUE!"}},{"$f":"COUNTIF(IF(ISERROR(INDIRECT(\"'B&U_\"&A85&\"'!$H$128\",TRUE)),\"\",INDIRECT(\"'B&U_\"&A85&\"'!$H$128\",TRUE)),3)","v":{"$error":"#VALUE!"}},{"$f":"COUNTIF(IF(ISERROR(INDIRECT(\"'B&U_\"&A85&\"'!$H$160\",TRUE)),\"\",INDIRECT(\"'B&U_\"&A85&\"'!$H$160\",TRUE)),3)","v":{"$error":"#VALUE!"}},{"$f":"COUNTIF(IF(ISERROR(INDIRECT(\"'B&U_\"&A85&\"'!$H$190\",TRUE)),\"\",INDIRECT(\"'B&U_\"&A85&\"'!$H$190\",TRUE)),3)","v":{"$error":"#VALUE!"}},{"$f":"COUNTIF(IF(ISERROR(INDIRECT(\"'B&U_\"&A85&\"'!$H$199\",TRUE)),\"\",INDIRECT(\"'B&U_\"&A85&\"'!$H$199\",TRUE)),3)","v":{"$error":"#VALUE!"}},null,null,"Tilsyn 24",null,null,null,null,null,null,null,null,null,null,{"$error":"#REF!"},{"$error":"#REF!"},{"$error":"#REF!"},{"$error":"#REF!"},{"$error":"#REF!"},{"$error":"#REF!"},{"$error":"#REF!"}]
["Tilsyn 9","Status:  grøn",null,null,null,null,null,null,null,null,{"$f":"COUNTIF(IF(ISERROR(INDIRECT(\"'B&U_\"&A86&\"'!$H$33\",TRUE)),\"\",INDIRECT(\"'B&U_\"&A86&\"'!$H$33\",TRUE)),1)","v":{"$error":"#VALUE!"}},{"$f":"COUNTIF(IF(ISERROR(INDIRECT(\"'B&U_\"&A86&\"'!$h$42\",TRUE)),\"\",INDIRECT(\"'B&U_\"&A86&\"'!$h$42\",TRUE)),1)","v":{"$error":"#VALUE!"}},{"$f":"COUNTIF(IF(ISERROR(INDIRECT(\"'B&U_\"&A86&\"'!$H$66\",TRUE)),\"\",INDIRECT(\"'B&U_\"&A86&\"'!$H$66\",TRUE)),1)","v":{"$error":"#VALUE!"}},{"$f":"COUNTIF(IF(ISERROR(INDIRECT(\"'B&U_\"&A86&\"'!$H$97\",TRUE)),\"\",INDIRECT(\"'B&U_\"&A86&\"'!$H$97\",TRUE)),1)","v":{"$error":"#VALUE!"}},{"$f":"COUNTIF(IF(ISERROR(INDIRECT(\"'B&U_\"&A86&\"'!$H$128\",TRUE)),\"\",INDIRECT(\"'B&U_\"&A86&\"'!$H$128\",TRUE)),1)","v":{"$error":"#VALUE!"}},{"$f":"COUNTIF(IF(ISERROR(INDIRECT(\"'B&U_\"&A86&\"'!$H$160\",TRUE)),\"\",INDIRECT(\"'B&U_\"&A86&\"'!$H$160\",TRUE)),1)","v":{"$error":"#VALUE!"}},{"$f":"COUNTIF(IF(ISERROR(INDIRECT(\"'B&U_\"&A86&\"'!$H$190\",TRUE)),\"\",INDIRECT(\"'B&U_\"&A86&\"'!$H$190\",TRUE)),1)","v":{"$error":"#VALUE!"}},{"$f":"COUNTIF(IF(ISERROR(INDIRECT(\"'B&U_\"&A86&\"'!$H$199\",TRUE)),\"\",INDIRECT(\"'B&U_\"&A86&\"'!$H$199\",TRUE)),1)","v":{"$error":"#VALUE!"}},null,null,"Tilsyn 25",null,null,null,null,null,null,null,null,null,null,{"$error":"#REF!"},{"$error":"#REF!"},{"$error":"#REF!"},{"$error":"#REF!"},{"$error":"#REF!"},{"$error":"#REF!"},{"$error":"#REF!"}]
["Tilsyn 9","Status:  gul",null,null,null,null,null,null,null,null,{"$f":"COUNTIF(IF(ISERROR(INDIRECT(\"'B&U_\"&A87&\"'!$H$33\",TRUE)),\"\",INDIRECT(\"'B&U_\"&A87&\"'!$H$33\",TRUE)),2)","v":{"$error":"#VALUE!"}},{"$f":"COUNTIF(IF(ISERROR(INDIRECT(\"'B&U_\"&A87&\"'!$h$42\",TRUE)),\"\",INDIRECT(\"'B&U_\"&A87&\"'!$h$42\",TRUE)),2)","v":{"$error":"#VALUE!"}},{"$f":"COUNTIF(IF(ISERROR(INDIRECT(\"'B&U_\"&A87&\"'!$H$66\",TRUE)),\"\",INDIRECT(\"'B&U_\"&A87&\"'!$H$66\",TRUE)),2)","v":{"$error":"#VALUE!"}},{"$f":"COUNTIF(IF(ISERROR(INDIRECT(\"'B&U_\"&A87&\"'!$H$97\",TRUE)),\"\",INDIRECT(\"'B&U_\"&A87&\"'!$H$97\",TRUE)),2)","v":{"$error":"#VALUE!"}},{"$f":"COUNTIF(IF(ISERROR(INDIRECT(\"'B&U_\"&A87&\"'!$H$128\",TRUE)),\"\",INDIRECT(\"'B&U_\"&A87&\"'!$H$128\",TRUE)),2)","v":{"$error":"#VALUE!"}},{"$f":"COUNTIF(IF(ISERROR(INDIRECT(\"'B&U_\"&A87&\"'!$H$160\",TRUE)),\"\",INDIRECT(\"'B&U_\"&A87&\"'!$H$160\",TRUE)),2)","v":{"$error":"#VALUE!"}},{"$f":"COUNTIF(IF(ISERROR(INDIRECT(\"'B&U_\"&A87&\"'!$H$190\",TRUE)),\"\",INDIRECT(\"'B&U_\"&A87&\"'!$H$190\",TRUE)),2)","v":{"$error":"#VALUE!"}},{"$f":"COUNTIF(IF(ISERROR(INDIRECT(\"'B&U_\"&A87&\"'!$H$199\",TRUE)),\"\",INDIRECT(\"'B&U_\"&A87&\"'!$H$199\",TRUE)),2)","v":{"$error":"#VALUE!"}},null,null,"Tilsyn 26",null,null,null,null,null,null,null,null,null,null,{"$error":"#REF!"},{"$error":"#REF!"},{"$error":"#REF!"},{"$error":"#REF!"},{"$error":"#REF!"},{"$error":"#REF!"},{"$error":"#REF!"}]
["Tilsyn 9","Status:  rød",null,null,null,null,null,null,null,null,{"$f":"COUNTIF(IF(ISERROR(INDIRECT(\"'B&U_\"&A88&\"'!$H$33\",TRUE)),\"\",INDIRECT(\"'B&U_\"&A88&\"'!$H$33\",TRUE)),3)","v":{"$error":"#VALUE!"}},{"$f":"COUNTIF(IF(ISERROR(INDIRECT(\"'B&U_\"&A88&\"'!$h$42\",TRUE)),\"\",INDIRECT(\"'B&U_\"&A88&\"'!$h$42\",TRUE)),3)","v":{"$error":"#VALUE!"}},{"$f":"COUNTIF(IF(ISERROR(INDIRECT(\"'B&U_\"&A88&\"'!$H$66\",TRUE)),\"\",INDIRECT(\"'B&U_\"&A88&\"'!$H$66\",TRUE)),3)","v":{"$error":"#VALUE!"}},{"$f":"COUNTIF(IF(ISERROR(INDIRECT(\"'B&U_\"&A88&\"'!$H$97\",TRUE)),\"\",INDIRECT(\"'B&U_\"&A88&\"'!$H$97\",TRUE)),3)","v":{"$error":"#VALUE!"}},{"$f":"COUNTIF(IF(ISERROR(INDIRECT(\"'B&U_\"&A88&\"'!$H$128\",TRUE)),\"\",INDIRECT(\"'B&U_\"&A88&\"'!$H$128\",TRUE)),3)","v":{"$error":"#VALUE!"}},{"$f":"COUNTIF(IF(ISERROR(INDIRECT(\"'B&U_\"&A88&\"'!$H$160\",TRUE)),\"\",INDIRECT(\"'B&U_\"&A88&\"'!$H$160\",TRUE)),3)","v":{"$error":"#VALUE!"}},{"$f":"COUNTIF(IF(ISERROR(INDIRECT(\"'B&U_\"&A88&\"'!$H$190\",TRUE)),\"\",INDIRECT(\"'B&U_\"&A88&\"'!$H$190\",TRUE)),3)","v":{"$error":"#VALUE!"}},{"$f":"COUNTIF(IF(ISERROR(INDIRECT(\"'B&U_\"&A88&\"'!$H$199\",TRUE)),\"\",INDIRECT(\"'B&U_\"&A88&\"'!$H$199\",TRUE)),3)","v":{"$error":"#VALUE!"}},null,null,"Tilsyn 27",null,null,null,null,null,null,null,null,null,null,{"$error":"#REF!"},{"$error":"#REF!"},{"$error":"#REF!"},{"$error":"#REF!"},{"$error":"#REF!"},{"$error":"#REF!"},{"$error":"#REF!"}]
["Tilsyn 10","Status:  grøn",null,null,null,null,null,null,null,null,{"$f":"COUNTIF(IF(ISERROR(INDIRECT(\"'B&U_\"&A89&\"'!$H$33\",TRUE)),\"\",INDIRECT(\"'B&U_\"&A89&\"'!$H$33\",TRUE)),1)","v":{"$error":"#VALUE!"}},{"$f":"COUNTIF(IF(ISERROR(INDIRECT(\"'B&U_\"&A89&\"'!$h$42\",TRUE)),\"\",INDIRECT(\"'B&U_\"&A89&\"'!$h$42\",TRUE)),1)","v":{"$error":"#VALUE!"}},{"$f":"COUNTIF(IF(ISERROR(INDIRECT(\"'B&U_\"&A89&\"'!$H$66\",TRUE)),\"\",INDIRECT(\"'B&U_\"&A89&\"'!$H$66\",TRUE)),1)","v":{"$error":"#VALUE!"}},{"$f":"COUNTIF(IF(ISERROR(INDIRECT(\"'B&U_\"&A89&\"'!$H$97\",TRUE)),\"\",INDIRECT(\"'B&U_\"&A89&\"'!$H$97\",TRUE)),1)","v":{"$error":"#VALUE!"}},{"$f":"COUNTIF(IF(ISERROR(INDIRECT(\"'B&U_\"&A89&\"'!$H$128\",TRUE)),\"\",INDIRECT(\"'B&U_\"&A89&\"'!$H$128\",TRUE)),1)","v":{"$error":"#VALUE!"}},{"$f":"COUNTIF(IF(ISERROR(INDIRECT(\"'B&U_\"&A89&\"'!$H$160\",TRUE)),\"\",INDIRECT(\"'B&U_\"&A89&\"'!$H$160\",TRUE)),1)","v":{"$error":"#VALUE!"}},{"$f":"COUNTIF(IF(ISERROR(INDIRECT(\"'B&U_\"&A89&\"'!$H$190\",TRUE)),\"\",INDIRECT(\"'B&U_\"&A89&\"'!$H$190\",TRUE)),1)","v":{"$error":"#VALUE!"}},{"$f":"COUNTIF(IF(ISERROR(INDIRECT(\"'B&U_\"&A89&\"'!$H$199\",TRUE)),\"\",INDIRECT(\"'B&U_\"&A89&\"'!$H$199\",TRUE)),1)","v":{"$error":"#VALUE!"}},null,null,"Tilsyn 28",null,null,null,null,null,null,null,null,null,null,{"$error":"#REF!"},{"$error":"#REF!"},{"$error":"#REF!"},{"$error":"#REF!"},{"$error":"#REF!"},{"$error":"#REF!"},{"$error":"#REF!"}]
["Tilsyn 10","Status:  gul",null,null,null,null,null,null,null,null,{"$f":"COUNTIF(IF(ISERROR(INDIRECT(\"'B&U_\"&A90&\"'!$H$33\",TRUE)),\"\",INDIRECT(\"'B&U_\"&A90&\"'!$H$33\",TRUE)),2)","v":{"$error":"#VALUE!"}},{"$f":"COUNTIF(IF(ISERROR(INDIRECT(\"'B&U_\"&A90&\"'!$h$42\",TRUE)),\"\",INDIRECT(\"'B&U_\"&A90&\"'!$h$42\",TRUE)),2)","v":{"$error":"#VALUE!"}},{"$f":"COUNTIF(IF(ISERROR(INDIRECT(\"'B&U_\"&A90&\"'!$H$66\",TRUE)),\"\",INDIRECT(\"'B&U_\"&A90&\"'!$H$66\",TRUE)),2)","v":{"$error":"#VALUE!"}},{"$f":"COUNTIF(IF(ISERROR(INDIRECT(\"'B&U_\"&A90&\"'!$H$97\",TRUE)),\"\",INDIRECT(\"'B&U_\"&A90&\"'!$H$97\",TRUE)),2)","v":{"$error":"#VALUE!"}},{"$f":"COUNTIF(IF(ISERROR(INDIRECT(\"'B&U_\"&A90&\"'!$H$128\",TRUE)),\"\",INDIRECT(\"'B&U_\"&A90&\"'!$H$128\",TRUE)),2)","v":{"$error":"#VALUE!"}},{"$f":"COUNTIF(IF(ISERROR(INDIRECT(\"'B&U_\"&A90&\"'!$H$160\",TRUE)),\"\",INDIRECT(\"'B&U_\"&A90&\"'!$H$160\",TRUE)),2)","v":{"$error":"#VALUE!"}},{"$f":"COUNTIF(IF(ISERROR(INDIRECT(\"'B&U_\"&A90&\"'!$H$190\",TRUE)),\"\",INDIRECT(\"'B&U_\"&A90&\"'!$H$190\",TRUE)),2)","v":{"$error":"#VALUE!"}},{"$f":"COUNTIF(IF(ISERROR(INDIRECT(\"'B&U_\"&A90&\"'!$H$199\",TRUE)),\"\",INDIRECT(\"'B&U_\"&A90&\"'!$H$199\",TRUE)),2)","v":{"$error":"#VALUE!"}},null,null,"Tilsyn 29",null,null,null,null,null,null,null,null,null,null,{"$error":"#REF!"},{"$error":"#REF!"},{"$error":"#REF!"},{"$error":"#REF!"},{"$error":"#REF!"},{"$error":"#REF!"},{"$error":"#REF!"}]
["Tilsyn 10","Status:  rød",null,null,null,null,null,null,null,null,{"$f":"COUNTIF(IF(ISERROR(INDIRECT(\"'B&U_\"&A91&\"'!$H$33\",TRUE)),\"\",INDIRECT(\"'B&U_\"&A91&\"'!$H$33\",TRUE)),3)","v":{"$error":"#VALUE!"}},{"$f":"COUNTIF(IF(ISERROR(INDIRECT(\"'B&U_\"&A91&\"'!$h$42\",TRUE)),\"\",INDIRECT(\"'B&U_\"&A91&\"'!$h$42\",TRUE)),3)","v":{"$error":"#VALUE!"}},{"$f":"COUNTIF(IF(ISERROR(INDIRECT(\"'B&U_\"&A91&\"'!$H$66\",TRUE)),\"\",INDIRECT(\"'B&U_\"&A91&\"'!$H$66\",TRUE)),3)","v":{"$error":"#VALUE!"}},{"$f":"COUNTIF(IF(ISERROR(INDIRECT(\"'B&U_\"&A91&\"'!$H$97\",TRUE)),\"\",INDIRECT(\"'B&U_\"&A91&\"'!$H$97\",TRUE)),3)","v":{"$error":"#VALUE!"}},{"$f":"COUNTIF(IF(ISERROR(INDIRECT(\"'B&U_\"&A91&\"'!$H$128\",TRUE)),\"\",INDIRECT(\"'B&U_\"&A91&\"'!$H$128\",TRUE)),3)","v":{"$error":"#VALUE!"}},{"$f":"COUNTIF(IF(ISERROR(INDIRECT(\"'B&U_\"&A91&\"'!$H$160\",TRUE)),\"\",INDIRECT(\"'B&U_\"&A91&\"'!$H$160\",TRUE)),3)","v":{"$error":"#VALUE!"}},{"$f":"COUNTIF(IF(ISERROR(INDIRECT(\"'B&U_\"&A91&\"'!$H$190\",TRUE)),\"\",INDIRECT(\"'B&U_\"&A91&\"'!$H$190\",TRUE)),3)","v":{"$error":"#VALUE!"}},{"$f":"COUNTIF(IF(ISERROR(INDIRECT(\"'B&U_\"&A91&\"'!$H$199\",TRUE)),\"\",INDIRECT(\"'B&U_\"&A91&\"'!$H$199\",TRUE)),3)","v":{"$error":"#VALUE!"}},null,null,"Tilsyn 30",null,null,null,null,null,null,null,null,null,null,{"$error":"#REF!"},{"$error":"#REF!"},{"$error":"#REF!"},{"$error":"#REF!"},{"$error":"#REF!"},{"$error":"#REF!"},{"$error":"#REF!"}]
["Tilsyn 11","Status:  grøn",null,null,null,null,null,null,null,null,{"$f":"COUNTIF(IF(ISERROR(INDIRECT(\"'B&U_\"&A92&\"'!$H$33\",TRUE)),\"\",INDIRECT(\"'B&U_\"&A92&\"'!$H$33\",TRUE)),1)","v":{"$error":"#VALUE!"}},{"$f":"COUNTIF(IF(ISERROR(INDIRECT(\"'B&U_\"&A92&\"'!$h$42\",TRUE)),\"\",INDIRECT(\"'B&U_\"&A92&\"'!$h$42\",TRUE)),1)","v":{"$error":"#VALUE!"}},{"$f":"COUNTIF(IF(ISERROR(INDIRECT(\"'B&U_\"&A92&\"'!$H$66\",TRUE)),\"\",INDIRECT(\"'B&U_\"&A92&\"'!$H$66\",TRUE)),1)","v":{"$error":"#VALUE!"}},{"$f":"COUNTIF(IF(ISERROR(INDIRECT(\"'B&U_\"&A92&\"'!$H$97\",TRUE)),\"\",INDIRECT(\"'B&U_\"&A92&\"'!$H$97\",TRUE)),1)","v":{"$error":"#VALUE!"}},{"$f":"COUNTIF(IF(ISERROR(INDIRECT(\"'B&U_\"&A92&\"'!$H$128\",TRUE)),\"\",INDIRECT(\"'B&U_\"&A92&\"'!$H$128\",TRUE)),1)","v":{"$error":"#VALUE!"}},{"$f":"COUNTIF(IF(ISERROR(INDIRECT(\"'B&U_\"&A92&\"'!$H$160\",TRUE)),\"\",INDIRECT(\"'B&U_\"&A92&\"'!$H$160\",TRUE)),1)","v":{"$error":"#VALUE!"}},{"$f":"COUNTIF(IF(ISERROR(INDIRECT(\"'B&U_\"&A92&\"'!$H$190\",TRUE)),\"\",INDIRECT(\"'B&U_\"&A92&\"'!$H$190\",TRUE)),1)","v":{"$error":"#VALUE!"}},{"$f":"COUNTIF(IF(ISERROR(INDIRECT(\"'B&U_\"&A92&\"'!$H$199\",TRUE)),\"\",INDIRECT(\"'B&U_\"&A92&\"'!$H$199\",TRUE)),1)","v":{"$error":"#VALUE!"}},null,null,"Tilsyn 31",null,null,null,null,null,null,null,null,null,null,{"$error":"#REF!"},{"$error":"#REF!"},{"$error":"#REF!"},{"$error":"#REF!"},{"$error":"#REF!"},{"$error":"#REF!"},{"$error":"#REF!"}]
["Tilsyn 11","Status:  gul",null,null,null,null,null,null,null,null,{"$f":"COUNTIF(IF(ISERROR(INDIRECT(\"'B&U_\"&A93&\"'!$H$33\",TRUE)),\"\",INDIRECT(\"'B&U_\"&A93&\"'!$H$33\",TRUE)),2)","v":{"$error":"#VALUE!"}},{"$f":"COUNTIF(IF(ISERROR(INDIRECT(\"'B&U_\"&A93&\"'!$h$42\",TRUE)),\"\",INDIRECT(\"'B&U_\"&A93&\"'!$h$42\",TRUE)),2)","v":{"$error":"#VALUE!"}},{"$f":"COUNTIF(IF(ISERROR(INDIRECT(\"'B&U_\"&A93&\"'!$H$66\",TRUE)),\"\",INDIRECT(\"'B&U_\"&A93&\"'!$H$66\",TRUE)),2)","v":{"$error":"#VALUE!"}},{"$f":"COUNTIF(IF(ISERROR(INDIRECT(\"'B&U_\"&A93&\"'!$H$97\",TRUE)),\"\",INDIRECT(\"'B&U_\"&A93&\"'!$H$97\",TRUE)),2)","v":{"$error":"#VALUE!"}},{"$f":"COUNTIF(IF(ISERROR(INDIRECT(\"'B&U_\"&A93&\"'!$H$128\",TRUE)),\"\",INDIRECT(\"'B&U_\"&A93&\"'!$H$128\",TRUE)),2)","v":{"$error":"#VALUE!"}},{"$f":"COUNTIF(IF(ISERROR(INDIRECT(\"'B&U_\"&A93&\"'!$H$160\",TRUE)),\"\",INDIRECT(\"'B&U_\"&A93&\"'!$H$160\",TRUE)),2)","v":{"$error":"#VALUE!"}},{"$f":"COUNTIF(IF(ISERROR(INDIRECT(\"'B&U_\"&A93&\"'!$H$190\",TRUE)),\"\",INDIRECT(\"'B&U_\"&A93&\"'!$H$190\",TRUE)),2)","v":{"$error":"#VALUE!"}},{"$f":"COUNTIF(IF(ISERROR(INDIRECT(\"'B&U_\"&A93&\"'!$H$199\",TRUE)),\"\",INDIRECT(\"'B&U_\"&A93&\"'!$H$199\",TRUE)),2)","v":{"$error":"#VALUE!"}},null,null,"Tilsyn 32",null,null,null,null,null,null,null,null,null,null,{"$error":"#REF!"},{"$error":"#REF!"},{"$error":"#REF!"},{"$error":"#REF!"},{"$error":"#REF!"},{"$error":"#REF!"},{"$error":"#REF!"}]
["Tilsyn 11","Status:  rød",null,null,null,null,null,null,null,null,{"$f":"COUNTIF(IF(ISERROR(INDIRECT(\"'B&U_\"&A94&\"'!$H$33\",TRUE)),\"\",INDIRECT(\"'B&U_\"&A94&\"'!$H$33\",TRUE)),3)","v":{"$error":"#VALUE!"}},{"$f":"COUNTIF(IF(ISERROR(INDIRECT(\"'B&U_\"&A94&\"'!$h$42\",TRUE)),\"\",INDIRECT(\"'B&U_\"&A94&\"'!$h$42\",TRUE)),3)","v":{"$error":"#VALUE!"}},{"$f":"COUNTIF(IF(ISERROR(INDIRECT(\"'B&U_\"&A94&\"'!$H$66\",TRUE)),\"\",INDIRECT(\"'B&U_\"&A94&\"'!$H$66\",TRUE)),3)","v":{"$error":"#VALUE!"}},{"$f":"COUNTIF(IF(ISERROR(INDIRECT(\"'B&U_\"&A94&\"'!$H$97\",TRUE)),\"\",INDIRECT(\"'B&U_\"&A94&\"'!$H$97\",TRUE)),3)","v":{"$error":"#VALUE!"}},{"$f":"COUNTIF(IF(ISERROR(INDIRECT(\"'B&U_\"&A94&\"'!$H$128\",TRUE)),\"\",INDIRECT(\"'B&U_\"&A94&\"'!$H$128\",TRUE)),3)","v":{"$error":"#VALUE!"}},{"$f":"COUNTIF(IF(ISERROR(INDIRECT(\"'B&U_\"&A94&\"'!$H$160\",TRUE)),\"\",INDIRECT(\"'B&U_\"&A94&\"'!$H$160\",TRUE)),3)","v":{"$error":"#VALUE!"}},{"$f":"COUNTIF(IF(ISERROR(INDIRECT(\"'B&U_\"&A94&\"'!$H$190\",TRUE)),\"\",INDIRECT(\"'B&U_\"&A94&\"'!$H$190\",TRUE)),3)","v":{"$error":"#VALUE!"}},{"$f":"COUNTIF(IF(ISERROR(INDIRECT(\"'B&U_\"&A94&\"'!$H$199\",TRUE)),\"\",INDIRECT(\"'B&U_\"&A94&\"'!$H$199\",TRUE)),3)","v":{"$error":"#VALUE!"}},null,null,"Tilsyn 33",null,null,null,null,null,null,null,null,null,null,{"$f":"IF(INDIRECT(\"'B&U_\"&U94&\"'!$c$245\")=\"\",\"\",IFERROR(INDIRECT(\"'B&U_\"&U94&\"'!$c$245\",TRUE),\"\"))","v":{"$error":"#REF!"}},{"$f":"IF(INDIRECT(\"'B&U_\"&U94&\"'!$c$259\")=\"\",\"\",IFERROR(INDIRECT(\"'B&U_\"&U94&\"'!$c$259\",TRUE),\"\"))","v":{"$error":"#REF!"}},{"$f":"IF(INDIRECT(\"'B&U_\"&U94&\"'!$c$295\")=\"\",\"\",IFERROR(INDIRECT(\"'B&U_\"&U94&\"'!$c$295\",TRUE),\"\"))","v":{"$error":"#REF!"}},{"$f":"IF(INDIRECT(\"'B&U_\"&U94&\"'!$c$351\")=\"\",\"\",IFERROR(INDIRECT(\"'B&U_\"&U94&\"'!$c$351\",TRUE),\"\"))","v":{"$error":"#REF!"}},{"$f":"IF(INDIRECT(\"'B&U_\"&U94&\"'!$c$384\")=\"\",\"\",IFERROR(INDIRECT(\"'B&U_\"&U94&\"'!$c$384\",TRUE),\"\"))","v":{"$error":"#REF!"}},{"$f":"IF(INDIRECT(\"'B&U_\"&U94&\"'!$c$418\")=\"\",\"\",IFERROR(INDIRECT(\"'B&U_\"&U94&\"'!$c$418\",TRUE),\"\"))","v":{"$error":"#REF!"}},{"$f":"IF(INDIRECT(\"'B&U_\"&U94&\"'!$c$428\")=\"\",\"\",IFERROR(INDIRECT(\"'B&U_\"&U94&\"'!$c$428\",TRUE),\"\"))","v":{"$error":"#REF!"}}]
["Tilsyn 12","Status:  grøn",null,null,null,null,null,null,null,null,{"$f":"COUNTIF(IF(ISERROR(INDIRECT(\"'B&U_\"&A95&\"'!$H$33\",TRUE)),\"\",INDIRECT(\"'B&U_\"&A95&\"'!$H$33\",TRUE)),1)","v":{"$error":"#VALUE!"}},{"$f":"COUNTIF(IF(ISERROR(INDIRECT(\"'B&U_\"&A95&\"'!$h$42\",TRUE)),\"\",INDIRECT(\"'B&U_\"&A95&\"'!$h$42\",TRUE)),1)","v":{"$error":"#VALUE!"}},{"$f":"COUNTIF(IF(ISERROR(INDIRECT(\"'B&U_\"&A95&\"'!$H$66\",TRUE)),\"\",INDIRECT(\"'B&U_\"&A95&\"'!$H$66\",TRUE)),1)","v":{"$error":"#VALUE!"}},{"$f":"COUNTIF(IF(ISERROR(INDIRECT(\"'B&U_\"&A95&\"'!$H$97\",TRUE)),\"\",INDIRECT(\"'B&U_\"&A95&\"'!$H$97\",TRUE)),1)","v":{"$error":"#VALUE!"}},{"$f":"COUNTIF(IF(ISERROR(INDIRECT(\"'B&U_\"&A95&\"'!$H$128\",TRUE)),\"\",INDIRECT(\"'B&U_\"&A95&\"'!$H$128\",TRUE)),1)","v":{"$error":"#VALUE!"}},{"$f":"COUNTIF(IF(ISERROR(INDIRECT(\"'B&U_\"&A95&\"'!$H$160\",TRUE)),\"\",INDIRECT(\"'B&U_\"&A95&\"'!$H$160\",TRUE)),1)","v":{"$error":"#VALUE!"}},{"$f":"COUNTIF(IF(ISERROR(INDIRECT(\"'B&U_\"&A95&\"'!$H$190\",TRUE)),\"\",INDIRECT(\"'B&U_\"&A95&\"'!$H$190\",TRUE)),1)","v":{"$error":"#VALUE!"}},{"$f":"COUNTIF(IF(ISERROR(INDIRECT(\"'B&U_\"&A95&\"'!$H$199\",TRUE)),\"\",INDIRECT(\"'B&U_\"&A95&\"'!$H$199\",TRUE)),1)","v":{"$error":"#VALUE!"}},null,null,"Tilsyn 34",null,null,null,null,null,null,null,null,null,null,{"$error":"#REF!"},{"$error":"#REF!"},{"$error":"#REF!"},{"$error":"#REF!"},{"$error":"#REF!"},{"$error":"#REF!"},{"$error":"#REF!"}]
["Tilsyn 12","Status:  gul",null,null,null,null,null,null,null,null,{"$f":"COUNTIF(IF(ISERROR(INDIRECT(\"'B&U_\"&A96&\"'!$H$33\",TRUE)),\"\",INDIRECT(\"'B&U_\"&A96&\"'!$H$33\",TRUE)),2)","v":{"$error":"#VALUE!"}},{"$f":"COUNTIF(IF(ISERROR(INDIRECT(\"'B&U_\"&A96&\"'!$h$42\",TRUE)),\"\",INDIRECT(\"'B&U_\"&A96&\"'!$h$42\",TRUE)),2)","v":{"$error":"#VALUE!"}},{"$f":"COUNTIF(IF(ISERROR(INDIRECT(\"'B&U_\"&A96&\"'!$H$66\",TRUE)),\"\",INDIRECT(\"'B&U_\"&A96&\"'!$H$66\",TRUE)),2)","v":{"$error":"#VALUE!"}},{"$f":"COUNTIF(IF(ISERROR(INDIRECT(\"'B&U_\"&A96&\"'!$H$97\",TRUE)),\"\",INDIRECT(\"'B&U_\"&A96&\"'!$H$97\",TRUE)),2)","v":{"$error":"#VALUE!"}},{"$f":"COUNTIF(IF(ISERROR(INDIRECT(\"'B&U_\"&A96&\"'!$H$128\",TRUE)),\"\",INDIRECT(\"'B&U_\"&A96&\"'!$H$128\",TRUE)),2)","v":{"$error":"#VALUE!"}},{"$f":"COUNTIF(IF(ISERROR(INDIRECT(\"'B&U_\"&A96&\"'!$H$160\",TRUE)),\"\",INDIRECT(\"'B&U_\"&A96&\"'!$H$160\",TRUE)),2)","v":{"$error":"#VALUE!"}},{"$f":"COUNTIF(IF(ISERROR(INDIRECT(\"'B&U_\"&A96&\"'!$H$190\",TRUE)),\"\",INDIRECT(\"'B&U_\"&A96&\"'!$H$190\",TRUE)),2)","v":{"$error":"#VALUE!"}},{"$f":"COUNTIF(IF(ISERROR(INDIRECT(\"'B&U_\"&A96&\"'!$H$199\",TRUE)),\"\",INDIRECT(\"'B&U_\"&A96&\"'!$H$199\",TRUE)),2)","v":{"$error":"#VALUE!"}},null,null,"Tilsyn 35",null,null,null,null,null,null,null,null,null,null,{"$error":"#REF!"},{"$error":"#REF!"},{"$error":"#REF!"},{"$error":"#REF!"},{"$error":"#REF!"},{"$error":"#REF!"},{"$error":"#REF!"}]
["Tilsyn 12","Status:  rød",null,null,null,null,null,null,null,null,{"$f":"COUNTIF(IF(ISERROR(INDIRECT(\"'B&U_\"&A97&\"'!$H$33\",TRUE)),\"\",INDIRECT(\"'B&U_\"&A97&\"'!$H$33\",TRUE)),3)","v":{"$error":"#VALUE!"}},{"$f":"COUNTIF(IF(ISERROR(INDIRECT(\"'B&U_\"&A97&\"'!$h$42\",TRUE)),\"\",INDIRECT(\"'B&U_\"&A97&\"'!$h$42\",TRUE)),3)","v":{"$error":"#VALUE!"}},{"$f":"COUNTIF(IF(ISERROR(INDIRECT(\"'B&U_\"&A97&\"'!$H$66\",TRUE)),\"\",INDIRECT(\"'B&U_\"&A97&\"'!$H$66\",TRUE)),3)","v":{"$error":"#VALUE!"}},{"$f":"COUNTIF(IF(ISERROR(INDIRECT(\"'B&U_\"&A97&\"'!$H$97\",TRUE)),\"\",INDIRECT(\"'B&U_\"&A97&\"'!$H$97\",TRUE)),3)","v":{"$error":"#VALUE!"}},{"$f":"COUNTIF(IF(ISERROR(INDIRECT(\"'B&U_\"&A97&\"'!$H$128\",TRUE)),\"\",INDIRECT(\"'B&U_\"&A97&\"'!$H$128\",TRUE)),3)","v":{"$error":"#VALUE!"}},{"$f":"COUNTIF(IF(ISERROR(INDIRECT(\"'B&U_\"&A97&\"'!$H$160\",TRUE)),\"\",INDIRECT(\"'B&U_\"&A97&\"'!$H$160\",TRUE)),3)","v":{"$error":"#VALUE!"}},{"$f":"COUNTIF(IF(ISERROR(INDIRECT(\"'B&U_\"&A97&\"'!$H$190\",TRUE)),\"\",INDIRECT(\"'B&U_\"&A97&\"'!$H$190\",TRUE)),3)","v":{"$error":"#VALUE!"}},{"$f":"COUNTIF(IF(ISERROR(INDIRECT(\"'B&U_\"&A97&\"'!$H$199\",TRUE)),\"\",INDIRECT(\"'B&U_\"&A97&\"'!$H$199\",TRUE)),3)","v":{"$error":"#VALUE!"}},null,null,"Tilsyn 36",null,null,null,null,null,null,null,null,null,null,{"$error":"#REF!"},{"$error":"#REF!"},{"$error":"#REF!"},{"$error":"#REF!"},{"$error":"#REF!"},{"$error":"#REF!"},{"$error":"#REF!"}]
["Tilsyn 13","Status:  grøn",null,null,null,null,null,null,null,null,{"$f":"COUNTIF(IF(ISERROR(INDIRECT(\"'B&U_\"&A98&\"'!$H$33\",TRUE)),\"\",INDIRECT(\"'B&U_\"&A98&\"'!$H$33\",TRUE)),1)","v":{"$error":"#VALUE!"}},{"$f":"COUNTIF(IF(ISERROR(INDIRECT(\"'B&U_\"&A98&\"'!$h$42\",TRUE)),\"\",INDIRECT(\"'B&U_\"&A98&\"'!$h$42\",TRUE)),1)","v":{"$error":"#VALUE!"}},{"$f":"COUNTIF(IF(ISERROR(INDIRECT(\"'B&U_\"&A98&\"'!$H$66\",TRUE)),\"\",INDIRECT(\"'B&U_\"&A98&\"'!$H$66\",TRUE)),1)","v":{"$error":"#VALUE!"}},{"$f":"COUNTIF(IF(ISERROR(INDIRECT(\"'B&U_\"&A98&\"'!$H$97\",TRUE)),\"\",INDIRECT(\"'B&U_\"&A98&\"'!$H$97\",TRUE)),1)","v":{"$error":"#VALUE!"}},{"$f":"COUNTIF(IF(ISERROR(INDIRECT(\"'B&U_\"&A98&\"'!$H$128\",TRUE)),\"\",INDIRECT(\"'B&U_\"&A98&\"'!$H$128\",TRUE)),1)","v":{"$error":"#VALUE!"}},{"$f":"COUNTIF(IF(ISERROR(INDIRECT(\"'B&U_\"&A98&\"'!$H$160\",TRUE)),\"\",INDIRECT(\"'B&U_\"&A98&\"'!$H$160\",TRUE)),1)","v":{"$error":"#VALUE!"}},{"$f":"COUNTIF(IF(ISERROR(INDIRECT(\"'B&U_\"&A98&\"'!$H$190\",TRUE)),\"\",INDIRECT(\"'B&U_\"&A98&\"'!$H$190\",TRUE)),1)","v":{"$error":"#VALUE!"}},{"$f":"COUNTIF(IF(ISERROR(INDIRECT(\"'B&U_\"&A98&\"'!$H$199\",TRUE)),\"\",INDIRECT(\"'B&U_\"&A98&\"'!$H$199\",TRUE)),1)","v":{"$error":"#VALUE!"}},null,null,"Tilsyn 37",null,null,null,null,null,null,null,null,null,null,{"$error":"#REF!"},{"$error":"#REF!"},{"$error":"#REF!"},{"$error":"#REF!"},{"$error":"#REF!"},{"$error":"#REF!"},{"$error":"#REF!"}]
["Tilsyn 13","Status:  gul",null,null,null,null,null,null,null,null,{"$f":"COUNTIF(IF(ISERROR(INDIRECT(\"'B&U_\"&A99&\"'!$H$33\",TRUE)),\"\",INDIRECT(\"'B&U_\"&A99&\"'!$H$33\",TRUE)),2)","v":{"$error":"#VALUE!"}},{"$f":"COUNTIF(IF(ISERROR(INDIRECT(\"'B&U_\"&A99&\"'!$h$42\",TRUE)),\"\",INDIRECT(\"'B&U_\"&A99&\"'!$h$42\",TRUE)),2)","v":{"$error":"#VALUE!"}},{"$f":"COUNTIF(IF(ISERROR(INDIRECT(\"'B&U_\"&A99&\"'!$H$66\",TRUE)),\"\",INDIRECT(\"'B&U_\"&A99&\"'!$H$66\",TRUE)),2)","v":{"$error":"#VALUE!"}},{"$f":"COUNTIF(IF(ISERROR(INDIRECT(\"'B&U_\"&A99&\"'!$H$97\",TRUE)),\"\",INDIRECT(\"'B&U_\"&A99&\"'!$H$97\",TRUE)),2)","v":{"$error":"#VALUE!"}},{"$f":"COUNTIF(IF(ISERROR(INDIRECT(\"'B&U_\"&A99&\"'!$H$128\",TRUE)),\"\",INDIRECT(\"'B&U_\"&A99&\"'!$H$128\",TRUE)),2)","v":{"$error":"#VALUE!"}},{"$f":"COUNTIF(IF(ISERROR(INDIRECT(\"'B&U_\"&A99&\"'!$H$160\",TRUE)),\"\",INDIRECT(\"'B&U_\"&A99&\"'!$H$160\",TRUE)),2)","v":{"$error":"#VALUE!"}},{"$f":"COUNTIF(IF(ISERROR(INDIRECT(\"'B&U_\"&A99&\"'!$H$190\",TRUE)),\"\",INDIRECT(\"'B&U_\"&A99&\"'!$H$190\",TRUE)),2)","v":{"$error":"#VALUE!"}},{"$f":"COUNTIF(IF(ISERROR(INDIRECT(\"'B&U_\"&A99&\"'!$H$199\",TRUE)),\"\",INDIRECT(\"'B&U_\"&A99&\"'!$H$199\",TRUE)),2)","v":{"$error":"#VALUE!"}},null,null,"Tilsyn 38",null,null,null,null,null,null,null,null,null,null,{"$error":"#REF!"},{"$error":"#REF!"},{"$error":"#REF!"},{"$error":"#REF!"},{"$error":"#REF!"},{"$error":"#REF!"},{"$error":"#REF!"}]
["Tilsyn 13","Status:  rød",null,null,null,null,null,null,null,null,{"$f":"COUNTIF(IF(ISERROR(INDIRECT(\"'B&U_\"&A100&\"'!$H$33\",TRUE)),\"\",INDIRECT(\"'B&U_\"&A100&\"'!$H$33\",TRUE)),3)","v":{"$error":"#VALUE!"}},{"$f":"COUNTIF(IF(ISERROR(INDIRECT(\"'B&U_\"&A100&\"'!$h$42\",TRUE)),\"\",INDIRECT(\"'B&U_\"&A100&\"'!$h$42\",TRUE)),3)","v":{"$error":"#VALUE!"}},{"$f":"COUNTIF(IF(ISERROR(INDIRECT(\"'B&U_\"&A100&\"'!$H$66\",TRUE)),\"\",INDIRECT(\"'B&U_\"&A100&\"'!$H$66\",TRUE)),3)","v":{"$error":"#VALUE!"}},{"$f":"COUNTIF(IF(ISERROR(INDIRECT(\"'B&U_\"&A100&\"'!$H$97\",TRUE)),\"\",INDIRECT(\"'B&U_\"&A100&\"'!$H$97\",TRUE)),3)","v":{"$error":"#VALUE!"}},{"$f":"COUNTIF(IF(ISERROR(INDIRECT(\"'B&U_\"&A100&\"'!$H$128\",TRUE)),\"\",INDIRECT(\"'B&U_\"&A100&\"'!$H$128\",TRUE)),3)","v":{"$error":"#VALUE!"}},{"$f":"COUNTIF(IF(ISERROR(INDIRECT(\"'B&U_\"&A100&\"'!$H$160\",TRUE)),\"\",INDIRECT(\"'B&U_\"&A100&\"'!$H$160\",TRUE)),3)","v":{"$error":"#VALUE!"}},{"$f":"COUNTIF(IF(ISERROR(INDIRECT(\"'B&U_\"&A100&\"'!$H$190\",TRUE)),\"\",INDIRECT(\"'B&U_\"&A100&\"'!$H$190\",TRUE)),3)","v":{"$error":"#VALUE!"}},{"$f":"COUNTIF(IF(ISERROR(INDIRECT(\"'B&U_\"&A100&\"'!$H$199\",TRUE)),\"\",INDIRECT(\"'B&U_\"&A100&\"'!$H$199\",TRUE)),3)","v":{"$error":"#VALUE!"}},null,null,"Tilsyn 39",null,null,null,null,null,null,null,null,null,null,{"$error":"#REF!"},{"$error":"#REF!"},{"$error":"#REF!"},{"$error":"#REF!"},{"$error":"#REF!"},{"$error":"#REF!"},{"$error":"#REF!"}]
["Tilsyn 14","Status:  grøn",null,null,null,null,null,null,null,null,{"$f":"COUNTIF(IF(ISERROR(INDIRECT(\"'B&U_\"&A101&\"'!$H$33\",TRUE)),\"\",INDIRECT(\"'B&U_\"&A101&\"'!$H$33\",TRUE)),1)","v":{"$error":"#VALUE!"}},{"$f":"COUNTIF(IF(ISERROR(INDIRECT(\"'B&U_\"&A101&\"'!$h$42\",TRUE)),\"\",INDIRECT(\"'B&U_\"&A101&\"'!$h$42\",TRUE)),1)","v":{"$error":"#VALUE!"}},{"$f":"COUNTIF(IF(ISERROR(INDIRECT(\"'B&U_\"&A101&\"'!$H$66\",TRUE)),\"\",INDIRECT(\"'B&U_\"&A101&\"'!$H$66\",TRUE)),1)","v":{"$error":"#VALUE!"}},{"$f":"COUNTIF(IF(ISERROR(INDIRECT(\"'B&U_\"&A101&\"'!$H$97\",TRUE)),\"\",INDIRECT(\"'B&U_\"&A101&\"'!$H$97\",TRUE)),1)","v":{"$error":"#VALUE!"}},{"$f":"COUNTIF(IF(ISERROR(INDIRECT(\"'B&U_\"&A101&\"'!$H$128\",TRUE)),\"\",INDIRECT(\"'B&U_\"&A101&\"'!$H$128\",TRUE)),1)","v":{"$error":"#VALUE!"}},{"$f":"COUNTIF(IF(ISERROR(INDIRECT(\"'B&U_\"&A101&\"'!$H$160\",TRUE)),\"\",INDIRECT(\"'B&U_\"&A101&\"'!$H$160\",TRUE)),1)","v":{"$error":"#VALUE!"}},{"$f":"COUNTIF(IF(ISERROR(INDIRECT(\"'B&U_\"&A101&\"'!$H$190\",TRUE)),\"\",INDIRECT(\"'B&U_\"&A101&\"'!$H$190\",TRUE)),1)","v":{"$error":"#VALUE!"}},{"$f":"COUNTIF(IF(ISERROR(INDIRECT(\"'B&U_\"&A101&\"'!$H$199\",TRUE)),\"\",INDIRECT(\"'B&U_\"&A101&\"'!$H$199\",TRUE)),1)","v":{"$error":"#VALUE!"}},null,null,"Tilsyn 40",null,null,null,null,null,null,null,null,null,null,{"$error":"#REF!"},{"$error":"#REF!"},{"$error":"#REF!"},{"$error":"#REF!"},{"$error":"#REF!"},{"$error":"#REF!"},{"$error":"#REF!"}]
["Tilsyn 14","Status:  gul",null,null,null,null,null,null,null,null,{"$f":"COUNTIF(IF(ISERROR(INDIRECT(\"'B&U_\"&A102&\"'!$H$33\",TRUE)),\"\",INDIRECT(\"'B&U_\"&A102&\"'!$H$33\",TRUE)),2)","v":{"$error":"#VALUE!"}},{"$f":"COUNTIF(IF(ISERROR(INDIRECT(\"'B&U_\"&A102&\"'!$h$42\",TRUE)),\"\",INDIRECT(\"'B&U_\"&A102&\"'!$h$42\",TRUE)),2)","v":{"$error":"#VALUE!"}},{"$f":"COUNTIF(IF(ISERROR(INDIRECT(\"'B&U_\"&A102&\"'!$H$66\",TRUE)),\"\",INDIRECT(\"'B&U_\"&A102&\"'!$H$66\",TRUE)),2)","v":{"$error":"#VALUE!"}},{"$f":"COUNTIF(IF(ISERROR(INDIRECT(\"'B&U_\"&A102&\"'!$H$97\",TRUE)),\"\",INDIRECT(\"'B&U_\"&A102&\"'!$H$97\",TRUE)),2)","v":{"$error":"#VALUE!"}},{"$f":"COUNTIF(IF(ISERROR(INDIRECT(\"'B&U_\"&A102&\"'!$H$128\",TRUE)),\"\",INDIRECT(\"'B&U_\"&A102&\"'!$H$128\",TRUE)),2)","v":{"$error":"#VALUE!"}},{"$f":"COUNTIF(IF(ISERROR(INDIRECT(\"'B&U_\"&A102&\"'!$H$160\",TRUE)),\"\",INDIRECT(\"'B&U_\"&A102&\"'!$H$160\",TRUE)),2)","v":{"$error":"#VALUE!"}},{"$f":"COUNTIF(IF(ISERROR(INDIRECT(\"'B&U_\"&A102&\"'!$H$190\",TRUE)),\"\",INDIRECT(\"'B&U_\"&A102&\"'!$H$190\",TRUE)),2)","v":{"$error":"#VALUE!"}},{"$f":"COUNTIF(IF(ISERROR(INDIRECT(\"'B&U_\"&A102&\"'!$H$199\",TRUE)),\"\",INDIRECT(\"'B&U_\"&A102&\"'!$H$199\",TRUE)),2)","v":{"$error":"#VALUE!"}},null,null,"Tilsyn 41",null,null,null,null,null,null,null,null,null,null,{"$error":"#REF!"},{"$error":"#REF!"},{"$error":"#REF!"},{"$error":"#REF!"},{"$error":"#REF!"},{"$error":"#REF!"},{"$error":"#REF!"}]
["Tilsyn 14","Status:  rød",null,null,null,null,null,null,null,null,{"$f":"COUNTIF(IF(ISERROR(INDIRECT(\"'B&U_\"&A103&\"'!$H$33\",TRUE)),\"\",INDIRECT(\"'B&U_\"&A103&\"'!$H$33\",TRUE)),3)","v":{"$error":"#VALUE!"}},{"$f":"COUNTIF(IF(ISERROR(INDIRECT(\"'B&U_\"&A103&\"'!$h$42\",TRUE)),\"\",INDIRECT(\"'B&U_\"&A103&\"'!$h$42\",TRUE)),3)","v":{"$error":"#VALUE!"}},{"$f":"COUNTIF(IF(ISERROR(INDIRECT(\"'B&U_\"&A103&\"'!$H$66\",TRUE)),\"\",INDIRECT(\"'B&U_\"&A103&\"'!$H$66\",TRUE)),3)","v":{"$error":"#VALUE!"}},{"$f":"COUNTIF(IF(ISERROR(INDIRECT(\"'B&U_\"&A103&\"'!$H$97\",TRUE)),\"\",INDIRECT(\"'B&U_\"&A103&\"'!$H$97\",TRUE)),3)","v":{"$error":"#VALUE!"}},{"$f":"COUNTIF(IF(ISERROR(INDIRECT(\"'B&U_\"&A103&\"'!$H$128\",TRUE)),\"\",INDIRECT(\"'B&U_\"&A103&\"'!$H$128\",TRUE)),3)","v":{"$error":"#VALUE!"}},{"$f":"COUNTIF(IF(ISERROR(INDIRECT(\"'B&U_\"&A103&\"'!$H$160\",TRUE)),\"\",INDIRECT(\"'B&U_\"&A103&\"'!$H$160\",TRUE)),3)","v":{"$error":"#VALUE!"}},{"$f":"COUNTIF(IF(ISERROR(INDIRECT(\"'B&U_\"&A103&\"'!$H$190\",TRUE)),\"\",INDIRECT(\"'B&U_\"&A103&\"'!$H$190\",TRUE)),3)","v":{"$error":"#VALUE!"}},{"$f":"COUNTIF(IF(ISERROR(INDIRECT(\"'B&U_\"&A103&\"'!$H$199\",TRUE)),\"\",INDIRECT(\"'B&U_\"&A103&\"'!$H$199\",TRUE)),3)","v":{"$error":"#VALUE!"}},null,null,"Tilsyn 42",null,null,null,null,null,null,null,null,null,null,{"$error":"#REF!"},{"$error":"#REF!"},{"$error":"#REF!"},{"$error":"#REF!"},{"$error":"#REF!"},{"$error":"#REF!"},{"$error":"#REF!"}]
["Tilsyn 15","Status:  grøn",null,null,null,null,null,null,null,null,{"$f":"COUNTIF(IF(ISERROR(INDIRECT(\"'B&U_\"&A104&\"'!$H$33\",TRUE)),\"\",INDIRECT(\"'B&U_\"&A104&\"'!$H$33\",TRUE)),1)","v":{"$error":"#VALUE!"}},{"$f":"COUNTIF(IF(ISERROR(INDIRECT(\"'B&U_\"&A104&\"'!$h$42\",TRUE)),\"\",INDIRECT(\"'B&U_\"&A104&\"'!$h$42\",TRUE)),1)","v":{"$error":"#VALUE!"}},{"$f":"COUNTIF(IF(ISERROR(INDIRECT(\"'B&U_\"&A104&\"'!$H$66\",TRUE)),\"\",INDIRECT(\"'B&U_\"&A104&\"'!$H$66\",TRUE)),1)","v":{"$error":"#VALUE!"}},{"$f":"COUNTIF(IF(ISERROR(INDIRECT(\"'B&U_\"&A104&\"'!$H$97\",TRUE)),\"\",INDIRECT(\"'B&U_\"&A104&\"'!$H$97\",TRUE)),1)","v":{"$error":"#VALUE!"}},{"$f":"COUNTIF(IF(ISERROR(INDIRECT(\"'B&U_\"&A104&\"'!$H$128\",TRUE)),\"\",INDIRECT(\"'B&U_\"&A104&\"'!$H$128\",TRUE)),1)","v":{"$error":"#VALUE!"}},{"$f":"COUNTIF(IF(ISERROR(INDIRECT(\"'B&U_\"&A104&\"'!$H$160\",TRUE)),\"\",INDIRECT(\"'B&U_\"&A104&\"'!$H$160\",TRUE)),1)","v":{"$error":"#VALUE!"}},{"$f":"COUNTIF(IF(ISERROR(INDIRECT(\"'B&U_\"&A104&\"'!$H$190\",TRUE)),\"\",INDIRECT(\"'B&U_\"&A104&\"'!$H$190\",TRUE)),1)","v":{"$error":"#VALUE!"}},{"$f":"COUNTIF(IF(ISERROR(INDIRECT(\"'B&U_\"&A104&\"'!$H$199\",TRUE)),\"\",INDIRECT(\"'B&U_\"&A104&\"'!$H$199\",TRUE)),1)","v":{"$error":"#VALUE!"}},null,null,"Tilsyn 43",null,null,null,null,null,null,null,null,null,null,{"$error":"#REF!"},{"$error":"#REF!"},{"$error":"#REF!"},{"$error":"#REF!"},{"$error":"#REF!"},{"$error":"#REF!"},{"$error":"#REF!"}]
["Tilsyn 15","Status:  gul",null,null,null,null,null,null,null,null,{"$f":"COUNTIF(IF(ISERROR(INDIRECT(\"'B&U_\"&A105&\"'!$H$33\",TRUE)),\"\",INDIRECT(\"'B&U_\"&A105&\"'!$H$33\",TRUE)),2)","v":{"$error":"#VALUE!"}},{"$f":"COUNTIF(IF(ISERROR(INDIRECT(\"'B&U_\"&A105&\"'!$h$42\",TRUE)),\"\",INDIRECT(\"'B&U_\"&A105&\"'!$h$42\",TRUE)),2)","v":{"$error":"#VALUE!"}},{"$f":"COUNTIF(IF(ISERROR(INDIRECT(\"'B&U_\"&A105&\"'!$H$66\",TRUE)),\"\",INDIRECT(\"'B&U_\"&A105&\"'!$H$66\",TRUE)),2)","v":{"$error":"#VALUE!"}},{"$f":"COUNTIF(IF(ISERROR(INDIRECT(\"'B&U_\"&A105&\"'!$H$97\",TRUE)),\"\",INDIRECT(\"'B&U_\"&A105&\"'!$H$97\",TRUE)),2)","v":{"$error":"#VALUE!"}},{"$f":"COUNTIF(IF(ISERROR(INDIRECT(\"'B&U_\"&A105&\"'!$H$128\",TRUE)),\"\",INDIRECT(\"'B&U_\"&A105&\"'!$H$128\",TRUE)),2)","v":{"$error":"#VALUE!"}},{"$f":"COUNTIF(IF(ISERROR(INDIRECT(\"'B&U_\"&A105&\"'!$H$160\",TRUE)),\"\",INDIRECT(\"'B&U_\"&A105&\"'!$H$160\",TRUE)),2)","v":{"$error":"#VALUE!"}},{"$f":"COUNTIF(IF(ISERROR(INDIRECT(\"'B&U_\"&A105&\"'!$H$190\",TRUE)),\"\",INDIRECT(\"'B&U_\"&A105&\"'!$H$190\",TRUE)),2)","v":{"$error":"#VALUE!"}},{"$f":"COUNTIF(IF(ISERROR(INDIRECT(\"'B&U_\"&A105&\"'!$H$199\",TRUE)),\"\",INDIRECT(\"'B&U_\"&A105&\"'!$H$199\",TRUE)),2)","v":{"$error":"#VALUE!"}},null,null,"Tilsyn 44",null,null,null,null,null,null,null,null,null,null,{"$error":"#REF!"},{"$error":"#REF!"},{"$error":"#REF!"},{"$error":"#REF!"},{"$error":"#REF!"},{"$error":"#REF!"},{"$error":"#REF!"}]
["Tilsyn 15","Status:  rød",null,null,null,null,null,null,null,null,{"$f":"COUNTIF(IF(ISERROR(INDIRECT(\"'B&U_\"&A106&\"'!$H$33\",TRUE)),\"\",INDIRECT(\"'B&U_\"&A106&\"'!$H$33\",TRUE)),3)","v":{"$error":"#VALUE!"}},{"$f":"COUNTIF(IF(ISERROR(INDIRECT(\"'B&U_\"&A106&\"'!$h$42\",TRUE)),\"\",INDIRECT(\"'B&U_\"&A106&\"'!$h$42\",TRUE)),3)","v":{"$error":"#VALUE!"}},{"$f":"COUNTIF(IF(ISERROR(INDIRECT(\"'B&U_\"&A106&\"'!$H$66\",TRUE)),\"\",INDIRECT(\"'B&U_\"&A106&\"'!$H$66\",TRUE)),3)","v":{"$error":"#VALUE!"}},{"$f":"COUNTIF(IF(ISERROR(INDIRECT(\"'B&U_\"&A106&\"'!$H$97\",TRUE)),\"\",INDIRECT(\"'B&U_\"&A106&\"'!$H$97\",TRUE)),3)","v":{"$error":"#VALUE!"}},{"$f":"COUNTIF(IF(ISERROR(INDIRECT(\"'B&U_\"&A106&\"'!$H$128\",TRUE)),\"\",INDIRECT(\"'B&U_\"&A106&\"'!$H$128\",TRUE)),3)","v":{"$error":"#VALUE!"}},{"$f":"COUNTIF(IF(ISERROR(INDIRECT(\"'B&U_\"&A106&\"'!$H$160\",TRUE)),\"\",INDIRECT(\"'B&U_\"&A106&\"'!$H$160\",TRUE)),3)","v":{"$error":"#VALUE!"}},{"$f":"COUNTIF(IF(ISERROR(INDIRECT(\"'B&U_\"&A106&\"'!$H$190\",TRUE)),\"\",INDIRECT(\"'B&U_\"&A106&\"'!$H$190\",TRUE)),3)","v":{"$error":"#VALUE!"}},{"$f":"COUNTIF(IF(ISERROR(INDIRECT(\"'B&U_\"&A106&\"'!$H$199\",TRUE)),\"\",INDIRECT(\"'B&U_\"&A106&\"'!$H$199\",TRUE)),3)","v":{"$error":"#VALUE!"}},null,null,"Tilsyn 45",null,null,null,null,null,null,null,null,null,null,{"$error":"#REF!"},{"$error":"#REF!"},{"$error":"#REF!"},{"$error":"#REF!"},{"$error":"#REF!"},{"$error":"#REF!"},{"$error":"#REF!"}]
["Tilsyn 16","Status:  grøn",null,null,null,null,null,null,null,null,{"$f":"COUNTIF(IF(ISERROR(INDIRECT(\"'B&U_\"&A107&\"'!$H$33\",TRUE)),\"\",INDIRECT(\"'B&U_\"&A107&\"'!$H$33\",TRUE)),1)","v":{"$error":"#VALUE!"}},{"$f":"COUNTIF(IF(ISERROR(INDIRECT(\"'B&U_\"&A107&\"'!$h$42\",TRUE)),\"\",INDIRECT(\"'B&U_\"&A107&\"'!$h$42\",TRUE)),1)","v":{"$error":"#VALUE!"}},{"$f":"COUNTIF(IF(ISERROR(INDIRECT(\"'B&U_\"&A107&\"'!$H$66\",TRUE)),\"\",INDIRECT(\"'B&U_\"&A107&\"'!$H$66\",TRUE)),1)","v":{"$error":"#VALUE!"}},{"$f":"COUNTIF(IF(ISERROR(INDIRECT(\"'B&U_\"&A107&\"'!$H$97\",TRUE)),\"\",INDIRECT(\"'B&U_\"&A107&\"'!$H$97\",TRUE)),1)","v":{"$error":"#VALUE!"}},{"$f":"COUNTIF(IF(ISERROR(INDIRECT(\"'B&U_\"&A107&\"'!$H$128\",TRUE)),\"\",INDIRECT(\"'B&U_\"&A107&\"'!$H$128\",TRUE)),1)","v":{"$error":"#VALUE!"}},{"$f":"COUNTIF(IF(ISERROR(INDIRECT(\"'B&U_\"&A107&\"'!$H$160\",TRUE)),\"\",INDIRECT(\"'B&U_\"&A107&\"'!$H$160\",TRUE)),1)","v":{"$error":"#VALUE!"}},{"$f":"COUNTIF(IF(ISERROR(INDIRECT(\"'B&U_\"&A107&\"'!$H$190\",TRUE)),\"\",INDIRECT(\"'B&U_\"&A107&\"'!$H$190\",TRUE)),1)","v":{"$error":"#VALUE!"}},{"$f":"COUNTIF(IF(ISERROR(INDIRECT(\"'B&U_\"&A107&\"'!$H$199\",TRUE)),\"\",INDIRECT(\"'B&U_\"&A107&\"'!$H$199\",TRUE)),1)","v":{"$error":"#VALUE!"}},null,null,"Tilsyn 46",null,null,null,null,null,null,null,null,null,null,{"$error":"#REF!"},{"$error":"#REF!"},{"$error":"#REF!"},{"$error":"#REF!"},{"$error":"#REF!"},{"$error":"#REF!"},{"$error":"#REF!"}]
["Tilsyn 16","Status:  gul",null,null,null,null,null,null,null,null,{"$f":"COUNTIF(IF(ISERROR(INDIRECT(\"'B&U_\"&A108&\"'!$H$33\",TRUE)),\"\",INDIRECT(\"'B&U_\"&A108&\"'!$H$33\",TRUE)),2)","v":{"$error":"#VALUE!"}},{"$f":"COUNTIF(IF(ISERROR(INDIRECT(\"'B&U_\"&A108&\"'!$h$42\",TRUE)),\"\",INDIRECT(\"'B&U_\"&A108&\"'!$h$42\",TRUE)),2)","v":{"$error":"#VALUE!"}},{"$f":"COUNTIF(IF(ISERROR(INDIRECT(\"'B&U_\"&A108&\"'!$H$66\",TRUE)),\"\",INDIRECT(\"'B&U_\"&A108&\"'!$H$66\",TRUE)),2)","v":{"$error":"#VALUE!"}},{"$f":"COUNTIF(IF(ISERROR(INDIRECT(\"'B&U_\"&A108&\"'!$H$97\",TRUE)),\"\",INDIRECT(\"'B&U_\"&A108&\"'!$H$97\",TRUE)),2)","v":{"$error":"#VALUE!"}},{"$f":"COUNTIF(IF(ISERROR(INDIRECT(\"'B&U_\"&A108&\"'!$H$128\",TRUE)),\"\",INDIRECT(\"'B&U_\"&A108&\"'!$H$128\",TRUE)),2)","v":{"$error":"#VALUE!"}},{"$f":"COUNTIF(IF(ISERROR(INDIRECT(\"'B&U_\"&A108&\"'!$H$160\",TRUE)),\"\",INDIRECT(\"'B&U_\"&A108&\"'!$H$160\",TRUE)),2)","v":{"$error":"#VALUE!"}},{"$f":"COUNTIF(IF(ISERROR(INDIRECT(\"'B&U_\"&A108&\"'!$H$190\",TRUE)),\"\",INDIRECT(\"'B&U_\"&A108&\"'!$H$190\",TRUE)),2)","v":{"$error":"#VALUE!"}},{"$f":"COUNTIF(IF(ISERROR(INDIRECT(\"'B&U_\"&A108&\"'!$H$199\",TRUE)),\"\",INDIRECT(\"'B&U_\"&A108&\"'!$H$199\",TRUE)),2)","v":{"$error":"#VALUE!"}},null,null,"Tilsyn 47",null,null,null,null,null,null,null,null,null,null,{"$error":"#REF!"},{"$error":"#REF!"},{"$error":"#REF!"},{"$error":"#REF!"},{"$error":"#REF!"},{"$error":"#REF!"},{"$error":"#REF!"}]
["Tilsyn 16","Status:  rød",null,null,null,null,null,null,null,null,{"$f":"COUNTIF(IF(ISERROR(INDIRECT(\"'B&U_\"&A109&\"'!$H$33\",TRUE)),\"\",INDIRECT(\"'B&U_\"&A109&\"'!$H$33\",TRUE)),3)","v":{"$error":"#VALUE!"}},{"$f":"COUNTIF(IF(ISERROR(INDIRECT(\"'B&U_\"&A109&\"'!$h$42\",TRUE)),\"\",INDIRECT(\"'B&U_\"&A109&\"'!$h$42\",TRUE)),3)","v":{"$error":"#VALUE!"}},{"$f":"COUNTIF(IF(ISERROR(INDIRECT(\"'B&U_\"&A109&\"'!$H$66\",TRUE)),\"\",INDIRECT(\"'B&U_\"&A109&\"'!$H$66\",TRUE)),3)","v":{"$error":"#VALUE!"}},{"$f":"COUNTIF(IF(ISERROR(INDIRECT(\"'B&U_\"&A109&\"'!$H$97\",TRUE)),\"\",INDIRECT(\"'B&U_\"&A109&\"'!$H$97\",TRUE)),3)","v":{"$error":"#VALUE!"}},{"$f":"COUNTIF(IF(ISERROR(INDIRECT(\"'B&U_\"&A109&\"'!$H$128\",TRUE)),\"\",INDIRECT(\"'B&U_\"&A109&\"'!$H$128\",TRUE)),3)","v":{"$error":"#VALUE!"}},{"$f":"COUNTIF(IF(ISERROR(INDIRECT(\"'B&U_\"&A109&\"'!$H$160\",TRUE)),\"\",INDIRECT(\"'B&U_\"&A109&\"'!$H$160\",TRUE)),3)","v":{"$error":"#VALUE!"}},{"$f":"COUNTIF(IF(ISERROR(INDIRECT(\"'B&U_\"&A109&\"'!$H$190\",TRUE)),\"\",INDIRECT(\"'B&U_\"&A109&\"'!$H$190\",TRUE)),3)","v":{"$error":"#VALUE!"}},{"$f":"COUNTIF(IF(ISERROR(INDIRECT(\"'B&U_\"&A109&\"'!$H$199\",TRUE)),\"\",INDIRECT(\"'B&U_\"&A109&\"'!$H$199\",TRUE)),3)","v":{"$error":"#VALUE!"}},null,null,"Tilsyn 48",null,null,null,null,null,null,null,null,null,null,{"$error":"#REF!"},{"$error":"#REF!"},{"$error":"#REF!"},{"$error":"#REF!"},{"$error":"#REF!"},{"$error":"#REF!"},{"$error":"#REF!"}]
["Tilsyn 17","Status:  grøn",null,null,null,null,null,null,null,null,{"$f":"COUNTIF(IF(ISERROR(INDIRECT(\"'B&U_\"&A110&\"'!$H$33\",TRUE)),\"\",INDIRECT(\"'B&U_\"&A110&\"'!$H$33\",TRUE)),1)","v":{"$error":"#VALUE!"}},{"$f":"COUNTIF(IF(ISERROR(INDIRECT(\"'B&U_\"&A110&\"'!$h$42\",TRUE)),\"\",INDIRECT(\"'B&U_\"&A110&\"'!$h$42\",TRUE)),1)","v":{"$error":"#VALUE!"}},{"$f":"COUNTIF(IF(ISERROR(INDIRECT(\"'B&U_\"&A110&\"'!$H$66\",TRUE)),\"\",INDIRECT(\"'B&U_\"&A110&\"'!$H$66\",TRUE)),1)","v":{"$error":"#VALUE!"}},{"$f":"COUNTIF(IF(ISERROR(INDIRECT(\"'B&U_\"&A110&\"'!$H$97\",TRUE)),\"\",INDIRECT(\"'B&U_\"&A110&\"'!$H$97\",TRUE)),1)","v":{"$error":"#VALUE!"}},{"$f":"COUNTIF(IF(ISERROR(INDIRECT(\"'B&U_\"&A110&\"'!$H$128\",TRUE)),\"\",INDIRECT(\"'B&U_\"&A110&\"'!$H$128\",TRUE)),1)","v":{"$error":"#VALUE!"}},{"$f":"COUNTIF(IF(ISERROR(INDIRECT(\"'B&U_\"&A110&\"'!$H$160\",TRUE)),\"\",INDIRECT(\"'B&U_\"&A110&\"'!$H$160\",TRUE)),1)","v":{"$error":"#VALUE!"}},{"$f":"COUNTIF(IF(ISERROR(INDIRECT(\"'B&U_\"&A110&\"'!$H$190\",TRUE)),\"\",INDIRECT(\"'B&U_\"&A110&\"'!$H$190\",TRUE)),1)","v":{"$error":"#VALUE!"}},{"$f":"COUNTIF(IF(ISERROR(INDIRECT(\"'B&U_\"&A110&\"'!$H$199\",TRUE)),\"\",INDIRECT(\"'B&U_\"&A110&\"'!$H$199\",TRUE)),1)","v":{"$error":"#VALUE!"}},null,null,"Tilsyn 49",null,null,null,null,null,null,null,null,null,null,{"$error":"#REF!"},{"$error":"#REF!"},{"$error":"#REF!"},{"$error":"#REF!"},{"$error":"#REF!"},{"$error":"#REF!"},{"$error":"#REF!"}]
["Tilsyn 17","Status:  gul",null,null,null,null,null,null,null,null,{"$f":"COUNTIF(IF(ISERROR(INDIRECT(\"'B&U_\"&A111&\"'!$H$33\",TRUE)),\"\",INDIRECT(\"'B&U_\"&A111&\"'!$H$33\",TRUE)),2)","v":{"$error":"#VALUE!"}},{"$f":"COUNTIF(IF(ISERROR(INDIRECT(\"'B&U_\"&A111&\"'!$h$42\",TRUE)),\"\",INDIRECT(\"'B&U_\"&A111&\"'!$h$42\",TRUE)),2)","v":{"$error":"#VALUE!"}},{"$f":"COUNTIF(IF(ISERROR(INDIRECT(\"'B&U_\"&A111&\"'!$H$66\",TRUE)),\"\",INDIRECT(\"'B&U_\"&A111&\"'!$H$66\",TRUE)),2)","v":{"$error":"#VALUE!"}},{"$f":"COUNTIF(IF(ISERROR(INDIRECT(\"'B&U_\"&A111&\"'!$H$97\",TRUE)),\"\",INDIRECT(\"'B&U_\"&A111&\"'!$H$97\",TRUE)),2)","v":{"$error":"#VALUE!"}},{"$f":"COUNTIF(IF(ISERROR(INDIRECT(\"'B&U_\"&A111&\"'!$H$128\",TRUE)),\"\",INDIRECT(\"'B&U_\"&A111&\"'!$H$128\",TRUE)),2)","v":{"$error":"#VALUE!"}},{"$f":"COUNTIF(IF(ISERROR(INDIRECT(\"'B&U_\"&A111&\"'!$H$160\",TRUE)),\"\",INDIRECT(\"'B&U_\"&A111&\"'!$H$160\",TRUE)),2)","v":{"$error":"#VALUE!"}},{"$f":"COUNTIF(IF(ISERROR(INDIRECT(\"'B&U_\"&A111&\"'!$H$190\",TRUE)),\"\",INDIRECT(\"'B&U_\"&A111&\"'!$H$190\",TRUE)),2)","v":{"$error":"#VALUE!"}},{"$f":"COUNTIF(IF(ISERROR(INDIRECT(\"'B&U_\"&A111&\"'!$H$199\",TRUE)),\"\",INDIRECT(\"'B&U_\"&A111&\"'!$H$199\",TRUE)),2)","v":{"$error":"#VALUE!"}},null,null,"Tilsyn 50",null,null,null,null,null,null,null,null,null,null,{"$error":"#REF!"},{"$error":"#REF!"},{"$error":"#REF!"},{"$error":"#REF!"},{"$error":"#REF!"},{"$error":"#REF!"},{"$error":"#REF!"}]
["Tilsyn 17","Status:  rød",null,null,null,null,null,null,null,null,{"$f":"COUNTIF(IF(ISERROR(INDIRECT(\"'B&U_\"&A112&\"'!$H$33\",TRUE)),\"\",INDIRECT(\"'B&U_\"&A112&\"'!$H$33\",TRUE)),3)","v":{"$error":"#VALUE!"}},{"$f":"COUNTIF(IF(ISERROR(INDIRECT(\"'B&U_\"&A112&\"'!$h$42\",TRUE)),\"\",INDIRECT(\"'B&U_\"&A112&\"'!$h$42\",TRUE)),3)","v":{"$error":"#VALUE!"}},{"$f":"COUNTIF(IF(ISERROR(INDIRECT(\"'B&U_\"&A112&\"'!$H$66\",TRUE)),\"\",INDIRECT(\"'B&U_\"&A112&\"'!$H$66\",TRUE)),3)","v":{"$error":"#VALUE!"}},{"$f":"COUNTIF(IF(ISERROR(INDIRECT(\"'B&U_\"&A112&\"'!$H$97\",TRUE)),\"\",INDIRECT(\"'B&U_\"&A112&\"'!$H$97\",TRUE)),3)","v":{"$error":"#VALUE!"}},{"$f":"COUNTIF(IF(ISERROR(INDIRECT(\"'B&U_\"&A112&\"'!$H$128\",TRUE)),\"\",INDIRECT(\"'B&U_\"&A112&\"'!$H$128\",TRUE)),3)","v":{"$error":"#VALUE!"}},{"$f":"COUNTIF(IF(ISERROR(INDIRECT(\"'B&U_\"&A112&\"'!$H$160\",TRUE)),\"\",INDIRECT(\"'B&U_\"&A112&\"'!$H$160\",TRUE)),3)","v":{"$error":"#VALUE!"}},{"$f":"COUNTIF(IF(ISERROR(INDIRECT(\"'B&U_\"&A112&\"'!$H$190\",TRUE)),\"\",INDIRECT(\"'B&U_\"&A112&\"'!$H$190\",TRUE)),3)","v":{"$error":"#VALUE!"}},{"$f":"COUNTIF(IF(ISERROR(INDIRECT(\"'B&U_\"&A112&\"'!$H$199\",TRUE)),\"\",INDIRECT(\"'B&U_\"&A112&\"'!$H$199\",TRUE)),3)","v":{"$error":"#VALUE!"}},null,null,"Tilsyn 51",null,null,null,null,null,null,null,null,null,null,{"$error":"#REF!"},{"$error":"#REF!"},{"$error":"#REF!"},{"$error":"#REF!"},{"$error":"#REF!"},{"$error":"#REF!"},{"$error":"#REF!"}]
["Tilsyn 18","Status:  grøn",null,null,null,null,null,null,null,null,{"$f":"COUNTIF(IF(ISERROR(INDIRECT(\"'B&U_\"&A113&\"'!$H$33\",TRUE)),\"\",INDIRECT(\"'B&U_\"&A113&\"'!$H$33\",TRUE)),1)","v":{"$error":"#VALUE!"}},{"$f":"COUNTIF(IF(ISERROR(INDIRECT(\"'B&U_\"&A113&\"'!$h$42\",TRUE)),\"\",INDIRECT(\"'B&U_\"&A113&\"'!$h$42\",TRUE)),1)","v":{"$error":"#VALUE!"}},{"$f":"COUNTIF(IF(ISERROR(INDIRECT(\"'B&U_\"&A113&\"'!$H$66\",TRUE)),\"\",INDIRECT(\"'B&U_\"&A113&\"'!$H$66\",TRUE)),1)","v":{"$error":"#VALUE!"}},{"$f":"COUNTIF(IF(ISERROR(INDIRECT(\"'B&U_\"&A113&\"'!$H$97\",TRUE)),\"\",INDIRECT(\"'B&U_\"&A113&\"'!$H$97\",TRUE)),1)","v":{"$error":"#VALUE!"}},{"$f":"COUNTIF(IF(ISERROR(INDIRECT(\"'B&U_\"&A113&\"'!$H$128\",TRUE)),\"\",INDIRECT(\"'B&U_\"&A113&\"'!$H$128\",TRUE)),1)","v":{"$error":"#VALUE!"}},{"$f":"COUNTIF(IF(ISERROR(INDIRECT(\"'B&U_\"&A113&\"'!$H$160\",TRUE)),\"\",INDIRECT(\"'B&U_\"&A113&\"'!$H$160\",TRUE)),1)","v":{"$error":"#VALUE!"}},{"$f":"COUNTIF(IF(ISERROR(INDIRECT(\"'B&U_\"&A113&\"'!$H$190\",TRUE)),\"\",INDIRECT(\"'B&U_\"&A113&\"'!$H$190\",TRUE)),1)","v":{"$error":"#VALUE!"}},{"$f":"COUNTIF(IF(ISERROR(INDIRECT(\"'B&U_\"&A113&\"'!$H$199\",TRUE)),\"\",INDIRECT(\"'B&U_\"&A113&\"'!$H$199\",TRUE)),1)","v":{"$error":"#VALUE!"}},null,null,"Tilsyn 52",null,null,null,null,null,null,null,null,null,null,{"$error":"#REF!"},{"$error":"#REF!"},{"$error":"#REF!"},{"$error":"#REF!"},{"$error":"#REF!"},{"$error":"#REF!"},{"$error":"#REF!"}]
["Tilsyn 18","Status:  gul",null,null,null,null,null,null,null,null,{"$f":"COUNTIF(IF(ISERROR(INDIRECT(\"'B&U_\"&A114&\"'!$H$33\",TRUE)),\"\",INDIRECT(\"'B&U_\"&A114&\"'!$H$33\",TRUE)),2)","v":{"$error":"#VALUE!"}},{"$f":"COUNTIF(IF(ISERROR(INDIRECT(\"'B&U_\"&A114&\"'!$h$42\",TRUE)),\"\",INDIRECT(\"'B&U_\"&A114&\"'!$h$42\",TRUE)),2)","v":{"$error":"#VALUE!"}},{"$f":"COUNTIF(IF(ISERROR(INDIRECT(\"'B&U_\"&A114&\"'!$H$66\",TRUE)),\"\",INDIRECT(\"'B&U_\"&A114&\"'!$H$66\",TRUE)),2)","v":{"$error":"#VALUE!"}},{"$f":"COUNTIF(IF(ISERROR(INDIRECT(\"'B&U_\"&A114&\"'!$H$97\",TRUE)),\"\",INDIRECT(\"'B&U_\"&A114&\"'!$H$97\",TRUE)),2)","v":{"$error":"#VALUE!"}},{"$f":"COUNTIF(IF(ISERROR(INDIRECT(\"'B&U_\"&A114&\"'!$H$128\",TRUE)),\"\",INDIRECT(\"'B&U_\"&A114&\"'!$H$128\",TRUE)),2)","v":{"$error":"#VALUE!"}},{"$f":"COUNTIF(IF(ISERROR(INDIRECT(\"'B&U_\"&A114&\"'!$H$160\",TRUE)),\"\",INDIRECT(\"'B&U_\"&A114&\"'!$H$160\",TRUE)),2)","v":{"$error":"#VALUE!"}},{"$f":"COUNTIF(IF(ISERROR(INDIRECT(\"'B&U_\"&A114&\"'!$H$190\",TRUE)),\"\",INDIRECT(\"'B&U_\"&A114&\"'!$H$190\",TRUE)),2)","v":{"$error":"#VALUE!"}},{"$f":"COUNTIF(IF(ISERROR(INDIRECT(\"'B&U_\"&A114&\"'!$H$199\",TRUE)),\"\",INDIRECT(\"'B&U_\"&A114&\"'!$H$199\",TRUE)),2)","v":{"$error":"#VALUE!"}},null,null,"Tilsyn 53",null,null,null,null,null,null,null,null,null,null,{"$error":"#REF!"},{"$error":"#REF!"},{"$error":"#REF!"},{"$error":"#REF!"},{"$error":"#REF!"},{"$error":"#REF!"},{"$error":"#REF!"}]
["Tilsyn 18","Status:  rød",null,null,null,null,null,null,null,null,{"$f":"COUNTIF(IF(ISERROR(INDIRECT(\"'B&U_\"&A115&\"'!$H$33\",TRUE)),\"\",INDIRECT(\"'B&U_\"&A115&\"'!$H$33\",TRUE)),3)","v":{"$error":"#VALUE!"}},{"$f":"COUNTIF(IF(ISERROR(INDIRECT(\"'B&U_\"&A115&\"'!$h$42\",TRUE)),\"\",INDIRECT(\"'B&U_\"&A115&\"'!$h$42\",TRUE)),3)","v":{"$error":"#VALUE!"}},{"$f":"COUNTIF(IF(ISERROR(INDIRECT(\"'B&U_\"&A115&\"'!$H$66\",TRUE)),\"\",INDIRECT(\"'B&U_\"&A115&\"'!$H$66\",TRUE)),3)","v":{"$error":"#VALUE!"}},{"$f":"COUNTIF(IF(ISERROR(INDIRECT(\"'B&U_\"&A115&\"'!$H$97\",TRUE)),\"\",INDIRECT(\"'B&U_\"&A115&\"'!$H$97\",TRUE)),3)","v":{"$error":"#VALUE!"}},{"$f":"COUNTIF(IF(ISERROR(INDIRECT(\"'B&U_\"&A115&\"'!$H$128\",TRUE)),\"\",INDIRECT(\"'B&U_\"&A115&\"'!$H$128\",TRUE)),3)","v":{"$error":"#VALUE!"}},{"$f":"COUNTIF(IF(ISERROR(INDIRECT(\"'B&U_\"&A115&\"'!$H$160\",TRUE)),\"\",INDIRECT(\"'B&U_\"&A115&\"'!$H$160\",TRUE)),3)","v":{"$error":"#VALUE!"}},{"$f":"COUNTIF(IF(ISERROR(INDIRECT(\"'B&U_\"&A115&\"'!$H$190\",TRUE)),\"\",INDIRECT(\"'B&U_\"&A115&\"'!$H$190\",TRUE)),3)","v":{"$error":"#VALUE!"}},{"$f":"COUNTIF(IF(ISERROR(INDIRECT(\"'B&U_\"&A115&\"'!$H$199\",TRUE)),\"\",INDIRECT(\"'B&U_\"&A115&\"'!$H$199\",TRUE)),3)","v":{"$error":"#VALUE!"}},null,null,"Tilsyn 54",null,null,null,null,null,null,null,null,null,null,{"$error":"#REF!"},{"$error":"#REF!"},{"$error":"#REF!"},{"$error":"#REF!"},{"$error":"#REF!"},{"$error":"#REF!"},{"$error":"#REF!"}]
["Tilsyn 19","Status:  grøn",null,null,null,null,null,null,null,null,{"$f":"COUNTIF(IF(ISERROR(INDIRECT(\"'B&U_\"&A116&\"'!$H$33\",TRUE)),\"\",INDIRECT(\"'B&U_\"&A116&\"'!$H$33\",TRUE)),1)","v":{"$error":"#VALUE!"}},{"$f":"COUNTIF(IF(ISERROR(INDIRECT(\"'B&U_\"&A116&\"'!$h$42\",TRUE)),\"\",INDIRECT(\"'B&U_\"&A116&\"'!$h$42\",TRUE)),1)","v":{"$error":"#VALUE!"}},{"$f":"COUNTIF(IF(ISERROR(INDIRECT(\"'B&U_\"&A116&\"'!$H$66\",TRUE)),\"\",INDIRECT(\"'B&U_\"&A116&\"'!$H$66\",TRUE)),1)","v":{"$error":"#VALUE!"}},{"$f":"COUNTIF(IF(ISERROR(INDIRECT(\"'B&U_\"&A116&\"'!$H$97\",TRUE)),\"\",INDIRECT(\"'B&U_\"&A116&\"'!$H$97\",TRUE)),1)","v":{"$error":"#VALUE!"}},{"$f":"COUNTIF(IF(ISERROR(INDIRECT(\"'B&U_\"&A116&\"'!$H$128\",TRUE)),\"\",INDIRECT(\"'B&U_\"&A116&\"'!$H$128\",TRUE)),1)","v":{"$error":"#VALUE!"}},{"$f":"COUNTIF(IF(ISERROR(INDIRECT(\"'B&U_\"&A116&\"'!$H$160\",TRUE)),\"\",INDIRECT(\"'B&U_\"&A116&\"'!$H$160\",TRUE)),1)","v":{"$error":"#VALUE!"}},{"$f":"COUNTIF(IF(ISERROR(INDIRECT(\"'B&U_\"&A116&\"'!$H$190\",TRUE)),\"\",INDIRECT(\"'B&U_\"&A116&\"'!$H$190\",TRUE)),1)","v":{"$error":"#VALUE!"}},{"$f":"COUNTIF(IF(ISERROR(INDIRECT(\"'B&U_\"&A116&\"'!$H$199\",TRUE)),\"\",INDIRECT(\"'B&U_\"&A116&\"'!$H$199\",TRUE)),1)","v":{"$error":"#VALUE!"}},null,null,"Tilsyn 55",null,null,null,null,null,null,null,null,null,null,{"$error":"#REF!"},{"$error":"#REF!"},{"$error":"#REF!"},{"$error":"#REF!"},{"$error":"#REF!"},{"$error":"#REF!"},{"$error":"#REF!"}]
["Tilsyn 19","Status:  gul",null,null,null,null,null,null,null,null,{"$f":"COUNTIF(IF(ISERROR(INDIRECT(\"'B&U_\"&A117&\"'!$H$33\",TRUE)),\"\",INDIRECT(\"'B&U_\"&A117&\"'!$H$33\",TRUE)),2)","v":{"$error":"#VALUE!"}},{"$f":"COUNTIF(IF(ISERROR(INDIRECT(\"'B&U_\"&A117&\"'!$h$42\",TRUE)),\"\",INDIRECT(\"'B&U_\"&A117&\"'!$h$42\",TRUE)),2)","v":{"$error":"#VALUE!"}},{"$f":"COUNTIF(IF(ISERROR(INDIRECT(\"'B&U_\"&A117&\"'!$H$66\",TRUE)),\"\",INDIRECT(\"'B&U_\"&A117&\"'!$H$66\",TRUE)),2)","v":{"$error":"#VALUE!"}},{"$f":"COUNTIF(IF(ISERROR(INDIRECT(\"'B&U_\"&A117&\"'!$H$97\",TRUE)),\"\",INDIRECT(\"'B&U_\"&A117&\"'!$H$97\",TRUE)),2)","v":{"$error":"#VALUE!"}},{"$f":"COUNTIF(IF(ISERROR(INDIRECT(\"'B&U_\"&A117&\"'!$H$128\",TRUE)),\"\",INDIRECT(\"'B&U_\"&A117&\"'!$H$128\",TRUE)),2)","v":{"$error":"#VALUE!"}},{"$f":"COUNTIF(IF(ISERROR(INDIRECT(\"'B&U_\"&A117&\"'!$H$160\",TRUE)),\"\",INDIRECT(\"'B&U_\"&A117&\"'!$H$160\",TRUE)),2)","v":{"$error":"#VALUE!"}},{"$f":"COUNTIF(IF(ISERROR(INDIRECT(\"'B&U_\"&A117&\"'!$H$190\",TRUE)),\"\",INDIRECT(\"'B&U_\"&A117&\"'!$H$190\",TRUE)),2)","v":{"$error":"#VALUE!"}},{"$f":"COUNTIF(IF(ISERROR(INDIRECT(\"'B&U_\"&A117&\"'!$H$199\",TRUE)),\"\",INDIRECT(\"'B&U_\"&A117&\"'!$H$199\",TRUE)),2)","v":{"$error":"#VALUE!"}},null,null,"Tilsyn 56",null,null,null,null,null,null,null,null,null,null,{"$error":"#REF!"},{"$error":"#REF!"},{"$error":"#REF!"},{"$error":"#REF!"},{"$error":"#REF!"},{"$error":"#REF!"},{"$error":"#REF!"}]
["Tilsyn 19","Status:  rød",null,null,null,null,null,null,null,null,{"$f":"COUNTIF(IF(ISERROR(INDIRECT(\"'B&U_\"&A118&\"'!$H$33\",TRUE)),\"\",INDIRECT(\"'B&U_\"&A118&\"'!$H$33\",TRUE)),3)","v":{"$error":"#VALUE!"}},{"$f":"COUNTIF(IF(ISERROR(INDIRECT(\"'B&U_\"&A118&\"'!$h$42\",TRUE)),\"\",INDIRECT(\"'B&U_\"&A118&\"'!$h$42\",TRUE)),3)","v":{"$error":"#VALUE!"}},{"$f":"COUNTIF(IF(ISERROR(INDIRECT(\"'B&U_\"&A118&\"'!$H$66\",TRUE)),\"\",INDIRECT(\"'B&U_\"&A118&\"'!$H$66\",TRUE)),3)","v":{"$error":"#VALUE!"}},{"$f":"COUNTIF(IF(ISERROR(INDIRECT(\"'B&U_\"&A118&\"'!$H$97\",TRUE)),\"\",INDIRECT(\"'B&U_\"&A118&\"'!$H$97\",TRUE)),3)","v":{"$error":"#VALUE!"}},{"$f":"COUNTIF(IF(ISERROR(INDIRECT(\"'B&U_\"&A118&\"'!$H$128\",TRUE)),\"\",INDIRECT(\"'B&U_\"&A118&\"'!$H$128\",TRUE)),3)","v":{"$error":"#VALUE!"}},{"$f":"COUNTIF(IF(ISERROR(INDIRECT(\"'B&U_\"&A118&\"'!$H$160\",TRUE)),\"\",INDIRECT(\"'B&U_\"&A118&\"'!$H$160\",TRUE)),3)","v":{"$error":"#VALUE!"}},{"$f":"COUNTIF(IF(ISERROR(INDIRECT(\"'B&U_\"&A118&\"'!$H$190\",TRUE)),\"\",INDIRECT(\"'B&U_\"&A118&\"'!$H$190\",TRUE)),3)","v":{"$error":"#VALUE!"}},{"$f":"COUNTIF(IF(ISERROR(INDIRECT(\"'B&U_\"&A118&\"'!$H$199\",TRUE)),\"\",INDIRECT(\"'B&U_\"&A118&\"'!$H$199\",TRUE)),3)","v":{"$error":"#VALUE!"}},null,null,"Tilsyn 57",null,null,null,null,null,null,null,null,null,null,{"$error":"#REF!"},{"$error":"#REF!"},{"$error":"#REF!"},{"$error":"#REF!"},{"$error":"#REF!"},{"$error":"#REF!"},{"$error":"#REF!"}]
["Tilsyn 20","Status:  grøn",null,null,null,null,null,null,null,null,{"$f":"COUNTIF(IF(ISERROR(INDIRECT(\"'B&U_\"&A119&\"'!$H$33\",TRUE)),\"\",INDIRECT(\"'B&U_\"&A119&\"'!$H$33\",TRUE)),1)","v":{"$error":"#VALUE!"}},{"$f":"COUNTIF(IF(ISERROR(INDIRECT(\"'B&U_\"&A119&\"'!$h$42\",TRUE)),\"\",INDIRECT(\"'B&U_\"&A119&\"'!$h$42\",TRUE)),1)","v":{"$error":"#VALUE!"}},{"$f":"COUNTIF(IF(ISERROR(INDIRECT(\"'B&U_\"&A119&\"'!$H$66\",TRUE)),\"\",INDIRECT(\"'B&U_\"&A119&\"'!$H$66\",TRUE)),1)","v":{"$error":"#VALUE!"}},{"$f":"COUNTIF(IF(ISERROR(INDIRECT(\"'B&U_\"&A119&\"'!$H$97\",TRUE)),\"\",INDIRECT(\"'B&U_\"&A119&\"'!$H$97\",TRUE)),1)","v":{"$error":"#VALUE!"}},{"$f":"COUNTIF(IF(ISERROR(INDIRECT(\"'B&U_\"&A119&\"'!$H$128\",TRUE)),\"\",INDIRECT(\"'B&U_\"&A119&\"'!$H$128\",TRUE)),1)","v":{"$error":"#VALUE!"}},{"$f":"COUNTIF(IF(ISERROR(INDIRECT(\"'B&U_\"&A119&\"'!$H$160\",TRUE)),\"\",INDIRECT(\"'B&U_\"&A119&\"'!$H$160\",TRUE)),1)","v":{"$error":"#VALUE!"}},{"$f":"COUNTIF(IF(ISERROR(INDIRECT(\"'B&U_\"&A119&\"'!$H$190\",TRUE)),\"\",INDIRECT(\"'B&U_\"&A119&\"'!$H$190\",TRUE)),1)","v":{"$error":"#VALUE!"}},{"$f":"COUNTIF(IF(ISERROR(INDIRECT(\"'B&U_\"&A119&\"'!$H$199\",TRUE)),\"\",INDIRECT(\"'B&U_\"&A119&\"'!$H$199\",TRUE)),1)","v":{"$error":"#VALUE!"}},null,null,"Tilsyn 58",null,null,null,null,null,null,null,null,null,null,{"$error":"#REF!"},{"$error":"#REF!"},{"$error":"#REF!"},{"$error":"#REF!"},{"$error":"#REF!"},{"$error":"#REF!"},{"$error":"#REF!"}]
["Tilsyn 20","Status:  gul",null,null,null,null,null,null,null,null,{"$f":"COUNTIF(IF(ISERROR(INDIRECT(\"'B&U_\"&A120&\"'!$H$33\",TRUE)),\"\",INDIRECT(\"'B&U_\"&A120&\"'!$H$33\",TRUE)),2)","v":{"$error":"#VALUE!"}},{"$f":"COUNTIF(IF(ISERROR(INDIRECT(\"'B&U_\"&A120&\"'!$h$42\",TRUE)),\"\",INDIRECT(\"'B&U_\"&A120&\"'!$h$42\",TRUE)),2)","v":{"$error":"#VALUE!"}},{"$f":"COUNTIF(IF(ISERROR(INDIRECT(\"'B&U_\"&A120&\"'!$H$66\",TRUE)),\"\",INDIRECT(\"'B&U_\"&A120&\"'!$H$66\",TRUE)),2)","v":{"$error":"#VALUE!"}},{"$f":"COUNTIF(IF(ISERROR(INDIRECT(\"'B&U_\"&A120&\"'!$H$97\",TRUE)),\"\",INDIRECT(\"'B&U_\"&A120&\"'!$H$97\",TRUE)),2)","v":{"$error":"#VALUE!"}},{"$f":"COUNTIF(IF(ISERROR(INDIRECT(\"'B&U_\"&A120&\"'!$H$128\",TRUE)),\"\",INDIRECT(\"'B&U_\"&A120&\"'!$H$128\",TRUE)),2)","v":{"$error":"#VALUE!"}},{"$f":"COUNTIF(IF(ISERROR(INDIRECT(\"'B&U_\"&A120&\"'!$H$160\",TRUE)),\"\",INDIRECT(\"'B&U_\"&A120&\"'!$H$160\",TRUE)),2)","v":{"$error":"#VALUE!"}},{"$f":"COUNTIF(IF(ISERROR(INDIRECT(\"'B&U_\"&A120&\"'!$H$190\",TRUE)),\"\",INDIRECT(\"'B&U_\"&A120&\"'!$H$190\",TRUE)),2)","v":{"$error":"#VALUE!"}},{"$f":"COUNTIF(IF(ISERROR(INDIRECT(\"'B&U_\"&A120&\"'!$H$199\",TRUE)),\"\",INDIRECT(\"'B&U_\"&A120&\"'!$H$199\",TRUE)),2)","v":{"$error":"#VALUE!"}},null,null,"Tilsyn 59",null,null,null,null,null,null,null,null,null,null,{"$error":"#REF!"},{"$error":"#REF!"},{"$error":"#REF!"},{"$error":"#REF!"},{"$error":"#REF!"},{"$error":"#REF!"},{"$error":"#REF!"}]
["Tilsyn 20","Status:  rød",null,null,null,null,null,null,null,null,{"$f":"COUNTIF(IF(ISERROR(INDIRECT(\"'B&U_\"&A121&\"'!$H$33\",TRUE)),\"\",INDIRECT(\"'B&U_\"&A121&\"'!$H$33\",TRUE)),3)","v":{"$error":"#VALUE!"}},{"$f":"COUNTIF(IF(ISERROR(INDIRECT(\"'B&U_\"&A121&\"'!$h$42\",TRUE)),\"\",INDIRECT(\"'B&U_\"&A121&\"'!$h$42\",TRUE)),3)","v":{"$error":"#VALUE!"}},{"$f":"COUNTIF(IF(ISERROR(INDIRECT(\"'B&U_\"&A121&\"'!$H$66\",TRUE)),\"\",INDIRECT(\"'B&U_\"&A121&\"'!$H$66\",TRUE)),3)","v":{"$error":"#VALUE!"}},{"$f":"COUNTIF(IF(ISERROR(INDIRECT(\"'B&U_\"&A121&\"'!$H$97\",TRUE)),\"\",INDIRECT(\"'B&U_\"&A121&\"'!$H$97\",TRUE)),3)","v":{"$error":"#VALUE!"}},{"$f":"COUNTIF(IF(ISERROR(INDIRECT(\"'B&U_\"&A121&\"'!$H$128\",TRUE)),\"\",INDIRECT(\"'B&U_\"&A121&\"'!$H$128\",TRUE)),3)","v":{"$error":"#VALUE!"}},{"$f":"COUNTIF(IF(ISERROR(INDIRECT(\"'B&U_\"&A121&\"'!$H$160\",TRUE)),\"\",INDIRECT(\"'B&U_\"&A121&\"'!$H$160\",TRUE)),3)","v":{"$error":"#VALUE!"}},{"$f":"COUNTIF(IF(ISERROR(INDIRECT(\"'B&U_\"&A121&\"'!$H$190\",TRUE)),\"\",INDIRECT(\"'B&U_\"&A121&\"'!$H$190\",TRUE)),3)","v":{"$error":"#VALUE!"}},{"$f":"COUNTIF(IF(ISERROR(INDIRECT(\"'B&U_\"&A121&\"'!$H$199\",TRUE)),\"\",INDIRECT(\"'B&U_\"&A121&\"'!$H$199\",TRUE)),3)","v":{"$error":"#VALUE!"}},null,null,"Tilsyn 60",null,null,null,null,null,null,null,null,null,null,{"$error":"#REF!"},{"$error":"#REF!"},{"$error":"#REF!"},{"$error":"#REF!"},{"$error":"#REF!"},{"$error":"#REF!"},{"$error":"#REF!"}]
["Tilsyn 21","Status:  grøn",null,null,null,null,null,null,null,null,{"$f":"COUNTIF(IF(ISERROR(INDIRECT(\"'B&U_\"&A122&\"'!$H$33\",TRUE)),\"\",INDIRECT(\"'B&U_\"&A122&\"'!$H$33\",TRUE)),1)","v":{"$error":"#VALUE!"}},{"$f":"COUNTIF(IF(ISERROR(INDIRECT(\"'B&U_\"&A122&\"'!$h$42\",TRUE)),\"\",INDIRECT(\"'B&U_\"&A122&\"'!$h$42\",TRUE)),1)","v":{"$error":"#VALUE!"}},{"$f":"COUNTIF(IF(ISERROR(INDIRECT(\"'B&U_\"&A122&\"'!$H$66\",TRUE)),\"\",INDIRECT(\"'B&U_\"&A122&\"'!$H$66\",TRUE)),1)","v":{"$error":"#VALUE!"}},{"$f":"COUNTIF(IF(ISERROR(INDIRECT(\"'B&U_\"&A122&\"'!$H$97\",TRUE)),\"\",INDIRECT(\"'B&U_\"&A122&\"'!$H$97\",TRUE)),1)","v":{"$error":"#VALUE!"}},{"$f":"COUNTIF(IF(ISERROR(INDIRECT(\"'B&U_\"&A122&\"'!$H$128\",TRUE)),\"\",INDIRECT(\"'B&U_\"&A122&\"'!$H$128\",TRUE)),1)","v":{"$error":"#VALUE!"}},{"$f":"COUNTIF(IF(ISERROR(INDIRECT(\"'B&U_\"&A122&\"'!$H$160\",TRUE)),\"\",INDIRECT(\"'B&U_\"&A122&\"'!$H$160\",TRUE)),1)","v":{"$error":"#VALUE!"}},{"$f":"COUNTIF(IF(ISERROR(INDIRECT(\"'B&U_\"&A122&\"'!$H$190\",TRUE)),\"\",INDIRECT(\"'B&U_\"&A122&\"'!$H$190\",TRUE)),1)","v":{"$error":"#VALUE!"}},{"$f":"COUNTIF(IF(ISERROR(INDIRECT(\"'B&U_\"&A122&\"'!$H$199\",TRUE)),\"\",INDIRECT(\"'B&U_\"&A122&\"'!$H$199\",TRUE)),1)","v":{"$error":"#VALUE!"}},null,null,"Tilsyn 61",null,null,null,null,null,null,null,null,null,null,{"$error":"#REF!"},{"$error":"#REF!"},{"$error":"#REF!"},{"$error":"#REF!"},{"$error":"#REF!"},{"$error":"#REF!"},{"$error":"#REF!"}]
["Tilsyn 21","Status:  gul",null,null,null,null,null,null,null,null,{"$f":"COUNTIF(IF(ISERROR(INDIRECT(\"'B&U_\"&A123&\"'!$H$33\",TRUE)),\"\",INDIRECT(\"'B&U_\"&A123&\"'!$H$33\",TRUE)),2)","v":{"$error":"#VALUE!"}},{"$f":"COUNTIF(IF(ISERROR(INDIRECT(\"'B&U_\"&A123&\"'!$h$42\",TRUE)),\"\",INDIRECT(\"'B&U_\"&A123&\"'!$h$42\",TRUE)),2)","v":{"$error":"#VALUE!"}},{"$f":"COUNTIF(IF(ISERROR(INDIRECT(\"'B&U_\"&A123&\"'!$H$66\",TRUE)),\"\",INDIRECT(\"'B&U_\"&A123&\"'!$H$66\",TRUE)),2)","v":{"$error":"#VALUE!"}},{"$f":"COUNTIF(IF(ISERROR(INDIRECT(\"'B&U_\"&A123&\"'!$H$97\",TRUE)),\"\",INDIRECT(\"'B&U_\"&A123&\"'!$H$97\",TRUE)),2)","v":{"$error":"#VALUE!"}},{"$f":"COUNTIF(IF(ISERROR(INDIRECT(\"'B&U_\"&A123&\"'!$H$128\",TRUE)),\"\",INDIRECT(\"'B&U_\"&A123&\"'!$H$128\",TRUE)),2)","v":{"$error":"#VALUE!"}},{"$f":"COUNTIF(IF(ISERROR(INDIRECT(\"'B&U_\"&A123&\"'!$H$160\",TRUE)),\"\",INDIRECT(\"'B&U_\"&A123&\"'!$H$160\",TRUE)),2)","v":{"$error":"#VALUE!"}},{"$f":"COUNTIF(IF(ISERROR(INDIRECT(\"'B&U_\"&A123&\"'!$H$190\",TRUE)),\"\",INDIRECT(\"'B&U_\"&A123&\"'!$H$190\",TRUE)),2)","v":{"$error":"#VALUE!"}},{"$f":"COUNTIF(IF(ISERROR(INDIRECT(\"'B&U_\"&A123&\"'!$H$199\",TRUE)),\"\",INDIRECT(\"'B&U_\"&A123&\"'!$H$199\",TRUE)),2)","v":{"$error":"#VALUE!"}},null,null,"Tilsyn 62",null,null,null,null,null,null,null,null,null,null,{"$error":"#REF!"},{"$error":"#REF!"},{"$error":"#REF!"},{"$error":"#REF!"},{"$error":"#REF!"},{"$error":"#REF!"},{"$error":"#REF!"}]
["Tilsyn 21","Status:  rød",null,null,null,null,null,null,null,null,{"$f":"COUNTIF(IF(ISERROR(INDIRECT(\"'B&U_\"&A124&\"'!$H$33\",TRUE)),\"\",INDIRECT(\"'B&U_\"&A124&\"'!$H$33\",TRUE)),3)","v":{"$error":"#VALUE!"}},{"$f":"COUNTIF(IF(ISERROR(INDIRECT(\"'B&U_\"&A124&\"'!$h$42\",TRUE)),\"\",INDIRECT(\"'B&U_\"&A124&\"'!$h$42\",TRUE)),3)","v":{"$error":"#VALUE!"}},{"$f":"COUNTIF(IF(ISERROR(INDIRECT(\"'B&U_\"&A124&\"'!$H$66\",TRUE)),\"\",INDIRECT(\"'B&U_\"&A124&\"'!$H$66\",TRUE)),3)","v":{"$error":"#VALUE!"}},{"$f":"COUNTIF(IF(ISERROR(INDIRECT(\"'B&U_\"&A124&\"'!$H$97\",TRUE)),\"\",INDIRECT(\"'B&U_\"&A124&\"'!$H$97\",TRUE)),3)","v":{"$error":"#VALUE!"}},{"$f":"COUNTIF(IF(ISERROR(INDIRECT(\"'B&U_\"&A124&\"'!$H$128\",TRUE)),\"\",INDIRECT(\"'B&U_\"&A124&\"'!$H$128\",TRUE)),3)","v":{"$error":"#VALUE!"}},{"$f":"COUNTIF(IF(ISERROR(INDIRECT(\"'B&U_\"&A124&\"'!$H$160\",TRUE)),\"\",INDIRECT(\"'B&U_\"&A124&\"'!$H$160\",TRUE)),3)","v":{"$error":"#VALUE!"}},{"$f":"COUNTIF(IF(ISERROR(INDIRECT(\"'B&U_\"&A124&\"'!$H$190\",TRUE)),\"\",INDIRECT(\"'B&U_\"&A124&\"'!$H$190\",TRUE)),3)","v":{"$error":"#VALUE!"}},{"$f":"COUNTIF(IF(ISERROR(INDIRECT(\"'B&U_\"&A124&\"'!$H$199\",TRUE)),\"\",INDIRECT(\"'B&U_\"&A124&\"'!$H$199\",TRUE)),3)","v":{"$error":"#VALUE!"}},null,null,"Tilsyn 63",null,null,null,null,null,null,null,null,null,null,{"$error":"#REF!"},{"$error":"#REF!"},{"$error":"#REF!"},{"$error":"#REF!"},{"$error":"#REF!"},{"$error":"#REF!"},{"$error":"#REF!"}]
["Tilsyn 22","Status:  grøn",null,null,null,null,null,null,null,null,{"$f":"COUNTIF(IF(ISERROR(INDIRECT(\"'B&U_\"&A125&\"'!$H$33\",TRUE)),\"\",INDIRECT(\"'B&U_\"&A125&\"'!$H$33\",TRUE)),1)","v":{"$error":"#VALUE!"}},{"$f":"COUNTIF(IF(ISERROR(INDIRECT(\"'B&U_\"&A125&\"'!$h$42\",TRUE)),\"\",INDIRECT(\"'B&U_\"&A125&\"'!$h$42\",TRUE)),1)","v":{"$error":"#VALUE!"}},{"$f":"COUNTIF(IF(ISERROR(INDIRECT(\"'B&U_\"&A125&\"'!$H$66\",TRUE)),\"\",INDIRECT(\"'B&U_\"&A125&\"'!$H$66\",TRUE)),1)","v":{"$error":"#VALUE!"}},{"$f":"COUNTIF(IF(ISERROR(INDIRECT(\"'B&U_\"&A125&\"'!$H$97\",TRUE)),\"\",INDIRECT(\"'B&U_\"&A125&\"'!$H$97\",TRUE)),1)","v":{"$error":"#VALUE!"}},{"$f":"COUNTIF(IF(ISERROR(INDIRECT(\"'B&U_\"&A125&\"'!$H$128\",TRUE)),\"\",INDIRECT(\"'B&U_\"&A125&\"'!$H$128\",TRUE)),1)","v":{"$error":"#VALUE!"}},{"$f":"COUNTIF(IF(ISERROR(INDIRECT(\"'B&U_\"&A125&\"'!$H$160\",TRUE)),\"\",INDIRECT(\"'B&U_\"&A125&\"'!$H$160\",TRUE)),1)","v":{"$error":"#VALUE!"}},{"$f":"COUNTIF(IF(ISERROR(INDIRECT(\"'B&U_\"&A125&\"'!$H$190\",TRUE)),\"\",INDIRECT(\"'B&U_\"&A125&\"'!$H$190\",TRUE)),1)","v":{"$error":"#VALUE!"}},{"$f":"COUNTIF(IF(ISERROR(INDIRECT(\"'B&U_\"&A125&\"'!$H$199\",TRUE)),\"\",INDIRECT(\"'B&U_\"&A125&\"'!$H$199\",TRUE)),1)","v":{"$error":"#VALUE!"}},null,null,"Tilsyn 64",null,null,null,null,null,null,null,null,null,null,{"$error":"#REF!"},{"$error":"#REF!"},{"$error":"#REF!"},{"$error":"#REF!"},{"$error":"#REF!"},{"$error":"#REF!"},{"$error":"#REF!"}]
["Tilsyn 22","Status:  gul",null,null,null,null,null,null,null,null,{"$f":"COUNTIF(IF(ISERROR(INDIRECT(\"'B&U_\"&A126&\"'!$H$33\",TRUE)),\"\",INDIRECT(\"'B&U_\"&A126&\"'!$H$33\",TRUE)),2)","v":{"$error":"#VALUE!"}},{"$f":"COUNTIF(IF(ISERROR(INDIRECT(\"'B&U_\"&A126&\"'!$h$42\",TRUE)),\"\",INDIRECT(\"'B&U_\"&A126&\"'!$h$42\",TRUE)),2)","v":{"$error":"#VALUE!"}},{"$f":"COUNTIF(IF(ISERROR(INDIRECT(\"'B&U_\"&A126&\"'!$H$66\",TRUE)),\"\",INDIRECT(\"'B&U_\"&A126&\"'!$H$66\",TRUE)),2)","v":{"$error":"#VALUE!"}},{"$f":"COUNTIF(IF(ISERROR(INDIRECT(\"'B&U_\"&A126&\"'!$H$97\",TRUE)),\"\",INDIRECT(\"'B&U_\"&A126&\"'!$H$97\",TRUE)),2)","v":{"$error":"#VALUE!"}},{"$f":"COUNTIF(IF(ISERROR(INDIRECT(\"'B&U_\"&A126&\"'!$H$128\",TRUE)),\"\",INDIRECT(\"'B&U_\"&A126&\"'!$H$128\",TRUE)),2)","v":{"$error":"#VALUE!"}},{"$f":"COUNTIF(IF(ISERROR(INDIRECT(\"'B&U_\"&A126&\"'!$H$160\",TRUE)),\"\",INDIRECT(\"'B&U_\"&A126&\"'!$H$160\",TRUE)),2)","v":{"$error":"#VALUE!"}},{"$f":"COUNTIF(IF(ISERROR(INDIRECT(\"'B&U_\"&A126&\"'!$H$190\",TRUE)),\"\",INDIRECT(\"'B&U_\"&A126&\"'!$H$190\",TRUE)),2)","v":{"$error":"#VALUE!"}},{"$f":"COUNTIF(IF(ISERROR(INDIRECT(\"'B&U_\"&A126&\"'!$H$199\",TRUE)),\"\",INDIRECT(\"'B&U_\"&A126&\"'!$H$199\",TRUE)),2)","v":{"$error":"#VALUE!"}},null,null,"Tilsyn 65",null,null,null,null,null,null,null,null,null,null,{"$f":"IF(INDIRECT(\"'B&U_\"&U126&\"'!$c$245\")=\"\",\"\",IFERROR(INDIRECT(\"'B&U_\"&U126&\"'!$c$245\",TRUE),\"\"))","v":{"$error":"#REF!"}},{"$f":"IF(INDIRECT(\"'B&U_\"&U126&\"'!$c$259\")=\"\",\"\",IFERROR(INDIRECT(\"'B&U_\"&U126&\"'!$c$259\",TRUE),\"\"))","v":{"$error":"#REF!"}},{"$f":"IF(INDIRECT(\"'B&U_\"&U126&\"'!$c$295\")=\"\",\"\",IFERROR(INDIRECT(\"'B&U_\"&U126&\"'!$c$295\",TRUE),\"\"))","v":{"$error":"#REF!"}},{"$f":"IF(INDIRECT(\"'B&U_\"&U126&\"'!$c$351\")=\"\",\"\",IFERROR(INDIRECT(\"'B&U_\"&U126&\"'!$c$351\",TRUE),\"\"))","v":{"$error":"#REF!"}},{"$f":"IF(INDIRECT(\"'B&U_\"&U126&\"'!$c$384\")=\"\",\"\",IFERROR(INDIRECT(\"'B&U_\"&U126&\"'!$c$384\",TRUE),\"\"))","v":{"$error":"#REF!"}},{"$f":"IF(INDIRECT(\"'B&U_\"&U126&\"'!$c$418\")=\"\",\"\",IFERROR(INDIRECT(\"'B&U_\"&U126&\"'!$c$418\",TRUE),\"\"))","v":{"$error":"#REF!"}},{"$f":"IF(INDIRECT(\"'B&U_\"&U126&\"'!$c$428\")=\"\",\"\",IFERROR(INDIRECT(\"'B&U_\"&U126&\"'!$c$428\",TRUE),\"\"))","v":{"$error":"#REF!"}}]
["Tilsyn 22","Status:  rød",null,null,null,null,null,null,null,null,{"$f":"COUNTIF(IF(ISERROR(INDIRECT(\"'B&U_\"&A127&\"'!$H$33\",TRUE)),\"\",INDIRECT(\"'B&U_\"&A127&\"'!$H$33\",TRUE)),3)","v":{"$error":"#VALUE!"}},{"$f":"COUNTIF(IF(ISERROR(INDIRECT(\"'B&U_\"&A127&\"'!$h$42\",TRUE)),\"\",INDIRECT(\"'B&U_\"&A127&\"'!$h$42\",TRUE)),3)","v":{"$error":"#VALUE!"}},{"$f":"COUNTIF(IF(ISERROR(INDIRECT(\"'B&U_\"&A127&\"'!$H$66\",TRUE)),\"\",INDIRECT(\"'B&U_\"&A127&\"'!$H$66\",TRUE)),3)","v":{"$error":"#VALUE!"}},{"$f":"COUNTIF(IF(ISERROR(INDIRECT(\"'B&U_\"&A127&\"'!$H$97\",TRUE)),\"\",INDIRECT(\"'B&U_\"&A127&\"'!$H$97\",TRUE)),3)","v":{"$error":"#VALUE!"}},{"$f":"COUNTIF(IF(ISERROR(INDIRECT(\"'B&U_\"&A127&\"'!$H$128\",TRUE)),\"\",INDIRECT(\"'B&U_\"&A127&\"'!$H$128\",TRUE)),3)","v":{"$error":"#VALUE!"}},{"$f":"COUNTIF(IF(ISERROR(INDIRECT(\"'B&U_\"&A127&\"'!$H$160\",TRUE)),\"\",INDIRECT(\"'B&U_\"&A127&\"'!$H$160\",TRUE)),3)","v":{"$error":"#VALUE!"}},{"$f":"COUNTIF(IF(ISERROR(INDIRECT(\"'B&U_\"&A127&\"'!$H$190\",TRUE)),\"\",INDIRECT(\"'B&U_\"&A127&\"'!$H$190\",TRUE)),3)","v":{"$error":"#VALUE!"}},{"$f":"COUNTIF(IF(ISERROR(INDIRECT(\"'B&U_\"&A127&\"'!$H$199\",TRUE)),\"\",INDIRECT(\"'B&U_\"&A127&\"'!$H$199\",TRUE)),3)","v":{"$error":"#VALUE!"}},null,null,"Tilsyn 66",null,null,null,null,null,null,null,null,null,null,{"$error":"#REF!"},{"$error":"#REF!"},{"$error":"#REF!"},{"$error":"#REF!"},{"$error":"#REF!"},{"$error":"#REF!"},{"$error":"#REF!"}]
["Tilsyn 23","Status:  grøn",null,null,null,null,null,null,null,null,{"$f":"COUNTIF(IF(ISERROR(INDIRECT(\"'B&U_\"&A128&\"'!$H$33\",TRUE)),\"\",INDIRECT(\"'B&U_\"&A128&\"'!$H$33\",TRUE)),1)","v":{"$error":"#VALUE!"}},{"$f":"COUNTIF(IF(ISERROR(INDIRECT(\"'B&U_\"&A128&\"'!$h$42\",TRUE)),\"\",INDIRECT(\"'B&U_\"&A128&\"'!$h$42\",TRUE)),1)","v":{"$error":"#VALUE!"}},{"$f":"COUNTIF(IF(ISERROR(INDIRECT(\"'B&U_\"&A128&\"'!$H$66\",TRUE)),\"\",INDIRECT(\"'B&U_\"&A128&\"'!$H$66\",TRUE)),1)","v":{"$error":"#VALUE!"}},{"$f":"COUNTIF(IF(ISERROR(INDIRECT(\"'B&U_\"&A128&\"'!$H$97\",TRUE)),\"\",INDIRECT(\"'B&U_\"&A128&\"'!$H$97\",TRUE)),1)","v":{"$error":"#VALUE!"}},{"$f":"COUNTIF(IF(ISERROR(INDIRECT(\"'B&U_\"&A128&\"'!$H$128\",TRUE)),\"\",INDIRECT(\"'B&U_\"&A128&\"'!$H$128\",TRUE)),1)","v":{"$error":"#VALUE!"}},{"$f":"COUNTIF(IF(ISERROR(INDIRECT(\"'B&U_\"&A128&\"'!$H$160\",TRUE)),\"\",INDIRECT(\"'B&U_\"&A128&\"'!$H$160\",TRUE)),1)","v":{"$error":"#VALUE!"}},{"$f":"COUNTIF(IF(ISERROR(INDIRECT(\"'B&U_\"&A128&\"'!$H$190\",TRUE)),\"\",INDIRECT(\"'B&U_\"&A128&\"'!$H$190\",TRUE)),1)","v":{"$error":"#VALUE!"}},{"$f":"COUNTIF(IF(ISERROR(INDIRECT(\"'B&U_\"&A128&\"'!$H$199\",TRUE)),\"\",INDIRECT(\"'B&U_\"&A128&\"'!$H$199\",TRUE)),1)","v":{"$error":"#VALUE!"}},null,null,"Tilsyn 67",null,null,null,null,null,null,null,null,null,null,{"$error":"#REF!"},{"$error":"#REF!"},{"$error":"#REF!"},{"$error":"#REF!"},{"$error":"#REF!"},{"$error":"#REF!"},{"$error":"#REF!"}]
["Tilsyn 23","Status:  gul",null,null,null,null,null,null,null,null,{"$f":"COUNTIF(IF(ISERROR(INDIRECT(\"'B&U_\"&A129&\"'!$H$33\",TRUE)),\"\",INDIRECT(\"'B&U_\"&A129&\"'!$H$33\",TRUE)),2)","v":{"$error":"#VALUE!"}},{"$f":"COUNTIF(IF(ISERROR(INDIRECT(\"'B&U_\"&A129&\"'!$h$42\",TRUE)),\"\",INDIRECT(\"'B&U_\"&A129&\"'!$h$42\",TRUE)),2)","v":{"$error":"#VALUE!"}},{"$f":"COUNTIF(IF(ISERROR(INDIRECT(\"'B&U_\"&A129&\"'!$H$66\",TRUE)),\"\",INDIRECT(\"'B&U_\"&A129&\"'!$H$66\",TRUE)),2)","v":{"$error":"#VALUE!"}},{"$f":"COUNTIF(IF(ISERROR(INDIRECT(\"'B&U_\"&A129&\"'!$H$97\",TRUE)),\"\",INDIRECT(\"'B&U_\"&A129&\"'!$H$97\",TRUE)),2)","v":{"$error":"#VALUE!"}},{"$f":"COUNTIF(IF(ISERROR(INDIRECT(\"'B&U_\"&A129&\"'!$H$128\",TRUE)),\"\",INDIRECT(\"'B&U_\"&A129&\"'!$H$128\",TRUE)),2)","v":{"$error":"#VALUE!"}},{"$f":"COUNTIF(IF(ISERROR(INDIRECT(\"'B&U_\"&A129&\"'!$H$160\",TRUE)),\"\",INDIRECT(\"'B&U_\"&A129&\"'!$H$160\",TRUE)),2)","v":{"$error":"#VALUE!"}},{"$f":"COUNTIF(IF(ISERROR(INDIRECT(\"'B&U_\"&A129&\"'!$H$190\",TRUE)),\"\",INDIRECT(\"'B&U_\"&A129&\"'!$H$190\",TRUE)),2)","v":{"$error":"#VALUE!"}},{"$f":"COUNTIF(IF(ISERROR(INDIRECT(\"'B&U_\"&A129&\"'!$H$199\",TRUE)),\"\",INDIRECT(\"'B&U_\"&A129&\"'!$H$199\",TRUE)),2)","v":{"$error":"#VALUE!"}},null,null,"Tilsyn 68",null,null,null,null,null,null,null,null,null,null,{"$error":"#REF!"},{"$error":"#REF!"},{"$error":"#REF!"},{"$error":"#REF!"},{"$error":"#REF!"},{"$error":"#REF!"},{"$error":"#REF!"}]
["Tilsyn 23","Status:  rød",null,null,null,null,null,null,null,null,{"$f":"COUNTIF(IF(ISERROR(INDIRECT(\"'B&U_\"&A130&\"'!$H$33\",TRUE)),\"\",INDIRECT(\"'B&U_\"&A130&\"'!$H$33\",TRUE)),3)","v":{"$error":"#VALUE!"}},{"$f":"COUNTIF(IF(ISERROR(INDIRECT(\"'B&U_\"&A130&\"'!$h$42\",TRUE)),\"\",INDIRECT(\"'B&U_\"&A130&\"'!$h$42\",TRUE)),3)","v":{"$error":"#VALUE!"}},{"$f":"COUNTIF(IF(ISERROR(INDIRECT(\"'B&U_\"&A130&\"'!$H$66\",TRUE)),\"\",INDIRECT(\"'B&U_\"&A130&\"'!$H$66\",TRUE)),3)","v":{"$error":"#VALUE!"}},{"$f":"COUNTIF(IF(ISERROR(INDIRECT(\"'B&U_\"&A130&\"'!$H$97\",TRUE)),\"\",INDIRECT(\"'B&U_\"&A130&\"'!$H$97\",TRUE)),3)","v":{"$error":"#VALUE!"}},{"$f":"COUNTIF(IF(ISERROR(INDIRECT(\"'B&U_\"&A130&\"'!$H$128\",TRUE)),\"\",INDIRECT(\"'B&U_\"&A130&\"'!$H$128\",TRUE)),3)","v":{"$error":"#VALUE!"}},{"$f":"COUNTIF(IF(ISERROR(INDIRECT(\"'B&U_\"&A130&\"'!$H$160\",TRUE)),\"\",INDIRECT(\"'B&U_\"&A130&\"'!$H$160\",TRUE)),3)","v":{"$error":"#VALUE!"}},{"$f":"COUNTIF(IF(ISERROR(INDIRECT(\"'B&U_\"&A130&\"'!$H$190\",TRUE)),\"\",INDIRECT(\"'B&U_\"&A130&\"'!$H$190\",TRUE)),3)","v":{"$error":"#VALUE!"}},{"$f":"COUNTIF(IF(ISERROR(INDIRECT(\"'B&U_\"&A130&\"'!$H$199\",TRUE)),\"\",INDIRECT(\"'B&U_\"&A130&\"'!$H$199\",TRUE)),3)","v":{"$error":"#VALUE!"}},null,null,"Tilsyn 69",null,null,null,null,null,null,null,null,null,null,{"$error":"#REF!"},{"$error":"#REF!"},{"$error":"#REF!"},{"$error":"#REF!"},{"$error":"#REF!"},{"$error":"#REF!"},{"$error":"#REF!"}]
["Tilsyn 24","Status:  grøn",null,null,null,null,null,null,null,null,{"$f":"COUNTIF(IF(ISERROR(INDIRECT(\"'B&U_\"&A131&\"'!$H$33\",TRUE)),\"\",INDIRECT(\"'B&U_\"&A131&\"'!$H$33\",TRUE)),1)","v":{"$error":"#VALUE!"}},{"$f":"COUNTIF(IF(ISERROR(INDIRECT(\"'B&U_\"&A131&\"'!$h$42\",TRUE)),\"\",INDIRECT(\"'B&U_\"&A131&\"'!$h$42\",TRUE)),1)","v":{"$error":"#VALUE!"}},{"$f":"COUNTIF(IF(ISERROR(INDIRECT(\"'B&U_\"&A131&\"'!$H$66\",TRUE)),\"\",INDIRECT(\"'B&U_\"&A131&\"'!$H$66\",TRUE)),1)","v":{"$error":"#VALUE!"}},{"$f":"COUNTIF(IF(ISERROR(INDIRECT(\"'B&U_\"&A131&\"'!$H$97\",TRUE)),\"\",INDIRECT(\"'B&U_\"&A131&\"'!$H$97\",TRUE)),1)","v":{"$error":"#VALUE!"}},{"$f":"COUNTIF(IF(ISERROR(INDIRECT(\"'B&U_\"&A131&\"'!$H$128\",TRUE)),\"\",INDIRECT(\"'B&U_\"&A131&\"'!$H$128\",TRUE)),1)","v":{"$error":"#VALUE!"}},{"$f":"COUNTIF(IF(ISERROR(INDIRECT(\"'B&U_\"&A131&\"'!$H$160\",TRUE)),\"\",INDIRECT(\"'B&U_\"&A131&\"'!$H$160\",TRUE)),1)","v":{"$error":"#VALUE!"}},{"$f":"COUNTIF(IF(ISERROR(INDIRECT(\"'B&U_\"&A131&\"'!$H$190\",TRUE)),\"\",INDIRECT(\"'B&U_\"&A131&\"'!$H$190\",TRUE)),1)","v":{"$error":"#VALUE!"}},{"$f":"COUNTIF(IF(ISERROR(INDIRECT(\"'B&U_\"&A131&\"'!$H$199\",TRUE)),\"\",INDIRECT(\"'B&U_\"&A131&\"'!$H$199\",TRUE)),1)","v":{"$error":"#VALUE!"}},null,null,"Tilsyn 70",null,null,null,null,null,null,null,null,null,null,{"$error":"#REF!"},{"$error":"#REF!"},{"$error":"#REF!"},{"$error":"#REF!"},{"$error":"#REF!"},{"$error":"#REF!"},{"$error":"#REF!"}]
["Tilsyn 24","Status:  gul",null,null,null,null,null,null,null,null,{"$f":"COUNTIF(IF(ISERROR(INDIRECT(\"'B&U_\"&A132&\"'!$H$33\",TRUE)),\"\",INDIRECT(\"'B&U_\"&A132&\"'!$H$33\",TRUE)),2)","v":{"$error":"#VALUE!"}},{"$f":"COUNTIF(IF(ISERROR(INDIRECT(\"'B&U_\"&A132&\"'!$h$42\",TRUE)),\"\",INDIRECT(\"'B&U_\"&A132&\"'!$h$42\",TRUE)),2)","v":{"$error":"#VALUE!"}},{"$f":"COUNTIF(IF(ISERROR(INDIRECT(\"'B&U_\"&A132&\"'!$H$66\",TRUE)),\"\",INDIRECT(\"'B&U_\"&A132&\"'!$H$66\",TRUE)),2)","v":{"$error":"#VALUE!"}},{"$f":"COUNTIF(IF(ISERROR(INDIRECT(\"'B&U_\"&A132&\"'!$H$97\",TRUE)),\"\",INDIRECT(\"'B&U_\"&A132&\"'!$H$97\",TRUE)),2)","v":{"$error":"#VALUE!"}},{"$f":"COUNTIF(IF(ISERROR(INDIRECT(\"'B&U_\"&A132&\"'!$H$128\",TRUE)),\"\",INDIRECT(\"'B&U_\"&A132&\"'!$H$128\",TRUE)),2)","v":{"$error":"#VALUE!"}},{"$f":"COUNTIF(IF(ISERROR(INDIRECT(\"'B&U_\"&A132&\"'!$H$160\",TRUE)),\"\",INDIRECT(\"'B&U_\"&A132&\"'!$H$160\",TRUE)),2)","v":{"$error":"#VALUE!"}},{"$f":"COUNTIF(IF(ISERROR(INDIRECT(\"'B&U_\"&A132&\"'!$H$190\",TRUE)),\"\",INDIRECT(\"'B&U_\"&A132&\"'!$H$190\",TRUE)),2)","v":{"$error":"#VALUE!"}},{"$f":"COUNTIF(IF(ISERROR(INDIRECT(\"'B&U_\"&A132&\"'!$H$199\",TRUE)),\"\",INDIRECT(\"'B&U_\"&A132&\"'!$H$199\",TRUE)),2)","v":{"$error":"#VALUE!"}},null,null,"Tilsyn 71",null,null,null,null,null,null,null,null,null,null,{"$error":"#REF!"},{"$error":"#REF!"},{"$error":"#REF!"},{"$error":"#REF!"},{"$error":"#REF!"},{"$error":"#REF!"},{"$error":"#REF!"}]
["Tilsyn 24","Status:  rød",null,null,null,null,null,null,null,null,{"$f":"COUNTIF(IF(ISERROR(INDIRECT(\"'B&U_\"&A133&\"'!$H$33\",TRUE)),\"\",INDIRECT(\"'B&U_\"&A133&\"'!$H$33\",TRUE)),3)","v":{"$error":"#VALUE!"}},{"$f":"COUNTIF(IF(ISERROR(INDIRECT(\"'B&U_\"&A133&\"'!$h$42\",TRUE)),\"\",INDIRECT(\"'B&U_\"&A133&\"'!$h$42\",TRUE)),3)","v":{"$error":"#VALUE!"}},{"$f":"COUNTIF(IF(ISERROR(INDIRECT(\"'B&U_\"&A133&\"'!$H$66\",TRUE)),\"\",INDIRECT(\"'B&U_\"&A133&\"'!$H$66\",TRUE)),3)","v":{"$error":"#VALUE!"}},{"$f":"COUNTIF(IF(ISERROR(INDIRECT(\"'B&U_\"&A133&\"'!$H$97\",TRUE)),\"\",INDIRECT(\"'B&U_\"&A133&\"'!$H$97\",TRUE)),3)","v":{"$error":"#VALUE!"}},{"$f":"COUNTIF(IF(ISERROR(INDIRECT(\"'B&U_\"&A133&\"'!$H$128\",TRUE)),\"\",INDIRECT(\"'B&U_\"&A133&\"'!$H$128\",TRUE)),3)","v":{"$error":"#VALUE!"}},{"$f":"COUNTIF(IF(ISERROR(INDIRECT(\"'B&U_\"&A133&\"'!$H$160\",TRUE)),\"\",INDIRECT(\"'B&U_\"&A133&\"'!$H$160\",TRUE)),3)","v":{"$error":"#VALUE!"}},{"$f":"COUNTIF(IF(ISERROR(INDIRECT(\"'B&U_\"&A133&\"'!$H$190\",TRUE)),\"\",INDIRECT(\"'B&U_\"&A133&\"'!$H$190\",TRUE)),3)","v":{"$error":"#VALUE!"}},{"$f":"COUNTIF(IF(ISERROR(INDIRECT(\"'B&U_\"&A133&\"'!$H$199\",TRUE)),\"\",INDIRECT(\"'B&U_\"&A133&\"'!$H$199\",TRUE)),3)","v":{"$error":"#VALUE!"}},null,null,"Tilsyn 72",null,null,null,null,null,null,null,null,null,null,{"$error":"#REF!"},{"$error":"#REF!"},{"$error":"#REF!"},{"$error":"#REF!"},{"$error":"#REF!"},{"$error":"#REF!"},{"$error":"#REF!"}]
["Tilsyn 25","Status:  grøn",null,null,null,null,null,null,null,null,{"$f":"COUNTIF(IF(ISERROR(INDIRECT(\"'B&U_\"&A134&\"'!$H$33\",TRUE)),\"\",INDIRECT(\"'B&U_\"&A134&\"'!$H$33\",TRUE)),1)","v":{"$error":"#VALUE!"}},{"$f":"COUNTIF(IF(ISERROR(INDIRECT(\"'B&U_\"&A134&\"'!$h$42\",TRUE)),\"\",INDIRECT(\"'B&U_\"&A134&\"'!$h$42\",TRUE)),1)","v":{"$error":"#VALUE!"}},{"$f":"COUNTIF(IF(ISERROR(INDIRECT(\"'B&U_\"&A134&\"'!$H$66\",TRUE)),\"\",INDIRECT(\"'B&U_\"&A134&\"'!$H$66\",TRUE)),1)","v":{"$error":"#VALUE!"}},{"$f":"COUNTIF(IF(ISERROR(INDIRECT(\"'B&U_\"&A134&\"'!$H$97\",TRUE)),\"\",INDIRECT(\"'B&U_\"&A134&\"'!$H$97\",TRUE)),1)","v":{"$error":"#VALUE!"}},{"$f":"COUNTIF(IF(ISERROR(INDIRECT(\"'B&U_\"&A134&\"'!$H$128\",TRUE)),\"\",INDIRECT(\"'B&U_\"&A134&\"'!$H$128\",TRUE)),1)","v":{"$error":"#VALUE!"}},{"$f":"COUNTIF(IF(ISERROR(INDIRECT(\"'B&U_\"&A134&\"'!$H$160\",TRUE)),\"\",INDIRECT(\"'B&U_\"&A134&\"'!$H$160\",TRUE)),1)","v":{"$error":"#VALUE!"}},{"$f":"COUNTIF(IF(ISERROR(INDIRECT(\"'B&U_\"&A134&\"'!$H$190\",TRUE)),\"\",INDIRECT(\"'B&U_\"&A134&\"'!$H$190\",TRUE)),1)","v":{"$error":"#VALUE!"}},{"$f":"COUNTIF(IF(ISERROR(INDIRECT(\"'B&U_\"&A134&\"'!$H$199\",TRUE)),\"\",INDIRECT(\"'B&U_\"&A134&\"'!$H$199\",TRUE)),1)","v":{"$error":"#VALUE!"}},null,null,"Tilsyn 73",null,null,null,null,null,null,null,null,null,null,{"$error":"#REF!"},{"$error":"#REF!"},{"$error":"#REF!"},{"$error":"#REF!"},{"$error":"#REF!"},{"$error":"#REF!"},{"$error":"#REF!"}]
["Tilsyn 25","Status:  gul",null,null,null,null,null,null,null,null,{"$f":"COUNTIF(IF(ISERROR(INDIRECT(\"'B&U_\"&A135&\"'!$H$33\",TRUE)),\"\",INDIRECT(\"'B&U_\"&A135&\"'!$H$33\",TRUE)),2)","v":{"$error":"#VALUE!"}},{"$f":"COUNTIF(IF(ISERROR(INDIRECT(\"'B&U_\"&A135&\"'!$h$42\",TRUE)),\"\",INDIRECT(\"'B&U_\"&A135&\"'!$h$42\",TRUE)),2)","v":{"$error":"#VALUE!"}},{"$f":"COUNTIF(IF(ISERROR(INDIRECT(\"'B&U_\"&A135&\"'!$H$66\",TRUE)),\"\",INDIRECT(\"'B&U_\"&A135&\"'!$H$66\",TRUE)),2)","v":{"$error":"#VALUE!"}},{"$f":"COUNTIF(IF(ISERROR(INDIRECT(\"'B&U_\"&A135&\"'!$H$97\",TRUE)),\"\",INDIRECT(\"'B&U_\"&A135&\"'!$H$97\",TRUE)),2)","v":{"$error":"#VALUE!"}},{"$f":"COUNTIF(IF(ISERROR(INDIRECT(\"'B&U_\"&A135&\"'!$H$128\",TRUE)),\"\",INDIRECT(\"'B&U_\"&A135&\"'!$H$128\",TRUE)),2)","v":{"$error":"#VALUE!"}},{"$f":"COUNTIF(IF(ISERROR(INDIRECT(\"'B&U_\"&A135&\"'!$H$160\",TRUE)),\"\",INDIRECT(\"'B&U_\"&A135&\"'!$H$160\",TRUE)),2)","v":{"$error":"#VALUE!"}},{"$f":"COUNTIF(IF(ISERROR(INDIRECT(\"'B&U_\"&A135&\"'!$H$190\",TRUE)),\"\",INDIRECT(\"'B&U_\"&A135&\"'!$H$190\",TRUE)),2)","v":{"$error":"#VALUE!"}},{"$f":"COUNTIF(IF(ISERROR(INDIRECT(\"'B&U_\"&A135&\"'!$H$199\",TRUE)),\"\",INDIRECT(\"'B&U_\"&A135&\"'!$H$199\",TRUE)),2)","v":{"$error":"#VALUE!"}},null,null,"Tilsyn 74",null,null,null,null,null,null,null,null,null,null,{"$error":"#REF!"},{"$error":"#REF!"},{"$error":"#REF!"},{"$error":"#REF!"},{"$error":"#REF!"},{"$error":"#REF!"},{"$error":"#REF!"}]
["Tilsyn 25","Status:  rød",null,null,null,null,null,null,null,null,{"$f":"COUNTIF(IF(ISERROR(INDIRECT(\"'B&U_\"&A136&\"'!$H$33\",TRUE)),\"\",INDIRECT(\"'B&U_\"&A136&\"'!$H$33\",TRUE)),3)","v":{"$error":"#VALUE!"}},{"$f":"COUNTIF(IF(ISERROR(INDIRECT(\"'B&U_\"&A136&\"'!$h$42\",TRUE)),\"\",INDIRECT(\"'B&U_\"&A136&\"'!$h$42\",TRUE)),3)","v":{"$error":"#VALUE!"}},{"$f":"COUNTIF(IF(ISERROR(INDIRECT(\"'B&U_\"&A136&\"'!$H$66\",TRUE)),\"\",INDIRECT(\"'B&U_\"&A136&\"'!$H$66\",TRUE)),3)","v":{"$error":"#VALUE!"}},{"$f":"COUNTIF(IF(ISERROR(INDIRECT(\"'B&U_\"&A136&\"'!$H$97\",TRUE)),\"\",INDIRECT(\"'B&U_\"&A136&\"'!$H$97\",TRUE)),3)","v":{"$error":"#VALUE!"}},{"$f":"COUNTIF(IF(ISERROR(INDIRECT(\"'B&U_\"&A136&\"'!$H$128\",TRUE)),\"\",INDIRECT(\"'B&U_\"&A136&\"'!$H$128\",TRUE)),3)","v":{"$error":"#VALUE!"}},{"$f":"COUNTIF(IF(ISERROR(INDIRECT(\"'B&U_\"&A136&\"'!$H$160\",TRUE)),\"\",INDIRECT(\"'B&U_\"&A136&\"'!$H$160\",TRUE)),3)","v":{"$error":"#VALUE!"}},{"$f":"COUNTIF(IF(ISERROR(INDIRECT(\"'B&U_\"&A136&\"'!$H$190\",TRUE)),\"\",INDIRECT(\"'B&U_\"&A136&\"'!$H$190\",TRUE)),3)","v":{"$error":"#VALUE!"}},{"$f":"COUNTIF(IF(ISERROR(INDIRECT(\"'B&U_\"&A136&\"'!$H$199\",TRUE)),\"\",INDIRECT(\"'B&U_\"&A136&\"'!$H$199\",TRUE)),3)","v":{"$error":"#VALUE!"}},null,null,"Tilsyn 75",null,null,null,null,null,null,null,null,null,null,{"$error":"#REF!"},{"$error":"#REF!"},{"$error":"#REF!"},{"$error":"#REF!"},{"$error":"#REF!"},{"$error":"#REF!"},{"$error":"#REF!"}]
["Tilsyn 26","Status:  grøn",null,null,null,null,null,null,null,null,{"$f":"COUNTIF(IF(ISERROR(INDIRECT(\"'B&U_\"&A137&\"'!$H$33\",TRUE)),\"\",INDIRECT(\"'B&U_\"&A137&\"'!$H$33\",TRUE)),1)","v":{"$error":"#VALUE!"}},{"$f":"COUNTIF(IF(ISERROR(INDIRECT(\"'B&U_\"&A137&\"'!$h$42\",TRUE)),\"\",INDIRECT(\"'B&U_\"&A137&\"'!$h$42\",TRUE)),1)","v":{"$error":"#VALUE!"}},{"$f":"COUNTIF(IF(ISERROR(INDIRECT(\"'B&U_\"&A137&\"'!$H$66\",TRUE)),\"\",INDIRECT(\"'B&U_\"&A137&\"'!$H$66\",TRUE)),1)","v":{"$error":"#VALUE!"}},{"$f":"COUNTIF(IF(ISERROR(INDIRECT(\"'B&U_\"&A137&\"'!$H$97\",TRUE)),\"\",INDIRECT(\"'B&U_\"&A137&\"'!$H$97\",TRUE)),1)","v":{"$error":"#VALUE!"}},{"$f":"COUNTIF(IF(ISERROR(INDIRECT(\"'B&U_\"&A137&\"'!$H$128\",TRUE)),\"\",INDIRECT(\"'B&U_\"&A137&\"'!$H$128\",TRUE)),1)","v":{"$error":"#VALUE!"}},{"$f":"COUNTIF(IF(ISERROR(INDIRECT(\"'B&U_\"&A137&\"'!$H$160\",TRUE)),\"\",INDIRECT(\"'B&U_\"&A137&\"'!$H$160\",TRUE)),1)","v":{"$error":"#VALUE!"}},{"$f":"COUNTIF(IF(ISERROR(INDIRECT(\"'B&U_\"&A137&\"'!$H$190\",TRUE)),\"\",INDIRECT(\"'B&U_\"&A137&\"'!$H$190\",TRUE)),1)","v":{"$error":"#VALUE!"}},{"$f":"COUNTIF(IF(ISERROR(INDIRECT(\"'B&U_\"&A137&\"'!$H$199\",TRUE)),\"\",INDIRECT(\"'B&U_\"&A137&\"'!$H$199\",TRUE)),1)","v":{"$error":"#VALUE!"}},null,null,"Tilsyn 76",null,null,null,null,null,null,null,null,null,null,{"$error":"#REF!"},{"$error":"#REF!"},{"$error":"#REF!"},{"$error":"#REF!"},{"$error":"#REF!"},{"$error":"#REF!"},{"$error":"#REF!"}]
["Tilsyn 26","Status:  gul",null,null,null,null,null,null,null,null,{"$f":"COUNTIF(IF(ISERROR(INDIRECT(\"'B&U_\"&A138&\"'!$H$33\",TRUE)),\"\",INDIRECT(\"'B&U_\"&A138&\"'!$H$33\",TRUE)),2)","v":{"$error":"#VALUE!"}},{"$f":"COUNTIF(IF(ISERROR(INDIRECT(\"'B&U_\"&A138&\"'!$h$42\",TRUE)),\"\",INDIRECT(\"'B&U_\"&A138&\"'!$h$42\",TRUE)),2)","v":{"$error":"#VALUE!"}},{"$f":"COUNTIF(IF(ISERROR(INDIRECT(\"'B&U_\"&A138&\"'!$H$66\",TRUE)),\"\",INDIRECT(\"'B&U_\"&A138&\"'!$H$66\",TRUE)),2)","v":{"$error":"#VALUE!"}},{"$f":"COUNTIF(IF(ISERROR(INDIRECT(\"'B&U_\"&A138&\"'!$H$97\",TRUE)),\"\",INDIRECT(\"'B&U_\"&A138&\"'!$H$97\",TRUE)),2)","v":{"$error":"#VALUE!"}},{"$f":"COUNTIF(IF(ISERROR(INDIRECT(\"'B&U_\"&A138&\"'!$H$128\",TRUE)),\"\",INDIRECT(\"'B&U_\"&A138&\"'!$H$128\",TRUE)),2)","v":{"$error":"#VALUE!"}},{"$f":"COUNTIF(IF(ISERROR(INDIRECT(\"'B&U_\"&A138&\"'!$H$160\",TRUE)),\"\",INDIRECT(\"'B&U_\"&A138&\"'!$H$160\",TRUE)),2)","v":{"$error":"#VALUE!"}},{"$f":"COUNTIF(IF(ISERROR(INDIRECT(\"'B&U_\"&A138&\"'!$H$190\",TRUE)),\"\",INDIRECT(\"'B&U_\"&A138&\"'!$H$190\",TRUE)),2)","v":{"$error":"#VALUE!"}},{"$f":"COUNTIF(IF(ISERROR(INDIRECT(\"'B&U_\"&A138&\"'!$H$199\",TRUE)),\"\",INDIRECT(\"'B&U_\"&A138&\"'!$H$199\",TRUE)),2)","v":{"$error":"#VALUE!"}},null,null,"Tilsyn 77",null,null,null,null,null,null,null,null,null,null,{"$error":"#REF!"},{"$error":"#REF!"},{"$error":"#REF!"},{"$error":"#REF!"},{"$error":"#REF!"},{"$error":"#REF!"},{"$error":"#REF!"}]
["Tilsyn 26","Status:  rød",null,null,null,null,null,null,null,null,{"$f":"COUNTIF(IF(ISERROR(INDIRECT(\"'B&U_\"&A139&\"'!$H$33\",TRUE)),\"\",INDIRECT(\"'B&U_\"&A139&\"'!$H$33\",TRUE)),3)","v":{"$error":"#VALUE!"}},{"$f":"COUNTIF(IF(ISERROR(INDIRECT(\"'B&U_\"&A139&\"'!$h$42\",TRUE)),\"\",INDIRECT(\"'B&U_\"&A139&\"'!$h$42\",TRUE)),3)","v":{"$error":"#VALUE!"}},{"$f":"COUNTIF(IF(ISERROR(INDIRECT(\"'B&U_\"&A139&\"'!$H$66\",TRUE)),\"\",INDIRECT(\"'B&U_\"&A139&\"'!$H$66\",TRUE)),3)","v":{"$error":"#VALUE!"}},{"$f":"COUNTIF(IF(ISERROR(INDIRECT(\"'B&U_\"&A139&\"'!$H$97\",TRUE)),\"\",INDIRECT(\"'B&U_\"&A139&\"'!$H$97\",TRUE)),3)","v":{"$error":"#VALUE!"}},{"$f":"COUNTIF(IF(ISERROR(INDIRECT(\"'B&U_\"&A139&\"'!$H$128\",TRUE)),\"\",INDIRECT(\"'B&U_\"&A139&\"'!$H$128\",TRUE)),3)","v":{"$error":"#VALUE!"}},{"$f":"COUNTIF(IF(ISERROR(INDIRECT(\"'B&U_\"&A139&\"'!$H$160\",TRUE)),\"\",INDIRECT(\"'B&U_\"&A139&\"'!$H$160\",TRUE)),3)","v":{"$error":"#VALUE!"}},{"$f":"COUNTIF(IF(ISERROR(INDIRECT(\"'B&U_\"&A139&\"'!$H$190\",TRUE)),\"\",INDIRECT(\"'B&U_\"&A139&\"'!$H$190\",TRUE)),3)","v":{"$error":"#VALUE!"}},{"$f":"COUNTIF(IF(ISERROR(INDIRECT(\"'B&U_\"&A139&\"'!$H$199\",TRUE)),\"\",INDIRECT(\"'B&U_\"&A139&\"'!$H$199\",TRUE)),3)","v":{"$error":"#VALUE!"}},null,null,"Tilsyn 78",null,null,null,null,null,null,null,null,null,null,{"$error":"#REF!"},{"$error":"#REF!"},{"$error":"#REF!"},{"$error":"#REF!"},{"$error":"#REF!"},{"$error":"#REF!"},{"$error":"#REF!"}]
["Tilsyn 27","Status:  grøn",null,null,null,null,null,null,null,null,{"$f":"COUNTIF(IF(ISERROR(INDIRECT(\"'B&U_\"&A140&\"'!$H$33\",TRUE)),\"\",INDIRECT(\"'B&U_\"&A140&\"'!$H$33\",TRUE)),1)","v":{"$error":"#VALUE!"}},{"$f":"COUNTIF(IF(ISERROR(INDIRECT(\"'B&U_\"&A140&\"'!$h$42\",TRUE)),\"\",INDIRECT(\"'B&U_\"&A140&\"'!$h$42\",TRUE)),1)","v":{"$error":"#VALUE!"}},{"$f":"COUNTIF(IF(ISERROR(INDIRECT(\"'B&U_\"&A140&\"'!$H$66\",TRUE)),\"\",INDIRECT(\"'B&U_\"&A140&\"'!$H$66\",TRUE)),1)","v":{"$error":"#VALUE!"}},{"$f":"COUNTIF(IF(ISERROR(INDIRECT(\"'B&U_\"&A140&\"'!$H$97\",TRUE)),\"\",INDIRECT(\"'B&U_\"&A140&\"'!$H$97\",TRUE)),1)","v":{"$error":"#VALUE!"}},{"$f":"COUNTIF(IF(ISERROR(INDIRECT(\"'B&U_\"&A140&\"'!$H$128\",TRUE)),\"\",INDIRECT(\"'B&U_\"&A140&\"'!$H$128\",TRUE)),1)","v":{"$error":"#VALUE!"}},{"$f":"COUNTIF(IF(ISERROR(INDIRECT(\"'B&U_\"&A140&\"'!$H$160\",TRUE)),\"\",INDIRECT(\"'B&U_\"&A140&\"'!$H$160\",TRUE)),1)","v":{"$error":"#VALUE!"}},{"$f":"COUNTIF(IF(ISERROR(INDIRECT(\"'B&U_\"&A140&\"'!$H$190\",TRUE)),\"\",INDIRECT(\"'B&U_\"&A140&\"'!$H$190\",TRUE)),1)","v":{"$error":"#VALUE!"}},{"$f":"COUNTIF(IF(ISERROR(INDIRECT(\"'B&U_\"&A140&\"'!$H$199\",TRUE)),\"\",INDIRECT(\"'B&U_\"&A140&\"'!$H$199\",TRUE)),1)","v":{"$error":"#VALUE!"}},null,null,"Tilsyn 79",null,null,null,null,null,null,null,null,null,null,{"$error":"#REF!"},{"$error":"#REF!"},{"$error":"#REF!"},{"$error":"#REF!"},{"$error":"#REF!"},{"$error":"#REF!"},{"$error":"#REF!"}]
["Tilsyn 27","Status:  gul",null,null,null,null,null,null,null,null,{"$f":"COUNTIF(IF(ISERROR(INDIRECT(\"'B&U_\"&A141&\"'!$H$33\",TRUE)),\"\",INDIRECT(\"'B&U_\"&A141&\"'!$H$33\",TRUE)),2)","v":{"$error":"#VALUE!"}},{"$f":"COUNTIF(IF(ISERROR(INDIRECT(\"'B&U_\"&A141&\"'!$h$42\",TRUE)),\"\",INDIRECT(\"'B&U_\"&A141&\"'!$h$42\",TRUE)),2)","v":{"$error":"#VALUE!"}},{"$f":"COUNTIF(IF(ISERROR(INDIRECT(\"'B&U_\"&A141&\"'!$H$66\",TRUE)),\"\",INDIRECT(\"'B&U_\"&A141&\"'!$H$66\",TRUE)),2)","v":{"$error":"#VALUE!"}},{"$f":"COUNTIF(IF(ISERROR(INDIRECT(\"'B&U_\"&A141&\"'!$H$97\",TRUE)),\"\",INDIRECT(\"'B&U_\"&A141&\"'!$H$97\",TRUE)),2)","v":{"$error":"#VALUE!"}},{"$f":"COUNTIF(IF(ISERROR(INDIRECT(\"'B&U_\"&A141&\"'!$H$128\",TRUE)),\"\",INDIRECT(\"'B&U_\"&A141&\"'!$H$128\",TRUE)),2)","v":{"$error":"#VALUE!"}},{"$f":"COUNTIF(IF(ISERROR(INDIRECT(\"'B&U_\"&A141&\"'!$H$160\",TRUE)),\"\",INDIRECT(\"'B&U_\"&A141&\"'!$H$160\",TRUE)),2)","v":{"$error":"#VALUE!"}},{"$f":"COUNTIF(IF(ISERROR(INDIRECT(\"'B&U_\"&A141&\"'!$H$190\",TRUE)),\"\",INDIRECT(\"'B&U_\"&A141&\"'!$H$190\",TRUE)),2)","v":{"$error":"#VALUE!"}},{"$f":"COUNTIF(IF(ISERROR(INDIRECT(\"'B&U_\"&A141&\"'!$H$199\",TRUE)),\"\",INDIRECT(\"'B&U_\"&A141&\"'!$H$199\",TRUE)),2)","v":{"$error":"#VALUE!"}},null,null,"Tilsyn 80",null,null,null,null,null,null,null,null,null,null,{"$error":"#REF!"},{"$error":"#REF!"},{"$error":"#REF!"},{"$error":"#REF!"},{"$error":"#REF!"},{"$error":"#REF!"},{"$error":"#REF!"}]
["Tilsyn 27","Status:  rød",null,null,null,null,null,null,null,null,{"$f":"COUNTIF(IF(ISERROR(INDIRECT(\"'B&U_\"&A142&\"'!$H$33\",TRUE)),\"\",INDIRECT(\"'B&U_\"&A142&\"'!$H$33\",TRUE)),3)","v":{"$error":"#VALUE!"}},{"$f":"COUNTIF(IF(ISERROR(INDIRECT(\"'B&U_\"&A142&\"'!$h$42\",TRUE)),\"\",INDIRECT(\"'B&U_\"&A142&\"'!$h$42\",TRUE)),3)","v":{"$error":"#VALUE!"}},{"$f":"COUNTIF(IF(ISERROR(INDIRECT(\"'B&U_\"&A142&\"'!$H$66\",TRUE)),\"\",INDIRECT(\"'B&U_\"&A142&\"'!$H$66\",TRUE)),3)","v":{"$error":"#VALUE!"}},{"$f":"COUNTIF(IF(ISERROR(INDIRECT(\"'B&U_\"&A142&\"'!$H$97\",TRUE)),\"\",INDIRECT(\"'B&U_\"&A142&\"'!$H$97\",TRUE)),3)","v":{"$error":"#VALUE!"}},{"$f":"COUNTIF(IF(ISERROR(INDIRECT(\"'B&U_\"&A142&\"'!$H$128\",TRUE)),\"\",INDIRECT(\"'B&U_\"&A142&\"'!$H$128\",TRUE)),3)","v":{"$error":"#VALUE!"}},{"$f":"COUNTIF(IF(ISERROR(INDIRECT(\"'B&U_\"&A142&\"'!$H$160\",TRUE)),\"\",INDIRECT(\"'B&U_\"&A142&\"'!$H$160\",TRUE)),3)","v":{"$error":"#VALUE!"}},{"$f":"COUNTIF(IF(ISERROR(INDIRECT(\"'B&U_\"&A142&\"'!$H$190\",TRUE)),\"\",INDIRECT(\"'B&U_\"&A142&\"'!$H$190\",TRUE)),3)","v":{"$error":"#VALUE!"}},{"$f":"COUNTIF(IF(ISERROR(INDIRECT(\"'B&U_\"&A142&\"'!$H$199\",TRUE)),\"\",INDIRECT(\"'B&U_\"&A142&\"'!$H$199\",TRUE)),3)","v":{"$error":"#VALUE!"}},null,null,"Tilsyn 81",null,null,null,null,null,null,null,null,null,null,{"$error":"#REF!"},{"$error":"#REF!"},{"$error":"#REF!"},{"$error":"#REF!"},{"$error":"#REF!"},{"$error":"#REF!"},{"$error":"#REF!"}]
["Tilsyn 28","Status:  grøn",null,null,null,null,null,null,null,null,{"$f":"COUNTIF(IF(ISERROR(INDIRECT(\"'B&U_\"&A143&\"'!$H$33\",TRUE)),\"\",INDIRECT(\"'B&U_\"&A143&\"'!$H$33\",TRUE)),1)","v":{"$error":"#VALUE!"}},{"$f":"COUNTIF(IF(ISERROR(INDIRECT(\"'B&U_\"&A143&\"'!$h$42\",TRUE)),\"\",INDIRECT(\"'B&U_\"&A143&\"'!$h$42\",TRUE)),1)","v":{"$error":"#VALUE!"}},{"$f":"COUNTIF(IF(ISERROR(INDIRECT(\"'B&U_\"&A143&\"'!$H$66\",TRUE)),\"\",INDIRECT(\"'B&U_\"&A143&\"'!$H$66\",TRUE)),1)","v":{"$error":"#VALUE!"}},{"$f":"COUNTIF(IF(ISERROR(INDIRECT(\"'B&U_\"&A143&\"'!$H$97\",TRUE)),\"\",INDIRECT(\"'B&U_\"&A143&\"'!$H$97\",TRUE)),1)","v":{"$error":"#VALUE!"}},{"$f":"COUNTIF(IF(ISERROR(INDIRECT(\"'B&U_\"&A143&\"'!$H$128\",TRUE)),\"\",INDIRECT(\"'B&U_\"&A143&\"'!$H$128\",TRUE)),1)","v":{"$error":"#VALUE!"}},{"$f":"COUNTIF(IF(ISERROR(INDIRECT(\"'B&U_\"&A143&\"'!$H$160\",TRUE)),\"\",INDIRECT(\"'B&U_\"&A143&\"'!$H$160\",TRUE)),1)","v":{"$error":"#VALUE!"}},{"$f":"COUNTIF(IF(ISERROR(INDIRECT(\"'B&U_\"&A143&\"'!$H$190\",TRUE)),\"\",INDIRECT(\"'B&U_\"&A143&\"'!$H$190\",TRUE)),1)","v":{"$error":"#VALUE!"}},{"$f":"COUNTIF(IF(ISERROR(INDIRECT(\"'B&U_\"&A143&\"'!$H$199\",TRUE)),\"\",INDIRECT(\"'B&U_\"&A143&\"'!$H$199\",TRUE)),1)","v":{"$error":"#VALUE!"}},null,null,"Tilsyn 82",null,null,null,null,null,null,null,null,null,null,{"$error":"#REF!"},{"$error":"#REF!"},{"$error":"#REF!"},{"$error":"#REF!"},{"$error":"#REF!"},{"$error":"#REF!"},{"$error":"#REF!"}]
["Tilsyn 28","Status:  gul",null,null,null,null,null,null,null,null,{"$f":"COUNTIF(IF(ISERROR(INDIRECT(\"'B&U_\"&A144&\"'!$H$33\",TRUE)),\"\",INDIRECT(\"'B&U_\"&A144&\"'!$H$33\",TRUE)),2)","v":{"$error":"#VALUE!"}},{"$f":"COUNTIF(IF(ISERROR(INDIRECT(\"'B&U_\"&A144&\"'!$h$42\",TRUE)),\"\",INDIRECT(\"'B&U_\"&A144&\"'!$h$42\",TRUE)),2)","v":{"$error":"#VALUE!"}},{"$f":"COUNTIF(IF(ISERROR(INDIRECT(\"'B&U_\"&A144&\"'!$H$66\",TRUE)),\"\",INDIRECT(\"'B&U_\"&A144&\"'!$H$66\",TRUE)),2)","v":{"$error":"#VALUE!"}},{"$f":"COUNTIF(IF(ISERROR(INDIRECT(\"'B&U_\"&A144&\"'!$H$97\",TRUE)),\"\",INDIRECT(\"'B&U_\"&A144&\"'!$H$97\",TRUE)),2)","v":{"$error":"#VALUE!"}},{"$f":"COUNTIF(IF(ISERROR(INDIRECT(\"'B&U_\"&A144&\"'!$H$128\",TRUE)),\"\",INDIRECT(\"'B&U_\"&A144&\"'!$H$128\",TRUE)),2)","v":{"$error":"#VALUE!"}},{"$f":"COUNTIF(IF(ISERROR(INDIRECT(\"'B&U_\"&A144&\"'!$H$160\",TRUE)),\"\",INDIRECT(\"'B&U_\"&A144&\"'!$H$160\",TRUE)),2)","v":{"$error":"#VALUE!"}},{"$f":"COUNTIF(IF(ISERROR(INDIRECT(\"'B&U_\"&A144&\"'!$H$190\",TRUE)),\"\",INDIRECT(\"'B&U_\"&A144&\"'!$H$190\",TRUE)),2)","v":{"$error":"#VALUE!"}},{"$f":"COUNTIF(IF(ISERROR(INDIRECT(\"'B&U_\"&A144&\"'!$H$199\",TRUE)),\"\",INDIRECT(\"'B&U_\"&A144&\"'!$H$199\",TRUE)),2)","v":{"$error":"#VALUE!"}},null,null,"Tilsyn 83",null,null,null,null,null,null,null,null,null,null,{"$error":"#REF!"},{"$error":"#REF!"},{"$error":"#REF!"},{"$error":"#REF!"},{"$error":"#REF!"},{"$error":"#REF!"},{"$error":"#REF!"}]
["Tilsyn 28","Status:  rød",null,null,null,null,null,null,null,null,{"$f":"COUNTIF(IF(ISERROR(INDIRECT(\"'B&U_\"&A145&\"'!$H$33\",TRUE)),\"\",INDIRECT(\"'B&U_\"&A145&\"'!$H$33\",TRUE)),3)","v":{"$error":"#VALUE!"}},{"$f":"COUNTIF(IF(ISERROR(INDIRECT(\"'B&U_\"&A145&\"'!$h$42\",TRUE)),\"\",INDIRECT(\"'B&U_\"&A145&\"'!$h$42\",TRUE)),3)","v":{"$error":"#VALUE!"}},{"$f":"COUNTIF(IF(ISERROR(INDIRECT(\"'B&U_\"&A145&\"'!$H$66\",TRUE)),\"\",INDIRECT(\"'B&U_\"&A145&\"'!$H$66\",TRUE)),3)","v":{"$error":"#VALUE!"}},{"$f":"COUNTIF(IF(ISERROR(INDIRECT(\"'B&U_\"&A145&\"'!$H$97\",TRUE)),\"\",INDIRECT(\"'B&U_\"&A145&\"'!$H$97\",TRUE)),3)","v":{"$error":"#VALUE!"}},{"$f":"COUNTIF(IF(ISERROR(INDIRECT(\"'B&U_\"&A145&\"'!$H$128\",TRUE)),\"\",INDIRECT(\"'B&U_\"&A145&\"'!$H$128\",TRUE)),3)","v":{"$error":"#VALUE!"}},{"$f":"COUNTIF(IF(ISERROR(INDIRECT(\"'B&U_\"&A145&\"'!$H$160\",TRUE)),\"\",INDIRECT(\"'B&U_\"&A145&\"'!$H$160\",TRUE)),3)","v":{"$error":"#VALUE!"}},{"$f":"COUNTIF(IF(ISERROR(INDIRECT(\"'B&U_\"&A145&\"'!$H$190\",TRUE)),\"\",INDIRECT(\"'B&U_\"&A145&\"'!$H$190\",TRUE)),3)","v":{"$error":"#VALUE!"}},{"$f":"COUNTIF(IF(ISERROR(INDIRECT(\"'B&U_\"&A145&\"'!$H$199\",TRUE)),\"\",INDIRECT(\"'B&U_\"&A145&\"'!$H$199\",TRUE)),3)","v":{"$error":"#VALUE!"}},null,null,"Tilsyn 84",null,null,null,null,null,null,null,null,null,null,{"$error":"#REF!"},{"$error":"#REF!"},{"$error":"#REF!"},{"$error":"#REF!"},{"$error":"#REF!"},{"$error":"#REF!"},{"$error":"#REF!"}]
["Tilsyn 29","Status:  grøn",null,null,null,null,null,null,null,null,{"$f":"COUNTIF(IF(ISERROR(INDIRECT(\"'B&U_\"&A146&\"'!$H$33\",TRUE)),\"\",INDIRECT(\"'B&U_\"&A146&\"'!$H$33\",TRUE)),1)","v":{"$error":"#VALUE!"}},{"$f":"COUNTIF(IF(ISERROR(INDIRECT(\"'B&U_\"&A146&\"'!$h$42\",TRUE)),\"\",INDIRECT(\"'B&U_\"&A146&\"'!$h$42\",TRUE)),1)","v":{"$error":"#VALUE!"}},{"$f":"COUNTIF(IF(ISERROR(INDIRECT(\"'B&U_\"&A146&\"'!$H$66\",TRUE)),\"\",INDIRECT(\"'B&U_\"&A146&\"'!$H$66\",TRUE)),1)","v":{"$error":"#VALUE!"}},{"$f":"COUNTIF(IF(ISERROR(INDIRECT(\"'B&U_\"&A146&\"'!$H$97\",TRUE)),\"\",INDIRECT(\"'B&U_\"&A146&\"'!$H$97\",TRUE)),1)","v":{"$error":"#VALUE!"}},{"$f":"COUNTIF(IF(ISERROR(INDIRECT(\"'B&U_\"&A146&\"'!$H$128\",TRUE)),\"\",INDIRECT(\"'B&U_\"&A146&\"'!$H$128\",TRUE)),1)","v":{"$error":"#VALUE!"}},{"$f":"COUNTIF(IF(ISERROR(INDIRECT(\"'B&U_\"&A146&\"'!$H$160\",TRUE)),\"\",INDIRECT(\"'B&U_\"&A146&\"'!$H$160\",TRUE)),1)","v":{"$error":"#VALUE!"}},{"$f":"COUNTIF(IF(ISERROR(INDIRECT(\"'B&U_\"&A146&\"'!$H$190\",TRUE)),\"\",INDIRECT(\"'B&U_\"&A146&\"'!$H$190\",TRUE)),1)","v":{"$error":"#VALUE!"}},{"$f":"COUNTIF(IF(ISERROR(INDIRECT(\"'B&U_\"&A146&\"'!$H$199\",TRUE)),\"\",INDIRECT(\"'B&U_\"&A146&\"'!$H$199\",TRUE)),1)","v":{"$error":"#VALUE!"}},null,null,"Tilsyn 85",null,null,null,null,null,null,null,null,null,null,{"$error":"#REF!"},{"$error":"#REF!"},{"$error":"#REF!"},{"$error":"#REF!"},{"$error":"#REF!"},{"$error":"#REF!"},{"$error":"#REF!"}]
["Tilsyn 29","Status:  gul",null,null,null,null,null,null,null,null,{"$f":"COUNTIF(IF(ISERROR(INDIRECT(\"'B&U_\"&A147&\"'!$H$33\",TRUE)),\"\",INDIRECT(\"'B&U_\"&A147&\"'!$H$33\",TRUE)),2)","v":{"$error":"#VALUE!"}},{"$f":"COUNTIF(IF(ISERROR(INDIRECT(\"'B&U_\"&A147&\"'!$h$42\",TRUE)),\"\",INDIRECT(\"'B&U_\"&A147&\"'!$h$42\",TRUE)),2)","v":{"$error":"#VALUE!"}},{"$f":"COUNTIF(IF(ISERROR(INDIRECT(\"'B&U_\"&A147&\"'!$H$66\",TRUE)),\"\",INDIRECT(\"'B&U_\"&A147&\"'!$H$66\",TRUE)),2)","v":{"$error":"#VALUE!"}},{"$f":"COUNTIF(IF(ISERROR(INDIRECT(\"'B&U_\"&A147&\"'!$H$97\",TRUE)),\"\",INDIRECT(\"'B&U_\"&A147&\"'!$H$97\",TRUE)),2)","v":{"$error":"#VALUE!"}},{"$f":"COUNTIF(IF(ISERROR(INDIRECT(\"'B&U_\"&A147&\"'!$H$128\",TRUE)),\"\",INDIRECT(\"'B&U_\"&A147&\"'!$H$128\",TRUE)),2)","v":{"$error":"#VALUE!"}},{"$f":"COUNTIF(IF(ISERROR(INDIRECT(\"'B&U_\"&A147&\"'!$H$160\",TRUE)),\"\",INDIRECT(\"'B&U_\"&A147&\"'!$H$160\",TRUE)),2)","v":{"$error":"#VALUE!"}},{"$f":"COUNTIF(IF(ISERROR(INDIRECT(\"'B&U_\"&A147&\"'!$H$190\",TRUE)),\"\",INDIRECT(\"'B&U_\"&A147&\"'!$H$190\",TRUE)),2)","v":{"$error":"#VALUE!"}},{"$f":"COUNTIF(IF(ISERROR(INDIRECT(\"'B&U_\"&A147&\"'!$H$199\",TRUE)),\"\",INDIRECT(\"'B&U_\"&A147&\"'!$H$199\",TRUE)),2)","v":{"$error":"#VALUE!"}},null,null,"Tilsyn 86",null,null,null,null,null,null,null,null,null,null,{"$error":"#REF!"},{"$error":"#REF!"},{"$error":"#REF!"},{"$error":"#REF!"},{"$error":"#REF!"},{"$error":"#REF!"},{"$error":"#REF!"}]
["Tilsyn 29","Status:  rød",null,null,null,null,null,null,null,null,{"$f":"COUNTIF(IF(ISERROR(INDIRECT(\"'B&U_\"&A148&\"'!$H$33\",TRUE)),\"\",INDIRECT(\"'B&U_\"&A148&\"'!$H$33\",TRUE)),3)","v":{"$error":"#VALUE!"}},{"$f":"COUNTIF(IF(ISERROR(INDIRECT(\"'B&U_\"&A148&\"'!$h$42\",TRUE)),\"\",INDIRECT(\"'B&U_\"&A148&\"'!$h$42\",TRUE)),3)","v":{"$error":"#VALUE!"}},{"$f":"COUNTIF(IF(ISERROR(INDIRECT(\"'B&U_\"&A148&\"'!$H$66\",TRUE)),\"\",INDIRECT(\"'B&U_\"&A148&\"'!$H$66\",TRUE)),3)","v":{"$error":"#VALUE!"}},{"$f":"COUNTIF(IF(ISERROR(INDIRECT(\"'B&U_\"&A148&\"'!$H$97\",TRUE)),\"\",INDIRECT(\"'B&U_\"&A148&\"'!$H$97\",TRUE)),3)","v":{"$error":"#VALUE!"}},{"$f":"COUNTIF(IF(ISERROR(INDIRECT(\"'B&U_\"&A148&\"'!$H$128\",TRUE)),\"\",INDIRECT(\"'B&U_\"&A148&\"'!$H$128\",TRUE)),3)","v":{"$error":"#VALUE!"}},{"$f":"COUNTIF(IF(ISERROR(INDIRECT(\"'B&U_\"&A148&\"'!$H$160\",TRUE)),\"\",INDIRECT(\"'B&U_\"&A148&\"'!$H$160\",TRUE)),3)","v":{"$error":"#VALUE!"}},{"$f":"COUNTIF(IF(ISERROR(INDIRECT(\"'B&U_\"&A148&\"'!$H$190\",TRUE)),\"\",INDIRECT(\"'B&U_\"&A148&\"'!$H$190\",TRUE)),3)","v":{"$error":"#VALUE!"}},{"$f":"COUNTIF(IF(ISERROR(INDIRECT(\"'B&U_\"&A148&\"'!$H$199\",TRUE)),\"\",INDIRECT(\"'B&U_\"&A148&\"'!$H$199\",TRUE)),3)","v":{"$error":"#VALUE!"}},null,null,"Tilsyn 87",null,null,null,null,null,null,null,null,null,null,{"$error":"#REF!"},{"$error":"#REF!"},{"$error":"#REF!"},{"$error":"#REF!"},{"$error":"#REF!"},{"$error":"#REF!"},{"$error":"#REF!"}]
["Tilsyn 30","Status:  grøn",null,null,null,null,null,null,null,null,{"$f":"COUNTIF(IF(ISERROR(INDIRECT(\"'B&U_\"&A149&\"'!$H$33\",TRUE)),\"\",INDIRECT(\"'B&U_\"&A149&\"'!$H$33\",TRUE)),1)","v":{"$error":"#VALUE!"}},{"$f":"COUNTIF(IF(ISERROR(INDIRECT(\"'B&U_\"&A149&\"'!$h$42\",TRUE)),\"\",INDIRECT(\"'B&U_\"&A149&\"'!$h$42\",TRUE)),1)","v":{"$error":"#VALUE!"}},{"$f":"COUNTIF(IF(ISERROR(INDIRECT(\"'B&U_\"&A149&\"'!$H$66\",TRUE)),\"\",INDIRECT(\"'B&U_\"&A149&\"'!$H$66\",TRUE)),1)","v":{"$error":"#VALUE!"}},{"$f":"COUNTIF(IF(ISERROR(INDIRECT(\"'B&U_\"&A149&\"'!$H$97\",TRUE)),\"\",INDIRECT(\"'B&U_\"&A149&\"'!$H$97\",TRUE)),1)","v":{"$error":"#VALUE!"}},{"$f":"COUNTIF(IF(ISERROR(INDIRECT(\"'B&U_\"&A149&\"'!$H$128\",TRUE)),\"\",INDIRECT(\"'B&U_\"&A149&\"'!$H$128\",TRUE)),1)","v":{"$error":"#VALUE!"}},{"$f":"COUNTIF(IF(ISERROR(INDIRECT(\"'B&U_\"&A149&\"'!$H$160\",TRUE)),\"\",INDIRECT(\"'B&U_\"&A149&\"'!$H$160\",TRUE)),1)","v":{"$error":"#VALUE!"}},{"$f":"COUNTIF(IF(ISERROR(INDIRECT(\"'B&U_\"&A149&\"'!$H$190\",TRUE)),\"\",INDIRECT(\"'B&U_\"&A149&\"'!$H$190\",TRUE)),1)","v":{"$error":"#VALUE!"}},{"$f":"COUNTIF(IF(ISERROR(INDIRECT(\"'B&U_\"&A149&\"'!$H$199\",TRUE)),\"\",INDIRECT(\"'B&U_\"&A149&\"'!$H$199\",TRUE)),1)","v":{"$error":"#VALUE!"}},null,null,"Tilsyn 88",null,null,null,null,null,null,null,null,null,null,{"$error":"#REF!"},{"$error":"#REF!"},{"$error":"#REF!"},{"$error":"#REF!"},{"$error":"#REF!"},{"$error":"#REF!"},{"$error":"#REF!"}]
["Tilsyn 30","Status:  gul",null,null,null,null,null,null,null,null,{"$f":"COUNTIF(IF(ISERROR(INDIRECT(\"'B&U_\"&A150&\"'!$H$33\",TRUE)),\"\",INDIRECT(\"'B&U_\"&A150&\"'!$H$33\",TRUE)),2)","v":{"$error":"#VALUE!"}},{"$f":"COUNTIF(IF(ISERROR(INDIRECT(\"'B&U_\"&A150&\"'!$h$42\",TRUE)),\"\",INDIRECT(\"'B&U_\"&A150&\"'!$h$42\",TRUE)),2)","v":{"$error":"#VALUE!"}},{"$f":"COUNTIF(IF(ISERROR(INDIRECT(\"'B&U_\"&A150&\"'!$H$66\",TRUE)),\"\",INDIRECT(\"'B&U_\"&A150&\"'!$H$66\",TRUE)),2)","v":{"$error":"#VALUE!"}},{"$f":"COUNTIF(IF(ISERROR(INDIRECT(\"'B&U_\"&A150&\"'!$H$97\",TRUE)),\"\",INDIRECT(\"'B&U_\"&A150&\"'!$H$97\",TRUE)),2)","v":{"$error":"#VALUE!"}},{"$f":"COUNTIF(IF(ISERROR(INDIRECT(\"'B&U_\"&A150&\"'!$H$128\",TRUE)),\"\",INDIRECT(\"'B&U_\"&A150&\"'!$H$128\",TRUE)),2)","v":{"$error":"#VALUE!"}},{"$f":"COUNTIF(IF(ISERROR(INDIRECT(\"'B&U_\"&A150&\"'!$H$160\",TRUE)),\"\",INDIRECT(\"'B&U_\"&A150&\"'!$H$160\",TRUE)),2)","v":{"$error":"#VALUE!"}},{"$f":"COUNTIF(IF(ISERROR(INDIRECT(\"'B&U_\"&A150&\"'!$H$190\",TRUE)),\"\",INDIRECT(\"'B&U_\"&A150&\"'!$H$190\",TRUE)),2)","v":{"$error":"#VALUE!"}},{"$f":"COUNTIF(IF(ISERROR(INDIRECT(\"'B&U_\"&A150&\"'!$H$199\",TRUE)),\"\",INDIRECT(\"'B&U_\"&A150&\"'!$H$199\",TRUE)),2)","v":{"$error":"#VALUE!"}},null,null,"Tilsyn 89",null,null,null,null,null,null,null,null,null,null,{"$error":"#REF!"},{"$error":"#REF!"},{"$error":"#REF!"},{"$error":"#REF!"},{"$error":"#REF!"},{"$error":"#REF!"},{"$error":"#REF!"}]
["Tilsyn 30","Status:  rød",null,null,null,null,null,null,null,null,{"$f":"COUNTIF(IF(ISERROR(INDIRECT(\"'B&U_\"&A151&\"'!$H$33\",TRUE)),\"\",INDIRECT(\"'B&U_\"&A151&\"'!$H$33\",TRUE)),3)","v":{"$error":"#VALUE!"}},{"$f":"COUNTIF(IF(ISERROR(INDIRECT(\"'B&U_\"&A151&\"'!$h$42\",TRUE)),\"\",INDIRECT(\"'B&U_\"&A151&\"'!$h$42\",TRUE)),3)","v":{"$error":"#VALUE!"}},{"$f":"COUNTIF(IF(ISERROR(INDIRECT(\"'B&U_\"&A151&\"'!$H$66\",TRUE)),\"\",INDIRECT(\"'B&U_\"&A151&\"'!$H$66\",TRUE)),3)","v":{"$error":"#VALUE!"}},{"$f":"COUNTIF(IF(ISERROR(INDIRECT(\"'B&U_\"&A151&\"'!$H$97\",TRUE)),\"\",INDIRECT(\"'B&U_\"&A151&\"'!$H$97\",TRUE)),3)","v":{"$error":"#VALUE!"}},{"$f":"COUNTIF(IF(ISERROR(INDIRECT(\"'B&U_\"&A151&\"'!$H$128\",TRUE)),\"\",INDIRECT(\"'B&U_\"&A151&\"'!$H$128\",TRUE)),3)","v":{"$error":"#VALUE!"}},{"$f":"COUNTIF(IF(ISERROR(INDIRECT(\"'B&U_\"&A151&\"'!$H$160\",TRUE)),\"\",INDIRECT(\"'B&U_\"&A151&\"'!$H$160\",TRUE)),3)","v":{"$error":"#VALUE!"}},{"$f":"COUNTIF(IF(ISERROR(INDIRECT(\"'B&U_\"&A151&\"'!$H$190\",TRUE)),\"\",INDIRECT(\"'B&U_\"&A151&\"'!$H$190\",TRUE)),3)","v":{"$error":"#VALUE!"}},{"$f":"COUNTIF(IF(ISERROR(INDIRECT(\"'B&U_\"&A151&\"'!$H$199\",TRUE)),\"\",INDIRECT(\"'B&U_\"&A151&\"'!$H$199\",TRUE)),3)","v":{"$error":"#VALUE!"}},null,null,"Tilsyn 90",null,null,null,null,null,null,null,null,null,null,{"$error":"#REF!"},{"$error":"#REF!"},{"$error":"#REF!"},{"$error":"#REF!"},{"$error":"#REF!"},{"$error":"#REF!"},{"$error":"#REF!"}]
["Tilsyn 31","Status:  grøn",null,null,null,null,null,null,null,null,{"$f":"COUNTIF(IF(ISERROR(INDIRECT(\"'B&U_\"&A152&\"'!$H$33\",TRUE)),\"\",INDIRECT(\"'B&U_\"&A152&\"'!$H$33\",TRUE)),1)","v":{"$error":"#VALUE!"}},{"$f":"COUNTIF(IF(ISERROR(INDIRECT(\"'B&U_\"&A152&\"'!$h$42\",TRUE)),\"\",INDIRECT(\"'B&U_\"&A152&\"'!$h$42\",TRUE)),1)","v":{"$error":"#VALUE!"}},{"$f":"COUNTIF(IF(ISERROR(INDIRECT(\"'B&U_\"&A152&\"'!$H$66\",TRUE)),\"\",INDIRECT(\"'B&U_\"&A152&\"'!$H$66\",TRUE)),1)","v":{"$error":"#VALUE!"}},{"$f":"COUNTIF(IF(ISERROR(INDIRECT(\"'B&U_\"&A152&\"'!$H$97\",TRUE)),\"\",INDIRECT(\"'B&U_\"&A152&\"'!$H$97\",TRUE)),1)","v":{"$error":"#VALUE!"}},{"$f":"COUNTIF(IF(ISERROR(INDIRECT(\"'B&U_\"&A152&\"'!$H$128\",TRUE)),\"\",INDIRECT(\"'B&U_\"&A152&\"'!$H$128\",TRUE)),1)","v":{"$error":"#VALUE!"}},{"$f":"COUNTIF(IF(ISERROR(INDIRECT(\"'B&U_\"&A152&\"'!$H$160\",TRUE)),\"\",INDIRECT(\"'B&U_\"&A152&\"'!$H$160\",TRUE)),1)","v":{"$error":"#VALUE!"}},{"$f":"COUNTIF(IF(ISERROR(INDIRECT(\"'B&U_\"&A152&\"'!$H$190\",TRUE)),\"\",INDIRECT(\"'B&U_\"&A152&\"'!$H$190\",TRUE)),1)","v":{"$error":"#VALUE!"}},{"$f":"COUNTIF(IF(ISERROR(INDIRECT(\"'B&U_\"&A152&\"'!$H$199\",TRUE)),\"\",INDIRECT(\"'B&U_\"&A152&\"'!$H$199\",TRUE)),1)","v":{"$error":"#VALUE!"}},null,null,"Tilsyn 91",null,null,null,null,null,null,null,null,null,null,{"$error":"#REF!"},{"$error":"#REF!"},{"$error":"#REF!"},{"$error":"#REF!"},{"$error":"#REF!"},{"$error":"#REF!"},{"$error":"#REF!"}]
["Tilsyn 31","Status:  gul",null,null,null,null,null,null,null,null,{"$f":"COUNTIF(IF(ISERROR(INDIRECT(\"'B&U_\"&A153&\"'!$H$33\",TRUE)),\"\",INDIRECT(\"'B&U_\"&A153&\"'!$H$33\",TRUE)),2)","v":{"$error":"#VALUE!"}},{"$f":"COUNTIF(IF(ISERROR(INDIRECT(\"'B&U_\"&A153&\"'!$h$42\",TRUE)),\"\",INDIRECT(\"'B&U_\"&A153&\"'!$h$42\",TRUE)),2)","v":{"$error":"#VALUE!"}},{"$f":"COUNTIF(IF(ISERROR(INDIRECT(\"'B&U_\"&A153&\"'!$H$66\",TRUE)),\"\",INDIRECT(\"'B&U_\"&A153&\"'!$H$66\",TRUE)),2)","v":{"$error":"#VALUE!"}},{"$f":"COUNTIF(IF(ISERROR(INDIRECT(\"'B&U_\"&A153&\"'!$H$97\",TRUE)),\"\",INDIRECT(\"'B&U_\"&A153&\"'!$H$97\",TRUE)),2)","v":{"$error":"#VALUE!"}},{"$f":"COUNTIF(IF(ISERROR(INDIRECT(\"'B&U_\"&A153&\"'!$H$128\",TRUE)),\"\",INDIRECT(\"'B&U_\"&A153&\"'!$H$128\",TRUE)),2)","v":{"$error":"#VALUE!"}},{"$f":"COUNTIF(IF(ISERROR(INDIRECT(\"'B&U_\"&A153&\"'!$H$160\",TRUE)),\"\",INDIRECT(\"'B&U_\"&A153&\"'!$H$160\",TRUE)),2)","v":{"$error":"#VALUE!"}},{"$f":"COUNTIF(IF(ISERROR(INDIRECT(\"'B&U_\"&A153&\"'!$H$190\",TRUE)),\"\",INDIRECT(\"'B&U_\"&A153&\"'!$H$190\",TRUE)),2)","v":{"$error":"#VALUE!"}},{"$f":"COUNTIF(IF(ISERROR(INDIRECT(\"'B&U_\"&A153&\"'!$H$199\",TRUE)),\"\",INDIRECT(\"'B&U_\"&A153&\"'!$H$199\",TRUE)),2)","v":{"$error":"#VALUE!"}},null,null,"Tilsyn 92",null,null,null,null,null,null,null,null,null,null,{"$error":"#REF!"},{"$error":"#REF!"},{"$error":"#REF!"},{"$error":"#REF!"},{"$error":"#REF!"},{"$error":"#REF!"},{"$error":"#REF!"}]
["Tilsyn 31","Status:  rød",null,null,null,null,null,null,null,null,{"$f":"COUNTIF(IF(ISERROR(INDIRECT(\"'B&U_\"&A154&\"'!$H$33\",TRUE)),\"\",INDIRECT(\"'B&U_\"&A154&\"'!$H$33\",TRUE)),3)","v":{"$error":"#VALUE!"}},{"$f":"COUNTIF(IF(ISERROR(INDIRECT(\"'B&U_\"&A154&\"'!$h$42\",TRUE)),\"\",INDIRECT(\"'B&U_\"&A154&\"'!$h$42\",TRUE)),3)","v":{"$error":"#VALUE!"}},{"$f":"COUNTIF(IF(ISERROR(INDIRECT(\"'B&U_\"&A154&\"'!$H$66\",TRUE)),\"\",INDIRECT(\"'B&U_\"&A154&\"'!$H$66\",TRUE)),3)","v":{"$error":"#VALUE!"}},{"$f":"COUNTIF(IF(ISERROR(INDIRECT(\"'B&U_\"&A154&\"'!$H$97\",TRUE)),\"\",INDIRECT(\"'B&U_\"&A154&\"'!$H$97\",TRUE)),3)","v":{"$error":"#VALUE!"}},{"$f":"COUNTIF(IF(ISERROR(INDIRECT(\"'B&U_\"&A154&\"'!$H$128\",TRUE)),\"\",INDIRECT(\"'B&U_\"&A154&\"'!$H$128\",TRUE)),3)","v":{"$error":"#VALUE!"}},{"$f":"COUNTIF(IF(ISERROR(INDIRECT(\"'B&U_\"&A154&\"'!$H$160\",TRUE)),\"\",INDIRECT(\"'B&U_\"&A154&\"'!$H$160\",TRUE)),3)","v":{"$error":"#VALUE!"}},{"$f":"COUNTIF(IF(ISERROR(INDIRECT(\"'B&U_\"&A154&\"'!$H$190\",TRUE)),\"\",INDIRECT(\"'B&U_\"&A154&\"'!$H$190\",TRUE)),3)","v":{"$error":"#VALUE!"}},{"$f":"COUNTIF(IF(ISERROR(INDIRECT(\"'B&U_\"&A154&\"'!$H$199\",TRUE)),\"\",INDIRECT(\"'B&U_\"&A154&\"'!$H$199\",TRUE)),3)","v":{"$error":"#VALUE!"}},null,null,"Tilsyn 93",null,null,null,null,null,null,null,null,null,null,{"$error":"#REF!"},{"$error":"#REF!"},{"$error":"#REF!"},{"$error":"#REF!"},{"$error":"#REF!"},{"$error":"#REF!"},{"$error":"#REF!"}]
["Tilsyn 32","Status:  grøn",null,null,null,null,null,null,null,null,{"$f":"COUNTIF(IF(ISERROR(INDIRECT(\"'B&U_\"&A155&\"'!$H$33\",TRUE)),\"\",INDIRECT(\"'B&U_\"&A155&\"'!$H$33\",TRUE)),1)","v":{"$error":"#VALUE!"}},{"$f":"COUNTIF(IF(ISERROR(INDIRECT(\"'B&U_\"&A155&\"'!$h$42\",TRUE)),\"\",INDIRECT(\"'B&U_\"&A155&\"'!$h$42\",TRUE)),1)","v":{"$error":"#VALUE!"}},{"$f":"COUNTIF(IF(ISERROR(INDIRECT(\"'B&U_\"&A155&\"'!$H$66\",TRUE)),\"\",INDIRECT(\"'B&U_\"&A155&\"'!$H$66\",TRUE)),1)","v":{"$error":"#VALUE!"}},{"$f":"COUNTIF(IF(ISERROR(INDIRECT(\"'B&U_\"&A155&\"'!$H$97\",TRUE)),\"\",INDIRECT(\"'B&U_\"&A155&\"'!$H$97\",TRUE)),1)","v":{"$error":"#VALUE!"}},{"$f":"COUNTIF(IF(ISERROR(INDIRECT(\"'B&U_\"&A155&\"'!$H$128\",TRUE)),\"\",INDIRECT(\"'B&U_\"&A155&\"'!$H$128\",TRUE)),1)","v":{"$error":"#VALUE!"}},{"$f":"COUNTIF(IF(ISERROR(INDIRECT(\"'B&U_\"&A155&\"'!$H$160\",TRUE)),\"\",INDIRECT(\"'B&U_\"&A155&\"'!$H$160\",TRUE)),1)","v":{"$error":"#VALUE!"}},{"$f":"COUNTIF(IF(ISERROR(INDIRECT(\"'B&U_\"&A155&\"'!$H$190\",TRUE)),\"\",INDIRECT(\"'B&U_\"&A155&\"'!$H$190\",TRUE)),1)","v":{"$error":"#VALUE!"}},{"$f":"COUNTIF(IF(ISERROR(INDIRECT(\"'B&U_\"&A155&\"'!$H$199\",TRUE)),\"\",INDIRECT(\"'B&U_\"&A155&\"'!$H$199\",TRUE)),1)","v":{"$error":"#VALUE!"}},null,null,"Tilsyn 94",null,null,null,null,null,null,null,null,null,null,{"$error":"#REF!"},{"$error":"#REF!"},{"$error":"#REF!"},{"$error":"#REF!"},{"$error":"#REF!"},{"$error":"#REF!"},{"$error":"#REF!"}]
["Tilsyn 32","Status:  gul",null,null,null,null,null,null,null,null,{"$f":"COUNTIF(IF(ISERROR(INDIRECT(\"'B&U_\"&A156&\"'!$H$33\",TRUE)),\"\",INDIRECT(\"'B&U_\"&A156&\"'!$H$33\",TRUE)),2)","v":{"$error":"#VALUE!"}},{"$f":"COUNTIF(IF(ISERROR(INDIRECT(\"'B&U_\"&A156&\"'!$h$42\",TRUE)),\"\",INDIRECT(\"'B&U_\"&A156&\"'!$h$42\",TRUE)),2)","v":{"$error":"#VALUE!"}},{"$f":"COUNTIF(IF(ISERROR(INDIRECT(\"'B&U_\"&A156&\"'!$H$66\",TRUE)),\"\",INDIRECT(\"'B&U_\"&A156&\"'!$H$66\",TRUE)),2)","v":{"$error":"#VALUE!"}},{"$f":"COUNTIF(IF(ISERROR(INDIRECT(\"'B&U_\"&A156&\"'!$H$97\",TRUE)),\"\",INDIRECT(\"'B&U_\"&A156&\"'!$H$97\",TRUE)),2)","v":{"$error":"#VALUE!"}},{"$f":"COUNTIF(IF(ISERROR(INDIRECT(\"'B&U_\"&A156&\"'!$H$128\",TRUE)),\"\",INDIRECT(\"'B&U_\"&A156&\"'!$H$128\",TRUE)),2)","v":{"$error":"#VALUE!"}},{"$f":"COUNTIF(IF(ISERROR(INDIRECT(\"'B&U_\"&A156&\"'!$H$160\",TRUE)),\"\",INDIRECT(\"'B&U_\"&A156&\"'!$H$160\",TRUE)),2)","v":{"$error":"#VALUE!"}},{"$f":"COUNTIF(IF(ISERROR(INDIRECT(\"'B&U_\"&A156&\"'!$H$190\",TRUE)),\"\",INDIRECT(\"'B&U_\"&A156&\"'!$H$190\",TRUE)),2)","v":{"$error":"#VALUE!"}},{"$f":"COUNTIF(IF(ISERROR(INDIRECT(\"'B&U_\"&A156&\"'!$H$199\",TRUE)),\"\",INDIRECT(\"'B&U_\"&A156&\"'!$H$199\",TRUE)),2)","v":{"$error":"#VALUE!"}},null,null,"Tilsyn 95",null,null,null,null,null,null,null,null,null,null,{"$error":"#REF!"},{"$error":"#REF!"},{"$error":"#REF!"},{"$error":"#REF!"},{"$error":"#REF!"},{"$error":"#REF!"},{"$error":"#REF!"}]
["Tilsyn 32","Status:  rød",null,null,null,null,null,null,null,null,{"$f":"COUNTIF(IF(ISERROR(INDIRECT(\"'B&U_\"&A157&\"'!$H$33\",TRUE)),\"\",INDIRECT(\"'B&U_\"&A157&\"'!$H$33\",TRUE)),3)","v":{"$error":"#VALUE!"}},{"$f":"COUNTIF(IF(ISERROR(INDIRECT(\"'B&U_\"&A157&\"'!$h$42\",TRUE)),\"\",INDIRECT(\"'B&U_\"&A157&\"'!$h$42\",TRUE)),3)","v":{"$error":"#VALUE!"}},{"$f":"COUNTIF(IF(ISERROR(INDIRECT(\"'B&U_\"&A157&\"'!$H$66\",TRUE)),\"\",INDIRECT(\"'B&U_\"&A157&\"'!$H$66\",TRUE)),3)","v":{"$error":"#VALUE!"}},{"$f":"COUNTIF(IF(ISERROR(INDIRECT(\"'B&U_\"&A157&\"'!$H$97\",TRUE)),\"\",INDIRECT(\"'B&U_\"&A157&\"'!$H$97\",TRUE)),3)","v":{"$error":"#VALUE!"}},{"$f":"COUNTIF(IF(ISERROR(INDIRECT(\"'B&U_\"&A157&\"'!$H$128\",TRUE)),\"\",INDIRECT(\"'B&U_\"&A157&\"'!$H$128\",TRUE)),3)","v":{"$error":"#VALUE!"}},{"$f":"COUNTIF(IF(ISERROR(INDIRECT(\"'B&U_\"&A157&\"'!$H$160\",TRUE)),\"\",INDIRECT(\"'B&U_\"&A157&\"'!$H$160\",TRUE)),3)","v":{"$error":"#VALUE!"}},{"$f":"COUNTIF(IF(ISERROR(INDIRECT(\"'B&U_\"&A157&\"'!$H$190\",TRUE)),\"\",INDIRECT(\"'B&U_\"&A157&\"'!$H$190\",TRUE)),3)","v":{"$error":"#VALUE!"}},{"$f":"COUNTIF(IF(ISERROR(INDIRECT(\"'B&U_\"&A157&\"'!$H$199\",TRUE)),\"\",INDIRECT(\"'B&U_\"&A157&\"'!$H$199\",TRUE)),3)","v":{"$error":"#VALUE!"}},null,null,"Tilsyn 96",null,null,null,null,null,null,null,null,null,null,{"$error":"#REF!"},{"$error":"#REF!"},{"$error":"#REF!"},{"$error":"#REF!"},{"$error":"#REF!"},{"$error":"#REF!"},{"$error":"#REF!"}]
["Tilsyn 33","Status:  grøn",null,null,null,null,null,null,null,null,{"$f":"COUNTIF(IF(ISERROR(INDIRECT(\"'B&U_\"&A158&\"'!$H$33\",TRUE)),\"\",INDIRECT(\"'B&U_\"&A158&\"'!$H$33\",TRUE)),1)","v":{"$error":"#VALUE!"}},{"$f":"COUNTIF(IF(ISERROR(INDIRECT(\"'B&U_\"&A158&\"'!$h$42\",TRUE)),\"\",INDIRECT(\"'B&U_\"&A158&\"'!$h$42\",TRUE)),1)","v":{"$error":"#VALUE!"}},{"$f":"COUNTIF(IF(ISERROR(INDIRECT(\"'B&U_\"&A158&\"'!$H$66\",TRUE)),\"\",INDIRECT(\"'B&U_\"&A158&\"'!$H$66\",TRUE)),1)","v":{"$error":"#VALUE!"}},{"$f":"COUNTIF(IF(ISERROR(INDIRECT(\"'B&U_\"&A158&\"'!$H$97\",TRUE)),\"\",INDIRECT(\"'B&U_\"&A158&\"'!$H$97\",TRUE)),1)","v":{"$error":"#VALUE!"}},{"$f":"COUNTIF(IF(ISERROR(INDIRECT(\"'B&U_\"&A158&\"'!$H$128\",TRUE)),\"\",INDIRECT(\"'B&U_\"&A158&\"'!$H$128\",TRUE)),1)","v":{"$error":"#VALUE!"}},{"$f":"COUNTIF(IF(ISERROR(INDIRECT(\"'B&U_\"&A158&\"'!$H$160\",TRUE)),\"\",INDIRECT(\"'B&U_\"&A158&\"'!$H$160\",TRUE)),1)","v":{"$error":"#VALUE!"}},{"$f":"COUNTIF(IF(ISERROR(INDIRECT(\"'B&U_\"&A158&\"'!$H$190\",TRUE)),\"\",INDIRECT(\"'B&U_\"&A158&\"'!$H$190\",TRUE)),1)","v":{"$error":"#VALUE!"}},{"$f":"COUNTIF(IF(ISERROR(INDIRECT(\"'B&U_\"&A158&\"'!$H$199\",TRUE)),\"\",INDIRECT(\"'B&U_\"&A158&\"'!$H$199\",TRUE)),1)","v":{"$error":"#VALUE!"}},null,null,"Tilsyn 97",null,null,null,null,null,null,null,null,null,null,{"$error":"#REF!"},{"$error":"#REF!"},{"$error":"#REF!"},{"$error":"#REF!"},{"$error":"#REF!"},{"$error":"#REF!"},{"$error":"#REF!"}]
["Tilsyn 33","Status:  gul",null,null,null,null,null,null,null,null,{"$f":"COUNTIF(IF(ISERROR(INDIRECT(\"'B&U_\"&A159&\"'!$H$33\",TRUE)),\"\",INDIRECT(\"'B&U_\"&A159&\"'!$H$33\",TRUE)),2)","v":{"$error":"#VALUE!"}},{"$f":"COUNTIF(IF(ISERROR(INDIRECT(\"'B&U_\"&A159&\"'!$h$42\",TRUE)),\"\",INDIRECT(\"'B&U_\"&A159&\"'!$h$42\",TRUE)),2)","v":{"$error":"#VALUE!"}},{"$f":"COUNTIF(IF(ISERROR(INDIRECT(\"'B&U_\"&A159&\"'!$H$66\",TRUE)),\"\",INDIRECT(\"'B&U_\"&A159&\"'!$H$66\",TRUE)),2)","v":{"$error":"#VALUE!"}},{"$f":"COUNTIF(IF(ISERROR(INDIRECT(\"'B&U_\"&A159&\"'!$H$97\",TRUE)),\"\",INDIRECT(\"'B&U_\"&A159&\"'!$H$97\",TRUE)),2)","v":{"$error":"#VALUE!"}},{"$f":"COUNTIF(IF(ISERROR(INDIRECT(\"'B&U_\"&A159&\"'!$H$128\",TRUE)),\"\",INDIRECT(\"'B&U_\"&A159&\"'!$H$128\",TRUE)),2)","v":{"$error":"#VALUE!"}},{"$f":"COUNTIF(IF(ISERROR(INDIRECT(\"'B&U_\"&A159&\"'!$H$160\",TRUE)),\"\",INDIRECT(\"'B&U_\"&A159&\"'!$H$160\",TRUE)),2)","v":{"$error":"#VALUE!"}},{"$f":"COUNTIF(IF(ISERROR(INDIRECT(\"'B&U_\"&A159&\"'!$H$190\",TRUE)),\"\",INDIRECT(\"'B&U_\"&A159&\"'!$H$190\",TRUE)),2)","v":{"$error":"#VALUE!"}},{"$f":"COUNTIF(IF(ISERROR(INDIRECT(\"'B&U_\"&A159&\"'!$H$199\",TRUE)),\"\",INDIRECT(\"'B&U_\"&A159&\"'!$H$199\",TRUE)),2)","v":{"$error":"#VALUE!"}},null,null,"Tilsyn 98",null,null,null,null,null,null,null,null,null,null,{"$error":"#REF!"},{"$error":"#REF!"},{"$error":"#REF!"},{"$error":"#REF!"},{"$error":"#REF!"},{"$error":"#REF!"},{"$error":"#REF!"}]
["Tilsyn 33","Status:  rød",null,null,null,null,null,null,null,null,{"$f":"COUNTIF(IF(ISERROR(INDIRECT(\"'B&U_\"&A160&\"'!$H$33\",TRUE)),\"\",INDIRECT(\"'B&U_\"&A160&\"'!$H$33\",TRUE)),3)","v":{"$error":"#VALUE!"}},{"$f":"COUNTIF(IF(ISERROR(INDIRECT(\"'B&U_\"&A160&\"'!$h$42\",TRUE)),\"\",INDIRECT(\"'B&U_\"&A160&\"'!$h$42\",TRUE)),3)","v":{"$error":"#VALUE!"}},{"$f":"COUNTIF(IF(ISERROR(INDIRECT(\"'B&U_\"&A160&\"'!$H$66\",TRUE)),\"\",INDIRECT(\"'B&U_\"&A160&\"'!$H$66\",TRUE)),3)","v":{"$error":"#VALUE!"}},{"$f":"COUNTIF(IF(ISERROR(INDIRECT(\"'B&U_\"&A160&\"'!$H$97\",TRUE)),\"\",INDIRECT(\"'B&U_\"&A160&\"'!$H$97\",TRUE)),3)","v":{"$error":"#VALUE!"}},{"$f":"COUNTIF(IF(ISERROR(INDIRECT(\"'B&U_\"&A160&\"'!$H$128\",TRUE)),\"\",INDIRECT(\"'B&U_\"&A160&\"'!$H$128\",TRUE)),3)","v":{"$error":"#VALUE!"}},{"$f":"COUNTIF(IF(ISERROR(INDIRECT(\"'B&U_\"&A160&\"'!$H$160\",TRUE)),\"\",INDIRECT(\"'B&U_\"&A160&\"'!$H$160\",TRUE)),3)","v":{"$error":"#VALUE!"}},{"$f":"COUNTIF(IF(ISERROR(INDIRECT(\"'B&U_\"&A160&\"'!$H$190\",TRUE)),\"\",INDIRECT(\"'B&U_\"&A160&\"'!$H$190\",TRUE)),3)","v":{"$error":"#VALUE!"}},{"$f":"COUNTIF(IF(ISERROR(INDIRECT(\"'B&U_\"&A160&\"'!$H$199\",TRUE)),\"\",INDIRECT(\"'B&U_\"&A160&\"'!$H$199\",TRUE)),3)","v":{"$error":"#VALUE!"}},null,null,"Tilsyn 99",null,null,null,null,null,null,null,null,null,null,{"$error":"#REF!"},{"$error":"#REF!"},{"$error":"#REF!"},{"$error":"#REF!"},{"$error":"#REF!"},{"$error":"#REF!"},{"$error":"#REF!"}]
["Tilsyn 34","Status:  grøn",null,null,null,null,null,null,null,null,{"$f":"COUNTIF(IF(ISERROR(INDIRECT(\"'B&U_\"&A161&\"'!$H$33\",TRUE)),\"\",INDIRECT(\"'B&U_\"&A161&\"'!$H$33\",TRUE)),1)","v":{"$error":"#VALUE!"}},{"$f":"COUNTIF(IF(ISERROR(INDIRECT(\"'B&U_\"&A161&\"'!$h$42\",TRUE)),\"\",INDIRECT(\"'B&U_\"&A161&\"'!$h$42\",TRUE)),1)","v":{"$error":"#VALUE!"}},{"$f":"COUNTIF(IF(ISERROR(INDIRECT(\"'B&U_\"&A161&\"'!$H$66\",TRUE)),\"\",INDIRECT(\"'B&U_\"&A161&\"'!$H$66\",TRUE)),1)","v":{"$error":"#VALUE!"}},{"$f":"COUNTIF(IF(ISERROR(INDIRECT(\"'B&U_\"&A161&\"'!$H$97\",TRUE)),\"\",INDIRECT(\"'B&U_\"&A161&\"'!$H$97\",TRUE)),1)","v":{"$error":"#VALUE!"}},{"$f":"COUNTIF(IF(ISERROR(INDIRECT(\"'B&U_\"&A161&\"'!$H$128\",TRUE)),\"\",INDIRECT(\"'B&U_\"&A161&\"'!$H$128\",TRUE)),1)","v":{"$error":"#VALUE!"}},{"$f":"COUNTIF(IF(ISERROR(INDIRECT(\"'B&U_\"&A161&\"'!$H$160\",TRUE)),\"\",INDIRECT(\"'B&U_\"&A161&\"'!$H$160\",TRUE)),1)","v":{"$error":"#VALUE!"}},{"$f":"COUNTIF(IF(ISERROR(INDIRECT(\"'B&U_\"&A161&\"'!$H$190\",TRUE)),\"\",INDIRECT(\"'B&U_\"&A161&\"'!$H$190\",TRUE)),1)","v":{"$error":"#VALUE!"}},{"$f":"COUNTIF(IF(ISERROR(INDIRECT(\"'B&U_\"&A161&\"'!$H$199\",TRUE)),\"\",INDIRECT(\"'B&U_\"&A161&\"'!$H$199\",TRUE)),1)","v":{"$error":"#VALUE!"}},null,null,"Tilsyn 100",null,null,null,null,null,null,null,null,null,null,{"$error":"#REF!"},{"$error":"#REF!"},{"$error":"#REF!"},{"$error":"#REF!"},{"$error":"#REF!"},{"$error":"#REF!"},{"$error":"#REF!"}]
["Tilsyn 34","Status:  gul",null,null,null,null,null,null,null,null,{"$f":"COUNTIF(IF(ISERROR(INDIRECT(\"'B&U_\"&A162&\"'!$H$33\",TRUE)),\"\",INDIRECT(\"'B&U_\"&A162&\"'!$H$33\",TRUE)),2)","v":{"$error":"#VALUE!"}},{"$f":"COUNTIF(IF(ISERROR(INDIRECT(\"'B&U_\"&A162&\"'!$h$42\",TRUE)),\"\",INDIRECT(\"'B&U_\"&A162&\"'!$h$42\",TRUE)),2)","v":{"$error":"#VALUE!"}},{"$f":"COUNTIF(IF(ISERROR(INDIRECT(\"'B&U_\"&A162&\"'!$H$66\",TRUE)),\"\",INDIRECT(\"'B&U_\"&A162&\"'!$H$66\",TRUE)),2)","v":{"$error":"#VALUE!"}},{"$f":"COUNTIF(IF(ISERROR(INDIRECT(\"'B&U_\"&A162&\"'!$H$97\",TRUE)),\"\",INDIRECT(\"'B&U_\"&A162&\"'!$H$97\",TRUE)),2)","v":{"$error":"#VALUE!"}},{"$f":"COUNTIF(IF(ISERROR(INDIRECT(\"'B&U_\"&A162&\"'!$H$128\",TRUE)),\"\",INDIRECT(\"'B&U_\"&A162&\"'!$H$128\",TRUE)),2)","v":{"$error":"#VALUE!"}},{"$f":"COUNTIF(IF(ISERROR(INDIRECT(\"'B&U_\"&A162&\"'!$H$160\",TRUE)),\"\",INDIRECT(\"'B&U_\"&A162&\"'!$H$160\",TRUE)),2)","v":{"$error":"#VALUE!"}},{"$f":"COUNTIF(IF(ISERROR(INDIRECT(\"'B&U_\"&A162&\"'!$H$190\",TRUE)),\"\",INDIRECT(\"'B&U_\"&A162&\"'!$H$190\",TRUE)),2)","v":{"$error":"#VALUE!"}},{"$f":"COUNTIF(IF(ISERROR(INDIRECT(\"'B&U_\"&A162&\"'!$H$199\",TRUE)),\"\",INDIRECT(\"'B&U_\"&A162&\"'!$H$199\",TRUE)),2)","v":{"$error":"#VALUE!"}}]
["Tilsyn 34","Status:  rød",null,null,null,null,null,null,null,null,{"$f":"COUNTIF(IF(ISERROR(INDIRECT(\"'B&U_\"&A163&\"'!$H$33\",TRUE)),\"\",INDIRECT(\"'B&U_\"&A163&\"'!$H$33\",TRUE)),3)","v":{"$error":"#VALUE!"}},{"$f":"COUNTIF(IF(ISERROR(INDIRECT(\"'B&U_\"&A163&\"'!$h$42\",TRUE)),\"\",INDIRECT(\"'B&U_\"&A163&\"'!$h$42\",TRUE)),3)","v":{"$error":"#VALUE!"}},{"$f":"COUNTIF(IF(ISERROR(INDIRECT(\"'B&U_\"&A163&\"'!$H$66\",TRUE)),\"\",INDIRECT(\"'B&U_\"&A163&\"'!$H$66\",TRUE)),3)","v":{"$error":"#VALUE!"}},{"$f":"COUNTIF(IF(ISERROR(INDIRECT(\"'B&U_\"&A163&\"'!$H$97\",TRUE)),\"\",INDIRECT(\"'B&U_\"&A163&\"'!$H$97\",TRUE)),3)","v":{"$error":"#VALUE!"}},{"$f":"COUNTIF(IF(ISERROR(INDIRECT(\"'B&U_\"&A163&\"'!$H$128\",TRUE)),\"\",INDIRECT(\"'B&U_\"&A163&\"'!$H$128\",TRUE)),3)","v":{"$error":"#VALUE!"}},{"$f":"COUNTIF(IF(ISERROR(INDIRECT(\"'B&U_\"&A163&\"'!$H$160\",TRUE)),\"\",INDIRECT(\"'B&U_\"&A163&\"'!$H$160\",TRUE)),3)","v":{"$error":"#VALUE!"}},{"$f":"COUNTIF(IF(ISERROR(INDIRECT(\"'B&U_\"&A163&\"'!$H$190\",TRUE)),\"\",INDIRECT(\"'B&U_\"&A163&\"'!$H$190\",TRUE)),3)","v":{"$error":"#VALUE!"}},{"$f":"COUNTIF(IF(ISERROR(INDIRECT(\"'B&U_\"&A163&\"'!$H$199\",TRUE)),\"\",INDIRECT(\"'B&U_\"&A163&\"'!$H$199\",TRUE)),3)","v":{"$error":"#VALUE!"}}]
["Tilsyn 35","Status:  grøn",null,null,null,null,null,null,null,null,{"$f":"COUNTIF(IF(ISERROR(INDIRECT(\"'B&U_\"&A164&\"'!$H$33\",TRUE)),\"\",INDIRECT(\"'B&U_\"&A164&\"'!$H$33\",TRUE)),1)","v":{"$error":"#VALUE!"}},{"$f":"COUNTIF(IF(ISERROR(INDIRECT(\"'B&U_\"&A164&\"'!$h$42\",TRUE)),\"\",INDIRECT(\"'B&U_\"&A164&\"'!$h$42\",TRUE)),1)","v":{"$error":"#VALUE!"}},{"$f":"COUNTIF(IF(ISERROR(INDIRECT(\"'B&U_\"&A164&\"'!$H$66\",TRUE)),\"\",INDIRECT(\"'B&U_\"&A164&\"'!$H$66\",TRUE)),1)","v":{"$error":"#VALUE!"}},{"$f":"COUNTIF(IF(ISERROR(INDIRECT(\"'B&U_\"&A164&\"'!$H$97\",TRUE)),\"\",INDIRECT(\"'B&U_\"&A164&\"'!$H$97\",TRUE)),1)","v":{"$error":"#VALUE!"}},{"$f":"COUNTIF(IF(ISERROR(INDIRECT(\"'B&U_\"&A164&\"'!$H$128\",TRUE)),\"\",INDIRECT(\"'B&U_\"&A164&\"'!$H$128\",TRUE)),1)","v":{"$error":"#VALUE!"}},{"$f":"COUNTIF(IF(ISERROR(INDIRECT(\"'B&U_\"&A164&\"'!$H$160\",TRUE)),\"\",INDIRECT(\"'B&U_\"&A164&\"'!$H$160\",TRUE)),1)","v":{"$error":"#VALUE!"}},{"$f":"COUNTIF(IF(ISERROR(INDIRECT(\"'B&U_\"&A164&\"'!$H$190\",TRUE)),\"\",INDIRECT(\"'B&U_\"&A164&\"'!$H$190\",TRUE)),1)","v":{"$error":"#VALUE!"}},{"$f":"COUNTIF(IF(ISERROR(INDIRECT(\"'B&U_\"&A164&\"'!$H$199\",TRUE)),\"\",INDIRECT(\"'B&U_\"&A164&\"'!$H$199\",TRUE)),1)","v":{"$error":"#VALUE!"}}]
["Tilsyn 35","Status:  gul",null,null,null,null,null,null,null,null,{"$f":"COUNTIF(IF(ISERROR(INDIRECT(\"'B&U_\"&A165&\"'!$H$33\",TRUE)),\"\",INDIRECT(\"'B&U_\"&A165&\"'!$H$33\",TRUE)),2)","v":{"$error":"#VALUE!"}},{"$f":"COUNTIF(IF(ISERROR(INDIRECT(\"'B&U_\"&A165&\"'!$h$42\",TRUE)),\"\",INDIRECT(\"'B&U_\"&A165&\"'!$h$42\",TRUE)),2)","v":{"$error":"#VALUE!"}},{"$f":"COUNTIF(IF(ISERROR(INDIRECT(\"'B&U_\"&A165&\"'!$H$66\",TRUE)),\"\",INDIRECT(\"'B&U_\"&A165&\"'!$H$66\",TRUE)),2)","v":{"$error":"#VALUE!"}},{"$f":"COUNTIF(IF(ISERROR(INDIRECT(\"'B&U_\"&A165&\"'!$H$97\",TRUE)),\"\",INDIRECT(\"'B&U_\"&A165&\"'!$H$97\",TRUE)),2)","v":{"$error":"#VALUE!"}},{"$f":"COUNTIF(IF(ISERROR(INDIRECT(\"'B&U_\"&A165&\"'!$H$128\",TRUE)),\"\",INDIRECT(\"'B&U_\"&A165&\"'!$H$128\",TRUE)),2)","v":{"$error":"#VALUE!"}},{"$f":"COUNTIF(IF(ISERROR(INDIRECT(\"'B&U_\"&A165&\"'!$H$160\",TRUE)),\"\",INDIRECT(\"'B&U_\"&A165&\"'!$H$160\",TRUE)),2)","v":{"$error":"#VALUE!"}},{"$f":"COUNTIF(IF(ISERROR(INDIRECT(\"'B&U_\"&A165&\"'!$H$190\",TRUE)),\"\",INDIRECT(\"'B&U_\"&A165&\"'!$H$190\",TRUE)),2)","v":{"$error":"#VALUE!"}},{"$f":"COUNTIF(IF(ISERROR(INDIRECT(\"'B&U_\"&A165&\"'!$H$199\",TRUE)),\"\",INDIRECT(\"'B&U_\"&A165&\"'!$H$199\",TRUE)),2)","v":{"$error":"#VALUE!"}}]
["Tilsyn 35","Status:  rød",null,null,null,null,null,null,null,null,{"$f":"COUNTIF(IF(ISERROR(INDIRECT(\"'B&U_\"&A166&\"'!$H$33\",TRUE)),\"\",INDIRECT(\"'B&U_\"&A166&\"'!$H$33\",TRUE)),3)","v":{"$error":"#VALUE!"}},{"$f":"COUNTIF(IF(ISERROR(INDIRECT(\"'B&U_\"&A166&\"'!$h$42\",TRUE)),\"\",INDIRECT(\"'B&U_\"&A166&\"'!$h$42\",TRUE)),3)","v":{"$error":"#VALUE!"}},{"$f":"COUNTIF(IF(ISERROR(INDIRECT(\"'B&U_\"&A166&\"'!$H$66\",TRUE)),\"\",INDIRECT(\"'B&U_\"&A166&\"'!$H$66\",TRUE)),3)","v":{"$error":"#VALUE!"}},{"$f":"COUNTIF(IF(ISERROR(INDIRECT(\"'B&U_\"&A166&\"'!$H$97\",TRUE)),\"\",INDIRECT(\"'B&U_\"&A166&\"'!$H$97\",TRUE)),3)","v":{"$error":"#VALUE!"}},{"$f":"COUNTIF(IF(ISERROR(INDIRECT(\"'B&U_\"&A166&\"'!$H$128\",TRUE)),\"\",INDIRECT(\"'B&U_\"&A166&\"'!$H$128\",TRUE)),3)","v":{"$error":"#VALUE!"}},{"$f":"COUNTIF(IF(ISERROR(INDIRECT(\"'B&U_\"&A166&\"'!$H$160\",TRUE)),\"\",INDIRECT(\"'B&U_\"&A166&\"'!$H$160\",TRUE)),3)","v":{"$error":"#VALUE!"}},{"$f":"COUNTIF(IF(ISERROR(INDIRECT(\"'B&U_\"&A166&\"'!$H$190\",TRUE)),\"\",INDIRECT(\"'B&U_\"&A166&\"'!$H$190\",TRUE)),3)","v":{"$error":"#VALUE!"}},{"$f":"COUNTIF(IF(ISERROR(INDIRECT(\"'B&U_\"&A166&\"'!$H$199\",TRUE)),\"\",INDIRECT(\"'B&U_\"&A166&\"'!$H$199\",TRUE)),3)","v":{"$error":"#VALUE!"}}]
["Tilsyn 36","Status:  grøn",null,null,null,null,null,null,null,null,{"$f":"COUNTIF(IF(ISERROR(INDIRECT(\"'B&U_\"&A167&\"'!$H$33\",TRUE)),\"\",INDIRECT(\"'B&U_\"&A167&\"'!$H$33\",TRUE)),1)","v":{"$error":"#VALUE!"}},{"$f":"COUNTIF(IF(ISERROR(INDIRECT(\"'B&U_\"&A167&\"'!$h$42\",TRUE)),\"\",INDIRECT(\"'B&U_\"&A167&\"'!$h$42\",TRUE)),1)","v":{"$error":"#VALUE!"}},{"$f":"COUNTIF(IF(ISERROR(INDIRECT(\"'B&U_\"&A167&\"'!$H$66\",TRUE)),\"\",INDIRECT(\"'B&U_\"&A167&\"'!$H$66\",TRUE)),1)","v":{"$error":"#VALUE!"}},{"$f":"COUNTIF(IF(ISERROR(INDIRECT(\"'B&U_\"&A167&\"'!$H$97\",TRUE)),\"\",INDIRECT(\"'B&U_\"&A167&\"'!$H$97\",TRUE)),1)","v":{"$error":"#VALUE!"}},{"$f":"COUNTIF(IF(ISERROR(INDIRECT(\"'B&U_\"&A167&\"'!$H$128\",TRUE)),\"\",INDIRECT(\"'B&U_\"&A167&\"'!$H$128\",TRUE)),1)","v":{"$error":"#VALUE!"}},{"$f":"COUNTIF(IF(ISERROR(INDIRECT(\"'B&U_\"&A167&\"'!$H$160\",TRUE)),\"\",INDIRECT(\"'B&U_\"&A167&\"'!$H$160\",TRUE)),1)","v":{"$error":"#VALUE!"}},{"$f":"COUNTIF(IF(ISERROR(INDIRECT(\"'B&U_\"&A167&\"'!$H$190\",TRUE)),\"\",INDIRECT(\"'B&U_\"&A167&\"'!$H$190\",TRUE)),1)","v":{"$error":"#VALUE!"}},{"$f":"COUNTIF(IF(ISERROR(INDIRECT(\"'B&U_\"&A167&\"'!$H$199\",TRUE)),\"\",INDIRECT(\"'B&U_\"&A167&\"'!$H$199\",TRUE)),1)","v":{"$error":"#VALUE!"}}]
["Tilsyn 36","Status:  gul",null,null,null,null,null,null,null,null,{"$f":"COUNTIF(IF(ISERROR(INDIRECT(\"'B&U_\"&A168&\"'!$H$33\",TRUE)),\"\",INDIRECT(\"'B&U_\"&A168&\"'!$H$33\",TRUE)),2)","v":{"$error":"#VALUE!"}},{"$f":"COUNTIF(IF(ISERROR(INDIRECT(\"'B&U_\"&A168&\"'!$h$42\",TRUE)),\"\",INDIRECT(\"'B&U_\"&A168&\"'!$h$42\",TRUE)),2)","v":{"$error":"#VALUE!"}},{"$f":"COUNTIF(IF(ISERROR(INDIRECT(\"'B&U_\"&A168&\"'!$H$66\",TRUE)),\"\",INDIRECT(\"'B&U_\"&A168&\"'!$H$66\",TRUE)),2)","v":{"$error":"#VALUE!"}},{"$f":"COUNTIF(IF(ISERROR(INDIRECT(\"'B&U_\"&A168&\"'!$H$97\",TRUE)),\"\",INDIRECT(\"'B&U_\"&A168&\"'!$H$97\",TRUE)),2)","v":{"$error":"#VALUE!"}},{"$f":"COUNTIF(IF(ISERROR(INDIRECT(\"'B&U_\"&A168&\"'!$H$128\",TRUE)),\"\",INDIRECT(\"'B&U_\"&A168&\"'!$H$128\",TRUE)),2)","v":{"$error":"#VALUE!"}},{"$f":"COUNTIF(IF(ISERROR(INDIRECT(\"'B&U_\"&A168&\"'!$H$160\",TRUE)),\"\",INDIRECT(\"'B&U_\"&A168&\"'!$H$160\",TRUE)),2)","v":{"$error":"#VALUE!"}},{"$f":"COUNTIF(IF(ISERROR(INDIRECT(\"'B&U_\"&A168&\"'!$H$190\",TRUE)),\"\",INDIRECT(\"'B&U_\"&A168&\"'!$H$190\",TRUE)),2)","v":{"$error":"#VALUE!"}},{"$f":"COUNTIF(IF(ISERROR(INDIRECT(\"'B&U_\"&A168&\"'!$H$199\",TRUE)),\"\",INDIRECT(\"'B&U_\"&A168&\"'!$H$199\",TRUE)),2)","v":{"$error":"#VALUE!"}}]
["Tilsyn 36","Status:  rød",null,null,null,null,null,null,null,null,{"$f":"COUNTIF(IF(ISERROR(INDIRECT(\"'B&U_\"&A169&\"'!$H$33\",TRUE)),\"\",INDIRECT(\"'B&U_\"&A169&\"'!$H$33\",TRUE)),3)","v":{"$error":"#VALUE!"}},{"$f":"COUNTIF(IF(ISERROR(INDIRECT(\"'B&U_\"&A169&\"'!$h$42\",TRUE)),\"\",INDIRECT(\"'B&U_\"&A169&\"'!$h$42\",TRUE)),3)","v":{"$error":"#VALUE!"}},{"$f":"COUNTIF(IF(ISERROR(INDIRECT(\"'B&U_\"&A169&\"'!$H$66\",TRUE)),\"\",INDIRECT(\"'B&U_\"&A169&\"'!$H$66\",TRUE)),3)","v":{"$error":"#VALUE!"}},{"$f":"COUNTIF(IF(ISERROR(INDIRECT(\"'B&U_\"&A169&\"'!$H$97\",TRUE)),\"\",INDIRECT(\"'B&U_\"&A169&\"'!$H$97\",TRUE)),3)","v":{"$error":"#VALUE!"}},{"$f":"COUNTIF(IF(ISERROR(INDIRECT(\"'B&U_\"&A169&\"'!$H$128\",TRUE)),\"\",INDIRECT(\"'B&U_\"&A169&\"'!$H$128\",TRUE)),3)","v":{"$error":"#VALUE!"}},{"$f":"COUNTIF(IF(ISERROR(INDIRECT(\"'B&U_\"&A169&\"'!$H$160\",TRUE)),\"\",INDIRECT(\"'B&U_\"&A169&\"'!$H$160\",TRUE)),3)","v":{"$error":"#VALUE!"}},{"$f":"COUNTIF(IF(ISERROR(INDIRECT(\"'B&U_\"&A169&\"'!$H$190\",TRUE)),\"\",INDIRECT(\"'B&U_\"&A169&\"'!$H$190\",TRUE)),3)","v":{"$error":"#VALUE!"}},{"$f":"COUNTIF(IF(ISERROR(INDIRECT(\"'B&U_\"&A169&\"'!$H$199\",TRUE)),\"\",INDIRECT(\"'B&U_\"&A169&\"'!$H$199\",TRUE)),3)","v":{"$error":"#VALUE!"}}]
["Tilsyn 37","Status:  grøn",null,null,null,null,null,null,null,null,{"$f":"COUNTIF(IF(ISERROR(INDIRECT(\"'B&U_\"&A170&\"'!$H$33\",TRUE)),\"\",INDIRECT(\"'B&U_\"&A170&\"'!$H$33\",TRUE)),1)","v":{"$error":"#VALUE!"}},{"$f":"COUNTIF(IF(ISERROR(INDIRECT(\"'B&U_\"&A170&\"'!$h$42\",TRUE)),\"\",INDIRECT(\"'B&U_\"&A170&\"'!$h$42\",TRUE)),1)","v":{"$error":"#VALUE!"}},{"$f":"COUNTIF(IF(ISERROR(INDIRECT(\"'B&U_\"&A170&\"'!$H$66\",TRUE)),\"\",INDIRECT(\"'B&U_\"&A170&\"'!$H$66\",TRUE)),1)","v":{"$error":"#VALUE!"}},{"$f":"COUNTIF(IF(ISERROR(INDIRECT(\"'B&U_\"&A170&\"'!$H$97\",TRUE)),\"\",INDIRECT(\"'B&U_\"&A170&\"'!$H$97\",TRUE)),1)","v":{"$error":"#VALUE!"}},{"$f":"COUNTIF(IF(ISERROR(INDIRECT(\"'B&U_\"&A170&\"'!$H$128\",TRUE)),\"\",INDIRECT(\"'B&U_\"&A170&\"'!$H$128\",TRUE)),1)","v":{"$error":"#VALUE!"}},{"$f":"COUNTIF(IF(ISERROR(INDIRECT(\"'B&U_\"&A170&\"'!$H$160\",TRUE)),\"\",INDIRECT(\"'B&U_\"&A170&\"'!$H$160\",TRUE)),1)","v":{"$error":"#VALUE!"}},{"$f":"COUNTIF(IF(ISERROR(INDIRECT(\"'B&U_\"&A170&\"'!$H$190\",TRUE)),\"\",INDIRECT(\"'B&U_\"&A170&\"'!$H$190\",TRUE)),1)","v":{"$error":"#VALUE!"}},{"$f":"COUNTIF(IF(ISERROR(INDIRECT(\"'B&U_\"&A170&\"'!$H$199\",TRUE)),\"\",INDIRECT(\"'B&U_\"&A170&\"'!$H$199\",TRUE)),1)","v":{"$error":"#VALUE!"}}]
["Tilsyn 37","Status:  gul",null,null,null,null,null,null,null,null,{"$f":"COUNTIF(IF(ISERROR(INDIRECT(\"'B&U_\"&A171&\"'!$H$33\",TRUE)),\"\",INDIRECT(\"'B&U_\"&A171&\"'!$H$33\",TRUE)),2)","v":{"$error":"#VALUE!"}},{"$f":"COUNTIF(IF(ISERROR(INDIRECT(\"'B&U_\"&A171&\"'!$h$42\",TRUE)),\"\",INDIRECT(\"'B&U_\"&A171&\"'!$h$42\",TRUE)),2)","v":{"$error":"#VALUE!"}},{"$f":"COUNTIF(IF(ISERROR(INDIRECT(\"'B&U_\"&A171&\"'!$H$66\",TRUE)),\"\",INDIRECT(\"'B&U_\"&A171&\"'!$H$66\",TRUE)),2)","v":{"$error":"#VALUE!"}},{"$f":"COUNTIF(IF(ISERROR(INDIRECT(\"'B&U_\"&A171&\"'!$H$97\",TRUE)),\"\",INDIRECT(\"'B&U_\"&A171&\"'!$H$97\",TRUE)),2)","v":{"$error":"#VALUE!"}},{"$f":"COUNTIF(IF(ISERROR(INDIRECT(\"'B&U_\"&A171&\"'!$H$128\",TRUE)),\"\",INDIRECT(\"'B&U_\"&A171&\"'!$H$128\",TRUE)),2)","v":{"$error":"#VALUE!"}},{"$f":"COUNTIF(IF(ISERROR(INDIRECT(\"'B&U_\"&A171&\"'!$H$160\",TRUE)),\"\",INDIRECT(\"'B&U_\"&A171&\"'!$H$160\",TRUE)),2)","v":{"$error":"#VALUE!"}},{"$f":"COUNTIF(IF(ISERROR(INDIRECT(\"'B&U_\"&A171&\"'!$H$190\",TRUE)),\"\",INDIRECT(\"'B&U_\"&A171&\"'!$H$190\",TRUE)),2)","v":{"$error":"#VALUE!"}},{"$f":"COUNTIF(IF(ISERROR(INDIRECT(\"'B&U_\"&A171&\"'!$H$199\",TRUE)),\"\",INDIRECT(\"'B&U_\"&A171&\"'!$H$199\",TRUE)),2)","v":{"$error":"#VALUE!"}}]
["Tilsyn 37","Status:  rød",null,null,null,null,null,null,null,null,{"$f":"COUNTIF(IF(ISERROR(INDIRECT(\"'B&U_\"&A172&\"'!$H$33\",TRUE)),\"\",INDIRECT(\"'B&U_\"&A172&\"'!$H$33\",TRUE)),3)","v":{"$error":"#VALUE!"}},{"$f":"COUNTIF(IF(ISERROR(INDIRECT(\"'B&U_\"&A172&\"'!$h$42\",TRUE)),\"\",INDIRECT(\"'B&U_\"&A172&\"'!$h$42\",TRUE)),3)","v":{"$error":"#VALUE!"}},{"$f":"COUNTIF(IF(ISERROR(INDIRECT(\"'B&U_\"&A172&\"'!$H$66\",TRUE)),\"\",INDIRECT(\"'B&U_\"&A172&\"'!$H$66\",TRUE)),3)","v":{"$error":"#VALUE!"}},{"$f":"COUNTIF(IF(ISERROR(INDIRECT(\"'B&U_\"&A172&\"'!$H$97\",TRUE)),\"\",INDIRECT(\"'B&U_\"&A172&\"'!$H$97\",TRUE)),3)","v":{"$error":"#VALUE!"}},{"$f":"COUNTIF(IF(ISERROR(INDIRECT(\"'B&U_\"&A172&\"'!$H$128\",TRUE)),\"\",INDIRECT(\"'B&U_\"&A172&\"'!$H$128\",TRUE)),3)","v":{"$error":"#VALUE!"}},{"$f":"COUNTIF(IF(ISERROR(INDIRECT(\"'B&U_\"&A172&\"'!$H$160\",TRUE)),\"\",INDIRECT(\"'B&U_\"&A172&\"'!$H$160\",TRUE)),3)","v":{"$error":"#VALUE!"}},{"$f":"COUNTIF(IF(ISERROR(INDIRECT(\"'B&U_\"&A172&\"'!$H$190\",TRUE)),\"\",INDIRECT(\"'B&U_\"&A172&\"'!$H$190\",TRUE)),3)","v":{"$error":"#VALUE!"}},{"$f":"COUNTIF(IF(ISERROR(INDIRECT(\"'B&U_\"&A172&\"'!$H$199\",TRUE)),\"\",INDIRECT(\"'B&U_\"&A172&\"'!$H$199\",TRUE)),3)","v":{"$error":"#VALUE!"}}]
["Tilsyn 38","Status:  grøn",null,null,null,null,null,null,null,null,{"$f":"COUNTIF(IF(ISERROR(INDIRECT(\"'B&U_\"&A173&\"'!$H$33\",TRUE)),\"\",INDIRECT(\"'B&U_\"&A173&\"'!$H$33\",TRUE)),1)","v":{"$error":"#VALUE!"}},{"$f":"COUNTIF(IF(ISERROR(INDIRECT(\"'B&U_\"&A173&\"'!$h$42\",TRUE)),\"\",INDIRECT(\"'B&U_\"&A173&\"'!$h$42\",TRUE)),1)","v":{"$error":"#VALUE!"}},{"$f":"COUNTIF(IF(ISERROR(INDIRECT(\"'B&U_\"&A173&\"'!$H$66\",TRUE)),\"\",INDIRECT(\"'B&U_\"&A173&\"'!$H$66\",TRUE)),1)","v":{"$error":"#VALUE!"}},{"$f":"COUNTIF(IF(ISERROR(INDIRECT(\"'B&U_\"&A173&\"'!$H$97\",TRUE)),\"\",INDIRECT(\"'B&U_\"&A173&\"'!$H$97\",TRUE)),1)","v":{"$error":"#VALUE!"}},{"$f":"COUNTIF(IF(ISERROR(INDIRECT(\"'B&U_\"&A173&\"'!$H$128\",TRUE)),\"\",INDIRECT(\"'B&U_\"&A173&\"'!$H$128\",TRUE)),1)","v":{"$error":"#VALUE!"}},{"$f":"COUNTIF(IF(ISERROR(INDIRECT(\"'B&U_\"&A173&\"'!$H$160\",TRUE)),\"\",INDIRECT(\"'B&U_\"&A173&\"'!$H$160\",TRUE)),1)","v":{"$error":"#VALUE!"}},{"$f":"COUNTIF(IF(ISERROR(INDIRECT(\"'B&U_\"&A173&\"'!$H$190\",TRUE)),\"\",INDIRECT(\"'B&U_\"&A173&\"'!$H$190\",TRUE)),1)","v":{"$error":"#VALUE!"}},{"$f":"COUNTIF(IF(ISERROR(INDIRECT(\"'B&U_\"&A173&\"'!$H$199\",TRUE)),\"\",INDIRECT(\"'B&U_\"&A173&\"'!$H$199\",TRUE)),1)","v":{"$error":"#VALUE!"}}]
["Tilsyn 38","Status:  gul",null,null,null,null,null,null,null,null,{"$f":"COUNTIF(IF(ISERROR(INDIRECT(\"'B&U_\"&A174&\"'!$H$33\",TRUE)),\"\",INDIRECT(\"'B&U_\"&A174&\"'!$H$33\",TRUE)),2)","v":{"$error":"#VALUE!"}},{"$f":"COUNTIF(IF(ISERROR(INDIRECT(\"'B&U_\"&A174&\"'!$h$42\",TRUE)),\"\",INDIRECT(\"'B&U_\"&A174&\"'!$h$42\",TRUE)),2)","v":{"$error":"#VALUE!"}},{"$f":"COUNTIF(IF(ISERROR(INDIRECT(\"'B&U_\"&A174&\"'!$H$66\",TRUE)),\"\",INDIRECT(\"'B&U_\"&A174&\"'!$H$66\",TRUE)),2)","v":{"$error":"#VALUE!"}},{"$f":"COUNTIF(IF(ISERROR(INDIRECT(\"'B&U_\"&A174&\"'!$H$97\",TRUE)),\"\",INDIRECT(\"'B&U_\"&A174&\"'!$H$97\",TRUE)),2)","v":{"$error":"#VALUE!"}},{"$f":"COUNTIF(IF(ISERROR(INDIRECT(\"'B&U_\"&A174&\"'!$H$128\",TRUE)),\"\",INDIRECT(\"'B&U_\"&A174&\"'!$H$128\",TRUE)),2)","v":{"$error":"#VALUE!"}},{"$f":"COUNTIF(IF(ISERROR(INDIRECT(\"'B&U_\"&A174&\"'!$H$160\",TRUE)),\"\",INDIRECT(\"'B&U_\"&A174&\"'!$H$160\",TRUE)),2)","v":{"$error":"#VALUE!"}},{"$f":"COUNTIF(IF(ISERROR(INDIRECT(\"'B&U_\"&A174&\"'!$H$190\",TRUE)),\"\",INDIRECT(\"'B&U_\"&A174&\"'!$H$190\",TRUE)),2)","v":{"$error":"#VALUE!"}},{"$f":"COUNTIF(IF(ISERROR(INDIRECT(\"'B&U_\"&A174&\"'!$H$199\",TRUE)),\"\",INDIRECT(\"'B&U_\"&A174&\"'!$H$199\",TRUE)),2)","v":{"$error":"#VALUE!"}}]
["Tilsyn 38","Status:  rød",null,null,null,null,null,null,null,null,{"$f":"COUNTIF(IF(ISERROR(INDIRECT(\"'B&U_\"&A175&\"'!$H$33\",TRUE)),\"\",INDIRECT(\"'B&U_\"&A175&\"'!$H$33\",TRUE)),3)","v":{"$error":"#VALUE!"}},{"$f":"COUNTIF(IF(ISERROR(INDIRECT(\"'B&U_\"&A175&\"'!$h$42\",TRUE)),\"\",INDIRECT(\"'B&U_\"&A175&\"'!$h$42\",TRUE)),3)","v":{"$error":"#VALUE!"}},{"$f":"COUNTIF(IF(ISERROR(INDIRECT(\"'B&U_\"&A175&\"'!$H$66\",TRUE)),\"\",INDIRECT(\"'B&U_\"&A175&\"'!$H$66\",TRUE)),3)","v":{"$error":"#VALUE!"}},{"$f":"COUNTIF(IF(ISERROR(INDIRECT(\"'B&U_\"&A175&\"'!$H$97\",TRUE)),\"\",INDIRECT(\"'B&U_\"&A175&\"'!$H$97\",TRUE)),3)","v":{"$error":"#VALUE!"}},{"$f":"COUNTIF(IF(ISERROR(INDIRECT(\"'B&U_\"&A175&\"'!$H$128\",TRUE)),\"\",INDIRECT(\"'B&U_\"&A175&\"'!$H$128\",TRUE)),3)","v":{"$error":"#VALUE!"}},{"$f":"COUNTIF(IF(ISERROR(INDIRECT(\"'B&U_\"&A175&\"'!$H$160\",TRUE)),\"\",INDIRECT(\"'B&U_\"&A175&\"'!$H$160\",TRUE)),3)","v":{"$error":"#VALUE!"}},{"$f":"COUNTIF(IF(ISERROR(INDIRECT(\"'B&U_\"&A175&\"'!$H$190\",TRUE)),\"\",INDIRECT(\"'B&U_\"&A175&\"'!$H$190\",TRUE)),3)","v":{"$error":"#VALUE!"}},{"$f":"COUNTIF(IF(ISERROR(INDIRECT(\"'B&U_\"&A175&\"'!$H$199\",TRUE)),\"\",INDIRECT(\"'B&U_\"&A175&\"'!$H$199\",TRUE)),3)","v":{"$error":"#VALUE!"}}]
["Tilsyn 39","Status:  grøn",null,null,null,null,null,null,null,null,{"$f":"COUNTIF(IF(ISERROR(INDIRECT(\"'B&U_\"&A176&\"'!$H$33\",TRUE)),\"\",INDIRECT(\"'B&U_\"&A176&\"'!$H$33\",TRUE)),1)","v":{"$error":"#VALUE!"}},{"$f":"COUNTIF(IF(ISERROR(INDIRECT(\"'B&U_\"&A176&\"'!$h$42\",TRUE)),\"\",INDIRECT(\"'B&U_\"&A176&\"'!$h$42\",TRUE)),1)","v":{"$error":"#VALUE!"}},{"$f":"COUNTIF(IF(ISERROR(INDIRECT(\"'B&U_\"&A176&\"'!$H$66\",TRUE)),\"\",INDIRECT(\"'B&U_\"&A176&\"'!$H$66\",TRUE)),1)","v":{"$error":"#VALUE!"}},{"$f":"COUNTIF(IF(ISERROR(INDIRECT(\"'B&U_\"&A176&\"'!$H$97\",TRUE)),\"\",INDIRECT(\"'B&U_\"&A176&\"'!$H$97\",TRUE)),1)","v":{"$error":"#VALUE!"}},{"$f":"COUNTIF(IF(ISERROR(INDIRECT(\"'B&U_\"&A176&\"'!$H$128\",TRUE)),\"\",INDIRECT(\"'B&U_\"&A176&\"'!$H$128\",TRUE)),1)","v":{"$error":"#VALUE!"}},{"$f":"COUNTIF(IF(ISERROR(INDIRECT(\"'B&U_\"&A176&\"'!$H$160\",TRUE)),\"\",INDIRECT(\"'B&U_\"&A176&\"'!$H$160\",TRUE)),1)","v":{"$error":"#VALUE!"}},{"$f":"COUNTIF(IF(ISERROR(INDIRECT(\"'B&U_\"&A176&\"'!$H$190\",TRUE)),\"\",INDIRECT(\"'B&U_\"&A176&\"'!$H$190\",TRUE)),1)","v":{"$error":"#VALUE!"}},{"$f":"COUNTIF(IF(ISERROR(INDIRECT(\"'B&U_\"&A176&\"'!$H$199\",TRUE)),\"\",INDIRECT(\"'B&U_\"&A176&\"'!$H$199\",TRUE)),1)","v":{"$error":"#VALUE!"}}]
["Tilsyn 39","Status:  gul",null,null,null,null,null,null,null,null,{"$f":"COUNTIF(IF(ISERROR(INDIRECT(\"'B&U_\"&A177&\"'!$H$33\",TRUE)),\"\",INDIRECT(\"'B&U_\"&A177&\"'!$H$33\",TRUE)),2)","v":{"$error":"#VALUE!"}},{"$f":"COUNTIF(IF(ISERROR(INDIRECT(\"'B&U_\"&A177&\"'!$h$42\",TRUE)),\"\",INDIRECT(\"'B&U_\"&A177&\"'!$h$42\",TRUE)),2)","v":{"$error":"#VALUE!"}},{"$f":"COUNTIF(IF(ISERROR(INDIRECT(\"'B&U_\"&A177&\"'!$H$66\",TRUE)),\"\",INDIRECT(\"'B&U_\"&A177&\"'!$H$66\",TRUE)),2)","v":{"$error":"#VALUE!"}},{"$f":"COUNTIF(IF(ISERROR(INDIRECT(\"'B&U_\"&A177&\"'!$H$97\",TRUE)),\"\",INDIRECT(\"'B&U_\"&A177&\"'!$H$97\",TRUE)),2)","v":{"$error":"#VALUE!"}},{"$f":"COUNTIF(IF(ISERROR(INDIRECT(\"'B&U_\"&A177&\"'!$H$128\",TRUE)),\"\",INDIRECT(\"'B&U_\"&A177&\"'!$H$128\",TRUE)),2)","v":{"$error":"#VALUE!"}},{"$f":"COUNTIF(IF(ISERROR(INDIRECT(\"'B&U_\"&A177&\"'!$H$160\",TRUE)),\"\",INDIRECT(\"'B&U_\"&A177&\"'!$H$160\",TRUE)),2)","v":{"$error":"#VALUE!"}},{"$f":"COUNTIF(IF(ISERROR(INDIRECT(\"'B&U_\"&A177&\"'!$H$190\",TRUE)),\"\",INDIRECT(\"'B&U_\"&A177&\"'!$H$190\",TRUE)),2)","v":{"$error":"#VALUE!"}},{"$f":"COUNTIF(IF(ISERROR(INDIRECT(\"'B&U_\"&A177&\"'!$H$199\",TRUE)),\"\",INDIRECT(\"'B&U_\"&A177&\"'!$H$199\",TRUE)),2)","v":{"$error":"#VALUE!"}}]
["Tilsyn 39","Status:  rød",null,null,null,null,null,null,null,null,{"$f":"COUNTIF(IF(ISERROR(INDIRECT(\"'B&U_\"&A178&\"'!$H$33\",TRUE)),\"\",INDIRECT(\"'B&U_\"&A178&\"'!$H$33\",TRUE)),3)","v":{"$error":"#VALUE!"}},{"$f":"COUNTIF(IF(ISERROR(INDIRECT(\"'B&U_\"&A178&\"'!$h$42\",TRUE)),\"\",INDIRECT(\"'B&U_\"&A178&\"'!$h$42\",TRUE)),3)","v":{"$error":"#VALUE!"}},{"$f":"COUNTIF(IF(ISERROR(INDIRECT(\"'B&U_\"&A178&\"'!$H$66\",TRUE)),\"\",INDIRECT(\"'B&U_\"&A178&\"'!$H$66\",TRUE)),3)","v":{"$error":"#VALUE!"}},{"$f":"COUNTIF(IF(ISERROR(INDIRECT(\"'B&U_\"&A178&\"'!$H$97\",TRUE)),\"\",INDIRECT(\"'B&U_\"&A178&\"'!$H$97\",TRUE)),3)","v":{"$error":"#VALUE!"}},{"$f":"COUNTIF(IF(ISERROR(INDIRECT(\"'B&U_\"&A178&\"'!$H$128\",TRUE)),\"\",INDIRECT(\"'B&U_\"&A178&\"'!$H$128\",TRUE)),3)","v":{"$error":"#VALUE!"}},{"$f":"COUNTIF(IF(ISERROR(INDIRECT(\"'B&U_\"&A178&\"'!$H$160\",TRUE)),\"\",INDIRECT(\"'B&U_\"&A178&\"'!$H$160\",TRUE)),3)","v":{"$error":"#VALUE!"}},{"$f":"COUNTIF(IF(ISERROR(INDIRECT(\"'B&U_\"&A178&\"'!$H$190\",TRUE)),\"\",INDIRECT(\"'B&U_\"&A178&\"'!$H$190\",TRUE)),3)","v":{"$error":"#VALUE!"}},{"$f":"COUNTIF(IF(ISERROR(INDIRECT(\"'B&U_\"&A178&\"'!$H$199\",TRUE)),\"\",INDIRECT(\"'B&U_\"&A178&\"'!$H$199\",TRUE)),3)","v":{"$error":"#VALUE!"}}]
["Tilsyn 40","Status:  grøn",null,null,null,null,null,null,null,null,{"$f":"COUNTIF(IF(ISERROR(INDIRECT(\"'B&U_\"&A179&\"'!$H$33\",TRUE)),\"\",INDIRECT(\"'B&U_\"&A179&\"'!$H$33\",TRUE)),1)","v":{"$error":"#VALUE!"}},{"$f":"COUNTIF(IF(ISERROR(INDIRECT(\"'B&U_\"&A179&\"'!$h$42\",TRUE)),\"\",INDIRECT(\"'B&U_\"&A179&\"'!$h$42\",TRUE)),1)","v":{"$error":"#VALUE!"}},{"$f":"COUNTIF(IF(ISERROR(INDIRECT(\"'B&U_\"&A179&\"'!$H$66\",TRUE)),\"\",INDIRECT(\"'B&U_\"&A179&\"'!$H$66\",TRUE)),1)","v":{"$error":"#VALUE!"}},{"$f":"COUNTIF(IF(ISERROR(INDIRECT(\"'B&U_\"&A179&\"'!$H$97\",TRUE)),\"\",INDIRECT(\"'B&U_\"&A179&\"'!$H$97\",TRUE)),1)","v":{"$error":"#VALUE!"}},{"$f":"COUNTIF(IF(ISERROR(INDIRECT(\"'B&U_\"&A179&\"'!$H$128\",TRUE)),\"\",INDIRECT(\"'B&U_\"&A179&\"'!$H$128\",TRUE)),1)","v":{"$error":"#VALUE!"}},{"$f":"COUNTIF(IF(ISERROR(INDIRECT(\"'B&U_\"&A179&\"'!$H$160\",TRUE)),\"\",INDIRECT(\"'B&U_\"&A179&\"'!$H$160\",TRUE)),1)","v":{"$error":"#VALUE!"}},{"$f":"COUNTIF(IF(ISERROR(INDIRECT(\"'B&U_\"&A179&\"'!$H$190\",TRUE)),\"\",INDIRECT(\"'B&U_\"&A179&\"'!$H$190\",TRUE)),1)","v":{"$error":"#VALUE!"}},{"$f":"COUNTIF(IF(ISERROR(INDIRECT(\"'B&U_\"&A179&\"'!$H$199\",TRUE)),\"\",INDIRECT(\"'B&U_\"&A179&\"'!$H$199\",TRUE)),1)","v":{"$error":"#VALUE!"}}]
["Tilsyn 40","Status:  gul",null,null,null,null,null,null,null,null,{"$f":"COUNTIF(IF(ISERROR(INDIRECT(\"'B&U_\"&A180&\"'!$H$33\",TRUE)),\"\",INDIRECT(\"'B&U_\"&A180&\"'!$H$33\",TRUE)),2)","v":{"$error":"#VALUE!"}},{"$f":"COUNTIF(IF(ISERROR(INDIRECT(\"'B&U_\"&A180&\"'!$h$42\",TRUE)),\"\",INDIRECT(\"'B&U_\"&A180&\"'!$h$42\",TRUE)),2)","v":{"$error":"#VALUE!"}},{"$f":"COUNTIF(IF(ISERROR(INDIRECT(\"'B&U_\"&A180&\"'!$H$66\",TRUE)),\"\",INDIRECT(\"'B&U_\"&A180&\"'!$H$66\",TRUE)),2)","v":{"$error":"#VALUE!"}},{"$f":"COUNTIF(IF(ISERROR(INDIRECT(\"'B&U_\"&A180&\"'!$H$97\",TRUE)),\"\",INDIRECT(\"'B&U_\"&A180&\"'!$H$97\",TRUE)),2)","v":{"$error":"#VALUE!"}},{"$f":"COUNTIF(IF(ISERROR(INDIRECT(\"'B&U_\"&A180&\"'!$H$128\",TRUE)),\"\",INDIRECT(\"'B&U_\"&A180&\"'!$H$128\",TRUE)),2)","v":{"$error":"#VALUE!"}},{"$f":"COUNTIF(IF(ISERROR(INDIRECT(\"'B&U_\"&A180&\"'!$H$160\",TRUE)),\"\",INDIRECT(\"'B&U_\"&A180&\"'!$H$160\",TRUE)),2)","v":{"$error":"#VALUE!"}},{"$f":"COUNTIF(IF(ISERROR(INDIRECT(\"'B&U_\"&A180&\"'!$H$190\",TRUE)),\"\",INDIRECT(\"'B&U_\"&A180&\"'!$H$190\",TRUE)),2)","v":{"$error":"#VALUE!"}},{"$f":"COUNTIF(IF(ISERROR(INDIRECT(\"'B&U_\"&A180&\"'!$H$199\",TRUE)),\"\",INDIRECT(\"'B&U_\"&A180&\"'!$H$199\",TRUE)),2)","v":{"$error":"#VALUE!"}}]
["Tilsyn 40","Status:  rød",null,null,null,null,null,null,null,null,{"$f":"COUNTIF(IF(ISERROR(INDIRECT(\"'B&U_\"&A181&\"'!$H$33\",TRUE)),\"\",INDIRECT(\"'B&U_\"&A181&\"'!$H$33\",TRUE)),3)","v":{"$error":"#VALUE!"}},{"$f":"COUNTIF(IF(ISERROR(INDIRECT(\"'B&U_\"&A181&\"'!$h$42\",TRUE)),\"\",INDIRECT(\"'B&U_\"&A181&\"'!$h$42\",TRUE)),3)","v":{"$error":"#VALUE!"}},{"$f":"COUNTIF(IF(ISERROR(INDIRECT(\"'B&U_\"&A181&\"'!$H$66\",TRUE)),\"\",INDIRECT(\"'B&U_\"&A181&\"'!$H$66\",TRUE)),3)","v":{"$error":"#VALUE!"}},{"$f":"COUNTIF(IF(ISERROR(INDIRECT(\"'B&U_\"&A181&\"'!$H$97\",TRUE)),\"\",INDIRECT(\"'B&U_\"&A181&\"'!$H$97\",TRUE)),3)","v":{"$error":"#VALUE!"}},{"$f":"COUNTIF(IF(ISERROR(INDIRECT(\"'B&U_\"&A181&\"'!$H$128\",TRUE)),\"\",INDIRECT(\"'B&U_\"&A181&\"'!$H$128\",TRUE)),3)","v":{"$error":"#VALUE!"}},{"$f":"COUNTIF(IF(ISERROR(INDIRECT(\"'B&U_\"&A181&\"'!$H$160\",TRUE)),\"\",INDIRECT(\"'B&U_\"&A181&\"'!$H$160\",TRUE)),3)","v":{"$error":"#VALUE!"}},{"$f":"COUNTIF(IF(ISERROR(INDIRECT(\"'B&U_\"&A181&\"'!$H$190\",TRUE)),\"\",INDIRECT(\"'B&U_\"&A181&\"'!$H$190\",TRUE)),3)","v":{"$error":"#VALUE!"}},{"$f":"COUNTIF(IF(ISERROR(INDIRECT(\"'B&U_\"&A181&\"'!$H$199\",TRUE)),\"\",INDIRECT(\"'B&U_\"&A181&\"'!$H$199\",TRUE)),3)","v":{"$error":"#VALUE!"}}]
["Tilsyn 41","Status:  grøn",null,null,null,null,null,null,null,null,{"$f":"COUNTIF(IF(ISERROR(INDIRECT(\"'B&U_\"&A182&\"'!$H$33\",TRUE)),\"\",INDIRECT(\"'B&U_\"&A182&\"'!$H$33\",TRUE)),1)","v":{"$error":"#VALUE!"}},{"$f":"COUNTIF(IF(ISERROR(INDIRECT(\"'B&U_\"&A182&\"'!$h$42\",TRUE)),\"\",INDIRECT(\"'B&U_\"&A182&\"'!$h$42\",TRUE)),1)","v":{"$error":"#VALUE!"}},{"$f":"COUNTIF(IF(ISERROR(INDIRECT(\"'B&U_\"&A182&\"'!$H$66\",TRUE)),\"\",INDIRECT(\"'B&U_\"&A182&\"'!$H$66\",TRUE)),1)","v":{"$error":"#VALUE!"}},{"$f":"COUNTIF(IF(ISERROR(INDIRECT(\"'B&U_\"&A182&\"'!$H$97\",TRUE)),\"\",INDIRECT(\"'B&U_\"&A182&\"'!$H$97\",TRUE)),1)","v":{"$error":"#VALUE!"}},{"$f":"COUNTIF(IF(ISERROR(INDIRECT(\"'B&U_\"&A182&\"'!$H$128\",TRUE)),\"\",INDIRECT(\"'B&U_\"&A182&\"'!$H$128\",TRUE)),1)","v":{"$error":"#VALUE!"}},{"$f":"COUNTIF(IF(ISERROR(INDIRECT(\"'B&U_\"&A182&\"'!$H$160\",TRUE)),\"\",INDIRECT(\"'B&U_\"&A182&\"'!$H$160\",TRUE)),1)","v":{"$error":"#VALUE!"}},{"$f":"COUNTIF(IF(ISERROR(INDIRECT(\"'B&U_\"&A182&\"'!$H$190\",TRUE)),\"\",INDIRECT(\"'B&U_\"&A182&\"'!$H$190\",TRUE)),1)","v":{"$error":"#VALUE!"}},{"$f":"COUNTIF(IF(ISERROR(INDIRECT(\"'B&U_\"&A182&\"'!$H$199\",TRUE)),\"\",INDIRECT(\"'B&U_\"&A182&\"'!$H$199\",TRUE)),1)","v":{"$error":"#VALUE!"}}]
["Tilsyn 41","Status:  gul",null,null,null,null,null,null,null,null,{"$f":"COUNTIF(IF(ISERROR(INDIRECT(\"'B&U_\"&A183&\"'!$H$33\",TRUE)),\"\",INDIRECT(\"'B&U_\"&A183&\"'!$H$33\",TRUE)),2)","v":{"$error":"#VALUE!"}},{"$f":"COUNTIF(IF(ISERROR(INDIRECT(\"'B&U_\"&A183&\"'!$h$42\",TRUE)),\"\",INDIRECT(\"'B&U_\"&A183&\"'!$h$42\",TRUE)),2)","v":{"$error":"#VALUE!"}},{"$f":"COUNTIF(IF(ISERROR(INDIRECT(\"'B&U_\"&A183&\"'!$H$66\",TRUE)),\"\",INDIRECT(\"'B&U_\"&A183&\"'!$H$66\",TRUE)),2)","v":{"$error":"#VALUE!"}},{"$f":"COUNTIF(IF(ISERROR(INDIRECT(\"'B&U_\"&A183&\"'!$H$97\",TRUE)),\"\",INDIRECT(\"'B&U_\"&A183&\"'!$H$97\",TRUE)),2)","v":{"$error":"#VALUE!"}},{"$f":"COUNTIF(IF(ISERROR(INDIRECT(\"'B&U_\"&A183&\"'!$H$128\",TRUE)),\"\",INDIRECT(\"'B&U_\"&A183&\"'!$H$128\",TRUE)),2)","v":{"$error":"#VALUE!"}},{"$f":"COUNTIF(IF(ISERROR(INDIRECT(\"'B&U_\"&A183&\"'!$H$160\",TRUE)),\"\",INDIRECT(\"'B&U_\"&A183&\"'!$H$160\",TRUE)),2)","v":{"$error":"#VALUE!"}},{"$f":"COUNTIF(IF(ISERROR(INDIRECT(\"'B&U_\"&A183&\"'!$H$190\",TRUE)),\"\",INDIRECT(\"'B&U_\"&A183&\"'!$H$190\",TRUE)),2)","v":{"$error":"#VALUE!"}},{"$f":"COUNTIF(IF(ISERROR(INDIRECT(\"'B&U_\"&A183&\"'!$H$199\",TRUE)),\"\",INDIRECT(\"'B&U_\"&A183&\"'!$H$199\",TRUE)),2)","v":{"$error":"#VALUE!"}}]
["Tilsyn 41","Status:  rød",null,null,null,null,null,null,null,null,{"$f":"COUNTIF(IF(ISERROR(INDIRECT(\"'B&U_\"&A184&\"'!$H$33\",TRUE)),\"\",INDIRECT(\"'B&U_\"&A184&\"'!$H$33\",TRUE)),3)","v":{"$error":"#VALUE!"}},{"$f":"COUNTIF(IF(ISERROR(INDIRECT(\"'B&U_\"&A184&\"'!$h$42\",TRUE)),\"\",INDIRECT(\"'B&U_\"&A184&\"'!$h$42\",TRUE)),3)","v":{"$error":"#VALUE!"}},{"$f":"COUNTIF(IF(ISERROR(INDIRECT(\"'B&U_\"&A184&\"'!$H$66\",TRUE)),\"\",INDIRECT(\"'B&U_\"&A184&\"'!$H$66\",TRUE)),3)","v":{"$error":"#VALUE!"}},{"$f":"COUNTIF(IF(ISERROR(INDIRECT(\"'B&U_\"&A184&\"'!$H$97\",TRUE)),\"\",INDIRECT(\"'B&U_\"&A184&\"'!$H$97\",TRUE)),3)","v":{"$error":"#VALUE!"}},{"$f":"COUNTIF(IF(ISERROR(INDIRECT(\"'B&U_\"&A184&\"'!$H$128\",TRUE)),\"\",INDIRECT(\"'B&U_\"&A184&\"'!$H$128\",TRUE)),3)","v":{"$error":"#VALUE!"}},{"$f":"COUNTIF(IF(ISERROR(INDIRECT(\"'B&U_\"&A184&\"'!$H$160\",TRUE)),\"\",INDIRECT(\"'B&U_\"&A184&\"'!$H$160\",TRUE)),3)","v":{"$error":"#VALUE!"}},{"$f":"COUNTIF(IF(ISERROR(INDIRECT(\"'B&U_\"&A184&\"'!$H$190\",TRUE)),\"\",INDIRECT(\"'B&U_\"&A184&\"'!$H$190\",TRUE)),3)","v":{"$error":"#VALUE!"}},{"$f":"COUNTIF(IF(ISERROR(INDIRECT(\"'B&U_\"&A184&\"'!$H$199\",TRUE)),\"\",INDIRECT(\"'B&U_\"&A184&\"'!$H$199\",TRUE)),3)","v":{"$error":"#VALUE!"}}]
["Tilsyn 42","Status:  grøn",null,null,null,null,null,null,null,null,{"$f":"COUNTIF(IF(ISERROR(INDIRECT(\"'B&U_\"&A185&\"'!$H$33\",TRUE)),\"\",INDIRECT(\"'B&U_\"&A185&\"'!$H$33\",TRUE)),1)","v":{"$error":"#VALUE!"}},{"$f":"COUNTIF(IF(ISERROR(INDIRECT(\"'B&U_\"&A185&\"'!$h$42\",TRUE)),\"\",INDIRECT(\"'B&U_\"&A185&\"'!$h$42\",TRUE)),1)","v":{"$error":"#VALUE!"}},{"$f":"COUNTIF(IF(ISERROR(INDIRECT(\"'B&U_\"&A185&\"'!$H$66\",TRUE)),\"\",INDIRECT(\"'B&U_\"&A185&\"'!$H$66\",TRUE)),1)","v":{"$error":"#VALUE!"}},{"$f":"COUNTIF(IF(ISERROR(INDIRECT(\"'B&U_\"&A185&\"'!$H$97\",TRUE)),\"\",INDIRECT(\"'B&U_\"&A185&\"'!$H$97\",TRUE)),1)","v":{"$error":"#VALUE!"}},{"$f":"COUNTIF(IF(ISERROR(INDIRECT(\"'B&U_\"&A185&\"'!$H$128\",TRUE)),\"\",INDIRECT(\"'B&U_\"&A185&\"'!$H$128\",TRUE)),1)","v":{"$error":"#VALUE!"}},{"$f":"COUNTIF(IF(ISERROR(INDIRECT(\"'B&U_\"&A185&\"'!$H$160\",TRUE)),\"\",INDIRECT(\"'B&U_\"&A185&\"'!$H$160\",TRUE)),1)","v":{"$error":"#VALUE!"}},{"$f":"COUNTIF(IF(ISERROR(INDIRECT(\"'B&U_\"&A185&\"'!$H$190\",TRUE)),\"\",INDIRECT(\"'B&U_\"&A185&\"'!$H$190\",TRUE)),1)","v":{"$error":"#VALUE!"}},{"$f":"COUNTIF(IF(ISERROR(INDIRECT(\"'B&U_\"&A185&\"'!$H$199\",TRUE)),\"\",INDIRECT(\"'B&U_\"&A185&\"'!$H$199\",TRUE)),1)","v":{"$error":"#VALUE!"}}]
["Tilsyn 42","Status:  gul",null,null,null,null,null,null,null,null,{"$f":"COUNTIF(IF(ISERROR(INDIRECT(\"'B&U_\"&A186&\"'!$H$33\",TRUE)),\"\",INDIRECT(\"'B&U_\"&A186&\"'!$H$33\",TRUE)),2)","v":{"$error":"#VALUE!"}},{"$f":"COUNTIF(IF(ISERROR(INDIRECT(\"'B&U_\"&A186&\"'!$h$42\",TRUE)),\"\",INDIRECT(\"'B&U_\"&A186&\"'!$h$42\",TRUE)),2)","v":{"$error":"#VALUE!"}},{"$f":"COUNTIF(IF(ISERROR(INDIRECT(\"'B&U_\"&A186&\"'!$H$66\",TRUE)),\"\",INDIRECT(\"'B&U_\"&A186&\"'!$H$66\",TRUE)),2)","v":{"$error":"#VALUE!"}},{"$f":"COUNTIF(IF(ISERROR(INDIRECT(\"'B&U_\"&A186&\"'!$H$97\",TRUE)),\"\",INDIRECT(\"'B&U_\"&A186&\"'!$H$97\",TRUE)),2)","v":{"$error":"#VALUE!"}},{"$f":"COUNTIF(IF(ISERROR(INDIRECT(\"'B&U_\"&A186&\"'!$H$128\",TRUE)),\"\",INDIRECT(\"'B&U_\"&A186&\"'!$H$128\",TRUE)),2)","v":{"$error":"#VALUE!"}},{"$f":"COUNTIF(IF(ISERROR(INDIRECT(\"'B&U_\"&A186&\"'!$H$160\",TRUE)),\"\",INDIRECT(\"'B&U_\"&A186&\"'!$H$160\",TRUE)),2)","v":{"$error":"#VALUE!"}},{"$f":"COUNTIF(IF(ISERROR(INDIRECT(\"'B&U_\"&A186&\"'!$H$190\",TRUE)),\"\",INDIRECT(\"'B&U_\"&A186&\"'!$H$190\",TRUE)),2)","v":{"$error":"#VALUE!"}},{"$f":"COUNTIF(IF(ISERROR(INDIRECT(\"'B&U_\"&A186&\"'!$H$199\",TRUE)),\"\",INDIRECT(\"'B&U_\"&A186&\"'!$H$199\",TRUE)),2)","v":{"$error":"#VALUE!"}}]
["Tilsyn 42","Status:  rød",null,null,null,null,null,null,null,null,{"$f":"COUNTIF(IF(ISERROR(INDIRECT(\"'B&U_\"&A187&\"'!$H$33\",TRUE)),\"\",INDIRECT(\"'B&U_\"&A187&\"'!$H$33\",TRUE)),3)","v":{"$error":"#VALUE!"}},{"$f":"COUNTIF(IF(ISERROR(INDIRECT(\"'B&U_\"&A187&\"'!$h$42\",TRUE)),\"\",INDIRECT(\"'B&U_\"&A187&\"'!$h$42\",TRUE)),3)","v":{"$error":"#VALUE!"}},{"$f":"COUNTIF(IF(ISERROR(INDIRECT(\"'B&U_\"&A187&\"'!$H$66\",TRUE)),\"\",INDIRECT(\"'B&U_\"&A187&\"'!$H$66\",TRUE)),3)","v":{"$error":"#VALUE!"}},{"$f":"COUNTIF(IF(ISERROR(INDIRECT(\"'B&U_\"&A187&\"'!$H$97\",TRUE)),\"\",INDIRECT(\"'B&U_\"&A187&\"'!$H$97\",TRUE)),3)","v":{"$error":"#VALUE!"}},{"$f":"COUNTIF(IF(ISERROR(INDIRECT(\"'B&U_\"&A187&\"'!$H$128\",TRUE)),\"\",INDIRECT(\"'B&U_\"&A187&\"'!$H$128\",TRUE)),3)","v":{"$error":"#VALUE!"}},{"$f":"COUNTIF(IF(ISERROR(INDIRECT(\"'B&U_\"&A187&\"'!$H$160\",TRUE)),\"\",INDIRECT(\"'B&U_\"&A187&\"'!$H$160\",TRUE)),3)","v":{"$error":"#VALUE!"}},{"$f":"COUNTIF(IF(ISERROR(INDIRECT(\"'B&U_\"&A187&\"'!$H$190\",TRUE)),\"\",INDIRECT(\"'B&U_\"&A187&\"'!$H$190\",TRUE)),3)","v":{"$error":"#VALUE!"}},{"$f":"COUNTIF(IF(ISERROR(INDIRECT(\"'B&U_\"&A187&\"'!$H$199\",TRUE)),\"\",INDIRECT(\"'B&U_\"&A187&\"'!$H$199\",TRUE)),3)","v":{"$error":"#VALUE!"}}]
["Tilsyn 43","Status:  grøn",null,null,null,null,null,null,null,null,{"$f":"COUNTIF(IF(ISERROR(INDIRECT(\"'B&U_\"&A188&\"'!$H$33\",TRUE)),\"\",INDIRECT(\"'B&U_\"&A188&\"'!$H$33\",TRUE)),1)","v":{"$error":"#VALUE!"}},{"$f":"COUNTIF(IF(ISERROR(INDIRECT(\"'B&U_\"&A188&\"'!$h$42\",TRUE)),\"\",INDIRECT(\"'B&U_\"&A188&\"'!$h$42\",TRUE)),1)","v":{"$error":"#VALUE!"}},{"$f":"COUNTIF(IF(ISERROR(INDIRECT(\"'B&U_\"&A188&\"'!$H$66\",TRUE)),\"\",INDIRECT(\"'B&U_\"&A188&\"'!$H$66\",TRUE)),1)","v":{"$error":"#VALUE!"}},{"$f":"COUNTIF(IF(ISERROR(INDIRECT(\"'B&U_\"&A188&\"'!$H$97\",TRUE)),\"\",INDIRECT(\"'B&U_\"&A188&\"'!$H$97\",TRUE)),1)","v":{"$error":"#VALUE!"}},{"$f":"COUNTIF(IF(ISERROR(INDIRECT(\"'B&U_\"&A188&\"'!$H$128\",TRUE)),\"\",INDIRECT(\"'B&U_\"&A188&\"'!$H$128\",TRUE)),1)","v":{"$error":"#VALUE!"}},{"$f":"COUNTIF(IF(ISERROR(INDIRECT(\"'B&U_\"&A188&\"'!$H$160\",TRUE)),\"\",INDIRECT(\"'B&U_\"&A188&\"'!$H$160\",TRUE)),1)","v":{"$error":"#VALUE!"}},{"$f":"COUNTIF(IF(ISERROR(INDIRECT(\"'B&U_\"&A188&\"'!$H$190\",TRUE)),\"\",INDIRECT(\"'B&U_\"&A188&\"'!$H$190\",TRUE)),1)","v":{"$error":"#VALUE!"}},{"$f":"COUNTIF(IF(ISERROR(INDIRECT(\"'B&U_\"&A188&\"'!$H$199\",TRUE)),\"\",INDIRECT(\"'B&U_\"&A188&\"'!$H$199\",TRUE)),1)","v":{"$error":"#VALUE!"}}]
["Tilsyn 43","Status:  gul",null,null,null,null,null,null,null,null,{"$f":"COUNTIF(IF(ISERROR(INDIRECT(\"'B&U_\"&A189&\"'!$H$33\",TRUE)),\"\",INDIRECT(\"'B&U_\"&A189&\"'!$H$33\",TRUE)),2)","v":{"$error":"#VALUE!"}},{"$f":"COUNTIF(IF(ISERROR(INDIRECT(\"'B&U_\"&A189&\"'!$h$42\",TRUE)),\"\",INDIRECT(\"'B&U_\"&A189&\"'!$h$42\",TRUE)),2)","v":{"$error":"#VALUE!"}},{"$f":"COUNTIF(IF(ISERROR(INDIRECT(\"'B&U_\"&A189&\"'!$H$66\",TRUE)),\"\",INDIRECT(\"'B&U_\"&A189&\"'!$H$66\",TRUE)),2)","v":{"$error":"#VALUE!"}},{"$f":"COUNTIF(IF(ISERROR(INDIRECT(\"'B&U_\"&A189&\"'!$H$97\",TRUE)),\"\",INDIRECT(\"'B&U_\"&A189&\"'!$H$97\",TRUE)),2)","v":{"$error":"#VALUE!"}},{"$f":"COUNTIF(IF(ISERROR(INDIRECT(\"'B&U_\"&A189&\"'!$H$128\",TRUE)),\"\",INDIRECT(\"'B&U_\"&A189&\"'!$H$128\",TRUE)),2)","v":{"$error":"#VALUE!"}},{"$f":"COUNTIF(IF(ISERROR(INDIRECT(\"'B&U_\"&A189&\"'!$H$160\",TRUE)),\"\",INDIRECT(\"'B&U_\"&A189&\"'!$H$160\",TRUE)),2)","v":{"$error":"#VALUE!"}},{"$f":"COUNTIF(IF(ISERROR(INDIRECT(\"'B&U_\"&A189&\"'!$H$190\",TRUE)),\"\",INDIRECT(\"'B&U_\"&A189&\"'!$H$190\",TRUE)),2)","v":{"$error":"#VALUE!"}},{"$f":"COUNTIF(IF(ISERROR(INDIRECT(\"'B&U_\"&A189&\"'!$H$199\",TRUE)),\"\",INDIRECT(\"'B&U_\"&A189&\"'!$H$199\",TRUE)),2)","v":{"$error":"#VALUE!"}}]
["Tilsyn 43","Status:  rød",null,null,null,null,null,null,null,null,{"$f":"COUNTIF(IF(ISERROR(INDIRECT(\"'B&U_\"&A190&\"'!$H$33\",TRUE)),\"\",INDIRECT(\"'B&U_\"&A190&\"'!$H$33\",TRUE)),3)","v":{"$error":"#VALUE!"}},{"$f":"COUNTIF(IF(ISERROR(INDIRECT(\"'B&U_\"&A190&\"'!$h$42\",TRUE)),\"\",INDIRECT(\"'B&U_\"&A190&\"'!$h$42\",TRUE)),3)","v":{"$error":"#VALUE!"}},{"$f":"COUNTIF(IF(ISERROR(INDIRECT(\"'B&U_\"&A190&\"'!$H$66\",TRUE)),\"\",INDIRECT(\"'B&U_\"&A190&\"'!$H$66\",TRUE)),3)","v":{"$error":"#VALUE!"}},{"$f":"COUNTIF(IF(ISERROR(INDIRECT(\"'B&U_\"&A190&\"'!$H$97\",TRUE)),\"\",INDIRECT(\"'B&U_\"&A190&\"'!$H$97\",TRUE)),3)","v":{"$error":"#VALUE!"}},{"$f":"COUNTIF(IF(ISERROR(INDIRECT(\"'B&U_\"&A190&\"'!$H$128\",TRUE)),\"\",INDIRECT(\"'B&U_\"&A190&\"'!$H$128\",TRUE)),3)","v":{"$error":"#VALUE!"}},{"$f":"COUNTIF(IF(ISERROR(INDIRECT(\"'B&U_\"&A190&\"'!$H$160\",TRUE)),\"\",INDIRECT(\"'B&U_\"&A190&\"'!$H$160\",TRUE)),3)","v":{"$error":"#VALUE!"}},{"$f":"COUNTIF(IF(ISERROR(INDIRECT(\"'B&U_\"&A190&\"'!$H$190\",TRUE)),\"\",INDIRECT(\"'B&U_\"&A190&\"'!$H$190\",TRUE)),3)","v":{"$error":"#VALUE!"}},{"$f":"COUNTIF(IF(ISERROR(INDIRECT(\"'B&U_\"&A190&\"'!$H$199\",TRUE)),\"\",INDIRECT(\"'B&U_\"&A190&\"'!$H$199\",TRUE)),3)","v":{"$error":"#VALUE!"}}]
["Tilsyn 44","Status:  grøn",null,null,null,null,null,null,null,null,{"$f":"COUNTIF(IF(ISERROR(INDIRECT(\"'B&U_\"&A191&\"'!$H$33\",TRUE)),\"\",INDIRECT(\"'B&U_\"&A191&\"'!$H$33\",TRUE)),1)","v":{"$error":"#VALUE!"}},{"$f":"COUNTIF(IF(ISERROR(INDIRECT(\"'B&U_\"&A191&\"'!$h$42\",TRUE)),\"\",INDIRECT(\"'B&U_\"&A191&\"'!$h$42\",TRUE)),1)","v":{"$error":"#VALUE!"}},{"$f":"COUNTIF(IF(ISERROR(INDIRECT(\"'B&U_\"&A191&\"'!$H$66\",TRUE)),\"\",INDIRECT(\"'B&U_\"&A191&\"'!$H$66\",TRUE)),1)","v":{"$error":"#VALUE!"}},{"$f":"COUNTIF(IF(ISERROR(INDIRECT(\"'B&U_\"&A191&\"'!$H$97\",TRUE)),\"\",INDIRECT(\"'B&U_\"&A191&\"'!$H$97\",TRUE)),1)","v":{"$error":"#VALUE!"}},{"$f":"COUNTIF(IF(ISERROR(INDIRECT(\"'B&U_\"&A191&\"'!$H$128\",TRUE)),\"\",INDIRECT(\"'B&U_\"&A191&\"'!$H$128\",TRUE)),1)","v":{"$error":"#VALUE!"}},{"$f":"COUNTIF(IF(ISERROR(INDIRECT(\"'B&U_\"&A191&\"'!$H$160\",TRUE)),\"\",INDIRECT(\"'B&U_\"&A191&\"'!$H$160\",TRUE)),1)","v":{"$error":"#VALUE!"}},{"$f":"COUNTIF(IF(ISERROR(INDIRECT(\"'B&U_\"&A191&\"'!$H$190\",TRUE)),\"\",INDIRECT(\"'B&U_\"&A191&\"'!$H$190\",TRUE)),1)","v":{"$error":"#VALUE!"}},{"$f":"COUNTIF(IF(ISERROR(INDIRECT(\"'B&U_\"&A191&\"'!$H$199\",TRUE)),\"\",INDIRECT(\"'B&U_\"&A191&\"'!$H$199\",TRUE)),1)","v":{"$error":"#VALUE!"}}]
["Tilsyn 44","Status:  gul",null,null,null,null,null,null,null,null,{"$f":"COUNTIF(IF(ISERROR(INDIRECT(\"'B&U_\"&A192&\"'!$H$33\",TRUE)),\"\",INDIRECT(\"'B&U_\"&A192&\"'!$H$33\",TRUE)),2)","v":{"$error":"#VALUE!"}},{"$f":"COUNTIF(IF(ISERROR(INDIRECT(\"'B&U_\"&A192&\"'!$h$42\",TRUE)),\"\",INDIRECT(\"'B&U_\"&A192&\"'!$h$42\",TRUE)),2)","v":{"$error":"#VALUE!"}},{"$f":"COUNTIF(IF(ISERROR(INDIRECT(\"'B&U_\"&A192&\"'!$H$66\",TRUE)),\"\",INDIRECT(\"'B&U_\"&A192&\"'!$H$66\",TRUE)),2)","v":{"$error":"#VALUE!"}},{"$f":"COUNTIF(IF(ISERROR(INDIRECT(\"'B&U_\"&A192&\"'!$H$97\",TRUE)),\"\",INDIRECT(\"'B&U_\"&A192&\"'!$H$97\",TRUE)),2)","v":{"$error":"#VALUE!"}},{"$f":"COUNTIF(IF(ISERROR(INDIRECT(\"'B&U_\"&A192&\"'!$H$128\",TRUE)),\"\",INDIRECT(\"'B&U_\"&A192&\"'!$H$128\",TRUE)),2)","v":{"$error":"#VALUE!"}},{"$f":"COUNTIF(IF(ISERROR(INDIRECT(\"'B&U_\"&A192&\"'!$H$160\",TRUE)),\"\",INDIRECT(\"'B&U_\"&A192&\"'!$H$160\",TRUE)),2)","v":{"$error":"#VALUE!"}},{"$f":"COUNTIF(IF(ISERROR(INDIRECT(\"'B&U_\"&A192&\"'!$H$190\",TRUE)),\"\",INDIRECT(\"'B&U_\"&A192&\"'!$H$190\",TRUE)),2)","v":{"$error":"#VALUE!"}},{"$f":"COUNTIF(IF(ISERROR(INDIRECT(\"'B&U_\"&A192&\"'!$H$199\",TRUE)),\"\",INDIRECT(\"'B&U_\"&A192&\"'!$H$199\",TRUE)),2)","v":{"$error":"#VALUE!"}}]
["Tilsyn 44","Status:  rød",null,null,null,null,null,null,null,null,{"$f":"COUNTIF(IF(ISERROR(INDIRECT(\"'B&U_\"&A193&\"'!$H$33\",TRUE)),\"\",INDIRECT(\"'B&U_\"&A193&\"'!$H$33\",TRUE)),3)","v":{"$error":"#VALUE!"}},{"$f":"COUNTIF(IF(ISERROR(INDIRECT(\"'B&U_\"&A193&\"'!$h$42\",TRUE)),\"\",INDIRECT(\"'B&U_\"&A193&\"'!$h$42\",TRUE)),3)","v":{"$error":"#VALUE!"}},{"$f":"COUNTIF(IF(ISERROR(INDIRECT(\"'B&U_\"&A193&\"'!$H$66\",TRUE)),\"\",INDIRECT(\"'B&U_\"&A193&\"'!$H$66\",TRUE)),3)","v":{"$error":"#VALUE!"}},{"$f":"COUNTIF(IF(ISERROR(INDIRECT(\"'B&U_\"&A193&\"'!$H$97\",TRUE)),\"\",INDIRECT(\"'B&U_\"&A193&\"'!$H$97\",TRUE)),3)","v":{"$error":"#VALUE!"}},{"$f":"COUNTIF(IF(ISERROR(INDIRECT(\"'B&U_\"&A193&\"'!$H$128\",TRUE)),\"\",INDIRECT(\"'B&U_\"&A193&\"'!$H$128\",TRUE)),3)","v":{"$error":"#VALUE!"}},{"$f":"COUNTIF(IF(ISERROR(INDIRECT(\"'B&U_\"&A193&\"'!$H$160\",TRUE)),\"\",INDIRECT(\"'B&U_\"&A193&\"'!$H$160\",TRUE)),3)","v":{"$error":"#VALUE!"}},{"$f":"COUNTIF(IF(ISERROR(INDIRECT(\"'B&U_\"&A193&\"'!$H$190\",TRUE)),\"\",INDIRECT(\"'B&U_\"&A193&\"'!$H$190\",TRUE)),3)","v":{"$error":"#VALUE!"}},{"$f":"COUNTIF(IF(ISERROR(INDIRECT(\"'B&U_\"&A193&\"'!$H$199\",TRUE)),\"\",INDIRECT(\"'B&U_\"&A193&\"'!$H$199\",TRUE)),3)","v":{"$error":"#VALUE!"}}]
["Tilsyn 45","Status:  grøn",null,null,null,null,null,null,null,null,{"$f":"COUNTIF(IF(ISERROR(INDIRECT(\"'B&U_\"&A194&\"'!$H$33\",TRUE)),\"\",INDIRECT(\"'B&U_\"&A194&\"'!$H$33\",TRUE)),1)","v":{"$error":"#VALUE!"}},{"$f":"COUNTIF(IF(ISERROR(INDIRECT(\"'B&U_\"&A194&\"'!$h$42\",TRUE)),\"\",INDIRECT(\"'B&U_\"&A194&\"'!$h$42\",TRUE)),1)","v":{"$error":"#VALUE!"}},{"$f":"COUNTIF(IF(ISERROR(INDIRECT(\"'B&U_\"&A194&\"'!$H$66\",TRUE)),\"\",INDIRECT(\"'B&U_\"&A194&\"'!$H$66\",TRUE)),1)","v":{"$error":"#VALUE!"}},{"$f":"COUNTIF(IF(ISERROR(INDIRECT(\"'B&U_\"&A194&\"'!$H$97\",TRUE)),\"\",INDIRECT(\"'B&U_\"&A194&\"'!$H$97\",TRUE)),1)","v":{"$error":"#VALUE!"}},{"$f":"COUNTIF(IF(ISERROR(INDIRECT(\"'B&U_\"&A194&\"'!$H$128\",TRUE)),\"\",INDIRECT(\"'B&U_\"&A194&\"'!$H$128\",TRUE)),1)","v":{"$error":"#VALUE!"}},{"$f":"COUNTIF(IF(ISERROR(INDIRECT(\"'B&U_\"&A194&\"'!$H$160\",TRUE)),\"\",INDIRECT(\"'B&U_\"&A194&\"'!$H$160\",TRUE)),1)","v":{"$error":"#VALUE!"}},{"$f":"COUNTIF(IF(ISERROR(INDIRECT(\"'B&U_\"&A194&\"'!$H$190\",TRUE)),\"\",INDIRECT(\"'B&U_\"&A194&\"'!$H$190\",TRUE)),1)","v":{"$error":"#VALUE!"}},{"$f":"COUNTIF(IF(ISERROR(INDIRECT(\"'B&U_\"&A194&\"'!$H$199\",TRUE)),\"\",INDIRECT(\"'B&U_\"&A194&\"'!$H$199\",TRUE)),1)","v":{"$error":"#VALUE!"}}]
["Tilsyn 45","Status:  gul",null,null,null,null,null,null,null,null,{"$f":"COUNTIF(IF(ISERROR(INDIRECT(\"'B&U_\"&A195&\"'!$H$33\",TRUE)),\"\",INDIRECT(\"'B&U_\"&A195&\"'!$H$33\",TRUE)),2)","v":{"$error":"#VALUE!"}},{"$f":"COUNTIF(IF(ISERROR(INDIRECT(\"'B&U_\"&A195&\"'!$h$42\",TRUE)),\"\",INDIRECT(\"'B&U_\"&A195&\"'!$h$42\",TRUE)),2)","v":{"$error":"#VALUE!"}},{"$f":"COUNTIF(IF(ISERROR(INDIRECT(\"'B&U_\"&A195&\"'!$H$66\",TRUE)),\"\",INDIRECT(\"'B&U_\"&A195&\"'!$H$66\",TRUE)),2)","v":{"$error":"#VALUE!"}},{"$f":"COUNTIF(IF(ISERROR(INDIRECT(\"'B&U_\"&A195&\"'!$H$97\",TRUE)),\"\",INDIRECT(\"'B&U_\"&A195&\"'!$H$97\",TRUE)),2)","v":{"$error":"#VALUE!"}},{"$f":"COUNTIF(IF(ISERROR(INDIRECT(\"'B&U_\"&A195&\"'!$H$128\",TRUE)),\"\",INDIRECT(\"'B&U_\"&A195&\"'!$H$128\",TRUE)),2)","v":{"$error":"#VALUE!"}},{"$f":"COUNTIF(IF(ISERROR(INDIRECT(\"'B&U_\"&A195&\"'!$H$160\",TRUE)),\"\",INDIRECT(\"'B&U_\"&A195&\"'!$H$160\",TRUE)),2)","v":{"$error":"#VALUE!"}},{"$f":"COUNTIF(IF(ISERROR(INDIRECT(\"'B&U_\"&A195&\"'!$H$190\",TRUE)),\"\",INDIRECT(\"'B&U_\"&A195&\"'!$H$190\",TRUE)),2)","v":{"$error":"#VALUE!"}},{"$f":"COUNTIF(IF(ISERROR(INDIRECT(\"'B&U_\"&A195&\"'!$H$199\",TRUE)),\"\",INDIRECT(\"'B&U_\"&A195&\"'!$H$199\",TRUE)),2)","v":{"$error":"#VALUE!"}}]
["Tilsyn 45","Status:  rød",null,null,null,null,null,null,null,null,{"$f":"COUNTIF(IF(ISERROR(INDIRECT(\"'B&U_\"&A196&\"'!$H$33\",TRUE)),\"\",INDIRECT(\"'B&U_\"&A196&\"'!$H$33\",TRUE)),3)","v":{"$error":"#VALUE!"}},{"$f":"COUNTIF(IF(ISERROR(INDIRECT(\"'B&U_\"&A196&\"'!$h$42\",TRUE)),\"\",INDIRECT(\"'B&U_\"&A196&\"'!$h$42\",TRUE)),3)","v":{"$error":"#VALUE!"}},{"$f":"COUNTIF(IF(ISERROR(INDIRECT(\"'B&U_\"&A196&\"'!$H$66\",TRUE)),\"\",INDIRECT(\"'B&U_\"&A196&\"'!$H$66\",TRUE)),3)","v":{"$error":"#VALUE!"}},{"$f":"COUNTIF(IF(ISERROR(INDIRECT(\"'B&U_\"&A196&\"'!$H$97\",TRUE)),\"\",INDIRECT(\"'B&U_\"&A196&\"'!$H$97\",TRUE)),3)","v":{"$error":"#VALUE!"}},{"$f":"COUNTIF(IF(ISERROR(INDIRECT(\"'B&U_\"&A196&\"'!$H$128\",TRUE)),\"\",INDIRECT(\"'B&U_\"&A196&\"'!$H$128\",TRUE)),3)","v":{"$error":"#VALUE!"}},{"$f":"COUNTIF(IF(ISERROR(INDIRECT(\"'B&U_\"&A196&\"'!$H$160\",TRUE)),\"\",INDIRECT(\"'B&U_\"&A196&\"'!$H$160\",TRUE)),3)","v":{"$error":"#VALUE!"}},{"$f":"COUNTIF(IF(ISERROR(INDIRECT(\"'B&U_\"&A196&\"'!$H$190\",TRUE)),\"\",INDIRECT(\"'B&U_\"&A196&\"'!$H$190\",TRUE)),3)","v":{"$error":"#VALUE!"}},{"$f":"COUNTIF(IF(ISERROR(INDIRECT(\"'B&U_\"&A196&\"'!$H$199\",TRUE)),\"\",INDIRECT(\"'B&U_\"&A196&\"'!$H$199\",TRUE)),3)","v":{"$error":"#VALUE!"}}]
["Tilsyn 46","Status:  grøn",null,null,null,null,null,null,null,null,{"$f":"COUNTIF(IF(ISERROR(INDIRECT(\"'B&U_\"&A197&\"'!$H$33\",TRUE)),\"\",INDIRECT(\"'B&U_\"&A197&\"'!$H$33\",TRUE)),1)","v":{"$error":"#VALUE!"}},{"$f":"COUNTIF(IF(ISERROR(INDIRECT(\"'B&U_\"&A197&\"'!$h$42\",TRUE)),\"\",INDIRECT(\"'B&U_\"&A197&\"'!$h$42\",TRUE)),1)","v":{"$error":"#VALUE!"}},{"$f":"COUNTIF(IF(ISERROR(INDIRECT(\"'B&U_\"&A197&\"'!$H$66\",TRUE)),\"\",INDIRECT(\"'B&U_\"&A197&\"'!$H$66\",TRUE)),1)","v":{"$error":"#VALUE!"}},{"$f":"COUNTIF(IF(ISERROR(INDIRECT(\"'B&U_\"&A197&\"'!$H$97\",TRUE)),\"\",INDIRECT(\"'B&U_\"&A197&\"'!$H$97\",TRUE)),1)","v":{"$error":"#VALUE!"}},{"$f":"COUNTIF(IF(ISERROR(INDIRECT(\"'B&U_\"&A197&\"'!$H$128\",TRUE)),\"\",INDIRECT(\"'B&U_\"&A197&\"'!$H$128\",TRUE)),1)","v":{"$error":"#VALUE!"}},{"$f":"COUNTIF(IF(ISERROR(INDIRECT(\"'B&U_\"&A197&\"'!$H$160\",TRUE)),\"\",INDIRECT(\"'B&U_\"&A197&\"'!$H$160\",TRUE)),1)","v":{"$error":"#VALUE!"}},{"$f":"COUNTIF(IF(ISERROR(INDIRECT(\"'B&U_\"&A197&\"'!$H$190\",TRUE)),\"\",INDIRECT(\"'B&U_\"&A197&\"'!$H$190\",TRUE)),1)","v":{"$error":"#VALUE!"}},{"$f":"COUNTIF(IF(ISERROR(INDIRECT(\"'B&U_\"&A197&\"'!$H$199\",TRUE)),\"\",INDIRECT(\"'B&U_\"&A197&\"'!$H$199\",TRUE)),1)","v":{"$error":"#VALUE!"}}]
["Tilsyn 46","Status:  gul",null,null,null,null,null,null,null,null,{"$f":"COUNTIF(IF(ISERROR(INDIRECT(\"'B&U_\"&A198&\"'!$H$33\",TRUE)),\"\",INDIRECT(\"'B&U_\"&A198&\"'!$H$33\",TRUE)),2)","v":{"$error":"#VALUE!"}},{"$f":"COUNTIF(IF(ISERROR(INDIRECT(\"'B&U_\"&A198&\"'!$h$42\",TRUE)),\"\",INDIRECT(\"'B&U_\"&A198&\"'!$h$42\",TRUE)),2)","v":{"$error":"#VALUE!"}},{"$f":"COUNTIF(IF(ISERROR(INDIRECT(\"'B&U_\"&A198&\"'!$H$66\",TRUE)),\"\",INDIRECT(\"'B&U_\"&A198&\"'!$H$66\",TRUE)),2)","v":{"$error":"#VALUE!"}},{"$f":"COUNTIF(IF(ISERROR(INDIRECT(\"'B&U_\"&A198&\"'!$H$97\",TRUE)),\"\",INDIRECT(\"'B&U_\"&A198&\"'!$H$97\",TRUE)),2)","v":{"$error":"#VALUE!"}},{"$f":"COUNTIF(IF(ISERROR(INDIRECT(\"'B&U_\"&A198&\"'!$H$128\",TRUE)),\"\",INDIRECT(\"'B&U_\"&A198&\"'!$H$128\",TRUE)),2)","v":{"$error":"#VALUE!"}},{"$f":"COUNTIF(IF(ISERROR(INDIRECT(\"'B&U_\"&A198&\"'!$H$160\",TRUE)),\"\",INDIRECT(\"'B&U_\"&A198&\"'!$H$160\",TRUE)),2)","v":{"$error":"#VALUE!"}},{"$f":"COUNTIF(IF(ISERROR(INDIRECT(\"'B&U_\"&A198&\"'!$H$190\",TRUE)),\"\",INDIRECT(\"'B&U_\"&A198&\"'!$H$190\",TRUE)),2)","v":{"$error":"#VALUE!"}},{"$f":"COUNTIF(IF(ISERROR(INDIRECT(\"'B&U_\"&A198&\"'!$H$199\",TRUE)),\"\",INDIRECT(\"'B&U_\"&A198&\"'!$H$199\",TRUE)),2)","v":{"$error":"#VALUE!"}}]
["Tilsyn 46","Status:  rød",null,null,null,null,null,null,null,null,{"$f":"COUNTIF(IF(ISERROR(INDIRECT(\"'B&U_\"&A199&\"'!$H$33\",TRUE)),\"\",INDIRECT(\"'B&U_\"&A199&\"'!$H$33\",TRUE)),3)","v":{"$error":"#VALUE!"}},{"$f":"COUNTIF(IF(ISERROR(INDIRECT(\"'B&U_\"&A199&\"'!$h$42\",TRUE)),\"\",INDIRECT(\"'B&U_\"&A199&\"'!$h$42\",TRUE)),3)","v":{"$error":"#VALUE!"}},{"$f":"COUNTIF(IF(ISERROR(INDIRECT(\"'B&U_\"&A199&\"'!$H$66\",TRUE)),\"\",INDIRECT(\"'B&U_\"&A199&\"'!$H$66\",TRUE)),3)","v":{"$error":"#VALUE!"}},{"$f":"COUNTIF(IF(ISERROR(INDIRECT(\"'B&U_\"&A199&\"'!$H$97\",TRUE)),\"\",INDIRECT(\"'B&U_\"&A199&\"'!$H$97\",TRUE)),3)","v":{"$error":"#VALUE!"}},{"$f":"COUNTIF(IF(ISERROR(INDIRECT(\"'B&U_\"&A199&\"'!$H$128\",TRUE)),\"\",INDIRECT(\"'B&U_\"&A199&\"'!$H$128\",TRUE)),3)","v":{"$error":"#VALUE!"}},{"$f":"COUNTIF(IF(ISERROR(INDIRECT(\"'B&U_\"&A199&\"'!$H$160\",TRUE)),\"\",INDIRECT(\"'B&U_\"&A199&\"'!$H$160\",TRUE)),3)","v":{"$error":"#VALUE!"}},{"$f":"COUNTIF(IF(ISERROR(INDIRECT(\"'B&U_\"&A199&\"'!$H$190\",TRUE)),\"\",INDIRECT(\"'B&U_\"&A199&\"'!$H$190\",TRUE)),3)","v":{"$error":"#VALUE!"}},{"$f":"COUNTIF(IF(ISERROR(INDIRECT(\"'B&U_\"&A199&\"'!$H$199\",TRUE)),\"\",INDIRECT(\"'B&U_\"&A199&\"'!$H$199\",TRUE)),3)","v":{"$error":"#VALUE!"}}]
["Tilsyn 47","Status:  grøn",null,null,null,null,null,null,null,null,{"$f":"COUNTIF(IF(ISERROR(INDIRECT(\"'B&U_\"&A200&\"'!$H$33\",TRUE)),\"\",INDIRECT(\"'B&U_\"&A200&\"'!$H$33\",TRUE)),1)","v":{"$error":"#VALUE!"}},{"$f":"COUNTIF(IF(ISERROR(INDIRECT(\"'B&U_\"&A200&\"'!$h$42\",TRUE)),\"\",INDIRECT(\"'B&U_\"&A200&\"'!$h$42\",TRUE)),1)","v":{"$error":"#VALUE!"}},{"$f":"COUNTIF(IF(ISERROR(INDIRECT(\"'B&U_\"&A200&\"'!$H$66\",TRUE)),\"\",INDIRECT(\"'B&U_\"&A200&\"'!$H$66\",TRUE)),1)","v":{"$error":"#VALUE!"}},{"$f":"COUNTIF(IF(ISERROR(INDIRECT(\"'B&U_\"&A200&\"'!$H$97\",TRUE)),\"\",INDIRECT(\"'B&U_\"&A200&\"'!$H$97\",TRUE)),1)","v":{"$error":"#VALUE!"}},{"$f":"COUNTIF(IF(ISERROR(INDIRECT(\"'B&U_\"&A200&\"'!$H$128\",TRUE)),\"\",INDIRECT(\"'B&U_\"&A200&\"'!$H$128\",TRUE)),1)","v":{"$error":"#VALUE!"}},{"$f":"COUNTIF(IF(ISERROR(INDIRECT(\"'B&U_\"&A200&\"'!$H$160\",TRUE)),\"\",INDIRECT(\"'B&U_\"&A200&\"'!$H$160\",TRUE)),1)","v":{"$error":"#VALUE!"}},{"$f":"COUNTIF(IF(ISERROR(INDIRECT(\"'B&U_\"&A200&\"'!$H$190\",TRUE)),\"\",INDIRECT(\"'B&U_\"&A200&\"'!$H$190\",TRUE)),1)","v":{"$error":"#VALUE!"}},{"$f":"COUNTIF(IF(ISERROR(INDIRECT(\"'B&U_\"&A200&\"'!$H$199\",TRUE)),\"\",INDIRECT(\"'B&U_\"&A200&\"'!$H$199\",TRUE)),1)","v":{"$error":"#VALUE!"}}]
["Tilsyn 47","Status:  gul",null,null,null,null,null,null,null,null,{"$f":"COUNTIF(IF(ISERROR(INDIRECT(\"'B&U_\"&A201&\"'!$H$33\",TRUE)),\"\",INDIRECT(\"'B&U_\"&A201&\"'!$H$33\",TRUE)),2)","v":{"$error":"#VALUE!"}},{"$f":"COUNTIF(IF(ISERROR(INDIRECT(\"'B&U_\"&A201&\"'!$h$42\",TRUE)),\"\",INDIRECT(\"'B&U_\"&A201&\"'!$h$42\",TRUE)),2)","v":{"$error":"#VALUE!"}},{"$f":"COUNTIF(IF(ISERROR(INDIRECT(\"'B&U_\"&A201&\"'!$H$66\",TRUE)),\"\",INDIRECT(\"'B&U_\"&A201&\"'!$H$66\",TRUE)),2)","v":{"$error":"#VALUE!"}},{"$f":"COUNTIF(IF(ISERROR(INDIRECT(\"'B&U_\"&A201&\"'!$H$97\",TRUE)),\"\",INDIRECT(\"'B&U_\"&A201&\"'!$H$97\",TRUE)),2)","v":{"$error":"#VALUE!"}},{"$f":"COUNTIF(IF(ISERROR(INDIRECT(\"'B&U_\"&A201&\"'!$H$128\",TRUE)),\"\",INDIRECT(\"'B&U_\"&A201&\"'!$H$128\",TRUE)),2)","v":{"$error":"#VALUE!"}},{"$f":"COUNTIF(IF(ISERROR(INDIRECT(\"'B&U_\"&A201&\"'!$H$160\",TRUE)),\"\",INDIRECT(\"'B&U_\"&A201&\"'!$H$160\",TRUE)),2)","v":{"$error":"#VALUE!"}},{"$f":"COUNTIF(IF(ISERROR(INDIRECT(\"'B&U_\"&A201&\"'!$H$190\",TRUE)),\"\",INDIRECT(\"'B&U_\"&A201&\"'!$H$190\",TRUE)),2)","v":{"$error":"#VALUE!"}},{"$f":"COUNTIF(IF(ISERROR(INDIRECT(\"'B&U_\"&A201&\"'!$H$199\",TRUE)),\"\",INDIRECT(\"'B&U_\"&A201&\"'!$H$199\",TRUE)),2)","v":{"$error":"#VALUE!"}}]
["Tilsyn 47","Status:  rød",null,null,null,null,null,null,null,null,{"$f":"COUNTIF(IF(ISERROR(INDIRECT(\"'B&U_\"&A202&\"'!$H$33\",TRUE)),\"\",INDIRECT(\"'B&U_\"&A202&\"'!$H$33\",TRUE)),3)","v":{"$error":"#VALUE!"}},{"$f":"COUNTIF(IF(ISERROR(INDIRECT(\"'B&U_\"&A202&\"'!$h$42\",TRUE)),\"\",INDIRECT(\"'B&U_\"&A202&\"'!$h$42\",TRUE)),3)","v":{"$error":"#VALUE!"}},{"$f":"COUNTIF(IF(ISERROR(INDIRECT(\"'B&U_\"&A202&\"'!$H$66\",TRUE)),\"\",INDIRECT(\"'B&U_\"&A202&\"'!$H$66\",TRUE)),3)","v":{"$error":"#VALUE!"}},{"$f":"COUNTIF(IF(ISERROR(INDIRECT(\"'B&U_\"&A202&\"'!$H$97\",TRUE)),\"\",INDIRECT(\"'B&U_\"&A202&\"'!$H$97\",TRUE)),3)","v":{"$error":"#VALUE!"}},{"$f":"COUNTIF(IF(ISERROR(INDIRECT(\"'B&U_\"&A202&\"'!$H$128\",TRUE)),\"\",INDIRECT(\"'B&U_\"&A202&\"'!$H$128\",TRUE)),3)","v":{"$error":"#VALUE!"}},{"$f":"COUNTIF(IF(ISERROR(INDIRECT(\"'B&U_\"&A202&\"'!$H$160\",TRUE)),\"\",INDIRECT(\"'B&U_\"&A202&\"'!$H$160\",TRUE)),3)","v":{"$error":"#VALUE!"}},{"$f":"COUNTIF(IF(ISERROR(INDIRECT(\"'B&U_\"&A202&\"'!$H$190\",TRUE)),\"\",INDIRECT(\"'B&U_\"&A202&\"'!$H$190\",TRUE)),3)","v":{"$error":"#VALUE!"}},{"$f":"COUNTIF(IF(ISERROR(INDIRECT(\"'B&U_\"&A202&\"'!$H$199\",TRUE)),\"\",INDIRECT(\"'B&U_\"&A202&\"'!$H$199\",TRUE)),3)","v":{"$error":"#VALUE!"}}]
["Tilsyn 48","Status:  grøn",null,null,null,null,null,null,null,null,{"$f":"COUNTIF(IF(ISERROR(INDIRECT(\"'B&U_\"&A203&\"'!$H$33\",TRUE)),\"\",INDIRECT(\"'B&U_\"&A203&\"'!$H$33\",TRUE)),1)","v":{"$error":"#VALUE!"}},{"$f":"COUNTIF(IF(ISERROR(INDIRECT(\"'B&U_\"&A203&\"'!$h$42\",TRUE)),\"\",INDIRECT(\"'B&U_\"&A203&\"'!$h$42\",TRUE)),1)","v":{"$error":"#VALUE!"}},{"$f":"COUNTIF(IF(ISERROR(INDIRECT(\"'B&U_\"&A203&\"'!$H$66\",TRUE)),\"\",INDIRECT(\"'B&U_\"&A203&\"'!$H$66\",TRUE)),1)","v":{"$error":"#VALUE!"}},{"$f":"COUNTIF(IF(ISERROR(INDIRECT(\"'B&U_\"&A203&\"'!$H$97\",TRUE)),\"\",INDIRECT(\"'B&U_\"&A203&\"'!$H$97\",TRUE)),1)","v":{"$error":"#VALUE!"}},{"$f":"COUNTIF(IF(ISERROR(INDIRECT(\"'B&U_\"&A203&\"'!$H$128\",TRUE)),\"\",INDIRECT(\"'B&U_\"&A203&\"'!$H$128\",TRUE)),1)","v":{"$error":"#VALUE!"}},{"$f":"COUNTIF(IF(ISERROR(INDIRECT(\"'B&U_\"&A203&\"'!$H$160\",TRUE)),\"\",INDIRECT(\"'B&U_\"&A203&\"'!$H$160\",TRUE)),1)","v":{"$error":"#VALUE!"}},{"$f":"COUNTIF(IF(ISERROR(INDIRECT(\"'B&U_\"&A203&\"'!$H$190\",TRUE)),\"\",INDIRECT(\"'B&U_\"&A203&\"'!$H$190\",TRUE)),1)","v":{"$error":"#VALUE!"}},{"$f":"COUNTIF(IF(ISERROR(INDIRECT(\"'B&U_\"&A203&\"'!$H$199\",TRUE)),\"\",INDIRECT(\"'B&U_\"&A203&\"'!$H$199\",TRUE)),1)","v":{"$error":"#VALUE!"}}]
["Tilsyn 48","Status:  gul",null,null,null,null,null,null,null,null,{"$f":"COUNTIF(IF(ISERROR(INDIRECT(\"'B&U_\"&A204&\"'!$H$33\",TRUE)),\"\",INDIRECT(\"'B&U_\"&A204&\"'!$H$33\",TRUE)),2)","v":{"$error":"#VALUE!"}},{"$f":"COUNTIF(IF(ISERROR(INDIRECT(\"'B&U_\"&A204&\"'!$h$42\",TRUE)),\"\",INDIRECT(\"'B&U_\"&A204&\"'!$h$42\",TRUE)),2)","v":{"$error":"#VALUE!"}},{"$f":"COUNTIF(IF(ISERROR(INDIRECT(\"'B&U_\"&A204&\"'!$H$66\",TRUE)),\"\",INDIRECT(\"'B&U_\"&A204&\"'!$H$66\",TRUE)),2)","v":{"$error":"#VALUE!"}},{"$f":"COUNTIF(IF(ISERROR(INDIRECT(\"'B&U_\"&A204&\"'!$H$97\",TRUE)),\"\",INDIRECT(\"'B&U_\"&A204&\"'!$H$97\",TRUE)),2)","v":{"$error":"#VALUE!"}},{"$f":"COUNTIF(IF(ISERROR(INDIRECT(\"'B&U_\"&A204&\"'!$H$128\",TRUE)),\"\",INDIRECT(\"'B&U_\"&A204&\"'!$H$128\",TRUE)),2)","v":{"$error":"#VALUE!"}},{"$f":"COUNTIF(IF(ISERROR(INDIRECT(\"'B&U_\"&A204&\"'!$H$160\",TRUE)),\"\",INDIRECT(\"'B&U_\"&A204&\"'!$H$160\",TRUE)),2)","v":{"$error":"#VALUE!"}},{"$f":"COUNTIF(IF(ISERROR(INDIRECT(\"'B&U_\"&A204&\"'!$H$190\",TRUE)),\"\",INDIRECT(\"'B&U_\"&A204&\"'!$H$190\",TRUE)),2)","v":{"$error":"#VALUE!"}},{"$f":"COUNTIF(IF(ISERROR(INDIRECT(\"'B&U_\"&A204&\"'!$H$199\",TRUE)),\"\",INDIRECT(\"'B&U_\"&A204&\"'!$H$199\",TRUE)),2)","v":{"$error":"#VALUE!"}}]
["Tilsyn 48","Status:  rød",null,null,null,null,null,null,null,null,{"$f":"COUNTIF(IF(ISERROR(INDIRECT(\"'B&U_\"&A205&\"'!$H$33\",TRUE)),\"\",INDIRECT(\"'B&U_\"&A205&\"'!$H$33\",TRUE)),3)","v":{"$error":"#VALUE!"}},{"$f":"COUNTIF(IF(ISERROR(INDIRECT(\"'B&U_\"&A205&\"'!$h$42\",TRUE)),\"\",INDIRECT(\"'B&U_\"&A205&\"'!$h$42\",TRUE)),3)","v":{"$error":"#VALUE!"}},{"$f":"COUNTIF(IF(ISERROR(INDIRECT(\"'B&U_\"&A205&\"'!$H$66\",TRUE)),\"\",INDIRECT(\"'B&U_\"&A205&\"'!$H$66\",TRUE)),3)","v":{"$error":"#VALUE!"}},{"$f":"COUNTIF(IF(ISERROR(INDIRECT(\"'B&U_\"&A205&\"'!$H$97\",TRUE)),\"\",INDIRECT(\"'B&U_\"&A205&\"'!$H$97\",TRUE)),3)","v":{"$error":"#VALUE!"}},{"$f":"COUNTIF(IF(ISERROR(INDIRECT(\"'B&U_\"&A205&\"'!$H$128\",TRUE)),\"\",INDIRECT(\"'B&U_\"&A205&\"'!$H$128\",TRUE)),3)","v":{"$error":"#VALUE!"}},{"$f":"COUNTIF(IF(ISERROR(INDIRECT(\"'B&U_\"&A205&\"'!$H$160\",TRUE)),\"\",INDIRECT(\"'B&U_\"&A205&\"'!$H$160\",TRUE)),3)","v":{"$error":"#VALUE!"}},{"$f":"COUNTIF(IF(ISERROR(INDIRECT(\"'B&U_\"&A205&\"'!$H$190\",TRUE)),\"\",INDIRECT(\"'B&U_\"&A205&\"'!$H$190\",TRUE)),3)","v":{"$error":"#VALUE!"}},{"$f":"COUNTIF(IF(ISERROR(INDIRECT(\"'B&U_\"&A205&\"'!$H$199\",TRUE)),\"\",INDIRECT(\"'B&U_\"&A205&\"'!$H$199\",TRUE)),3)","v":{"$error":"#VALUE!"}}]
["Tilsyn 49","Status:  grøn",null,null,null,null,null,null,null,null,{"$f":"COUNTIF(IF(ISERROR(INDIRECT(\"'B&U_\"&A206&\"'!$H$33\",TRUE)),\"\",INDIRECT(\"'B&U_\"&A206&\"'!$H$33\",TRUE)),1)","v":{"$error":"#VALUE!"}},{"$f":"COUNTIF(IF(ISERROR(INDIRECT(\"'B&U_\"&A206&\"'!$h$42\",TRUE)),\"\",INDIRECT(\"'B&U_\"&A206&\"'!$h$42\",TRUE)),1)","v":{"$error":"#VALUE!"}},{"$f":"COUNTIF(IF(ISERROR(INDIRECT(\"'B&U_\"&A206&\"'!$H$66\",TRUE)),\"\",INDIRECT(\"'B&U_\"&A206&\"'!$H$66\",TRUE)),1)","v":{"$error":"#VALUE!"}},{"$f":"COUNTIF(IF(ISERROR(INDIRECT(\"'B&U_\"&A206&\"'!$H$97\",TRUE)),\"\",INDIRECT(\"'B&U_\"&A206&\"'!$H$97\",TRUE)),1)","v":{"$error":"#VALUE!"}},{"$f":"COUNTIF(IF(ISERROR(INDIRECT(\"'B&U_\"&A206&\"'!$H$128\",TRUE)),\"\",INDIRECT(\"'B&U_\"&A206&\"'!$H$128\",TRUE)),1)","v":{"$error":"#VALUE!"}},{"$f":"COUNTIF(IF(ISERROR(INDIRECT(\"'B&U_\"&A206&\"'!$H$160\",TRUE)),\"\",INDIRECT(\"'B&U_\"&A206&\"'!$H$160\",TRUE)),1)","v":{"$error":"#VALUE!"}},{"$f":"COUNTIF(IF(ISERROR(INDIRECT(\"'B&U_\"&A206&\"'!$H$190\",TRUE)),\"\",INDIRECT(\"'B&U_\"&A206&\"'!$H$190\",TRUE)),1)","v":{"$error":"#VALUE!"}},{"$f":"COUNTIF(IF(ISERROR(INDIRECT(\"'B&U_\"&A206&\"'!$H$199\",TRUE)),\"\",INDIRECT(\"'B&U_\"&A206&\"'!$H$199\",TRUE)),1)","v":{"$error":"#VALUE!"}}]
["Tilsyn 49","Status:  gul",null,null,null,null,null,null,null,null,{"$f":"COUNTIF(IF(ISERROR(INDIRECT(\"'B&U_\"&A207&\"'!$H$33\",TRUE)),\"\",INDIRECT(\"'B&U_\"&A207&\"'!$H$33\",TRUE)),2)","v":{"$error":"#VALUE!"}},{"$f":"COUNTIF(IF(ISERROR(INDIRECT(\"'B&U_\"&A207&\"'!$h$42\",TRUE)),\"\",INDIRECT(\"'B&U_\"&A207&\"'!$h$42\",TRUE)),2)","v":{"$error":"#VALUE!"}},{"$f":"COUNTIF(IF(ISERROR(INDIRECT(\"'B&U_\"&A207&\"'!$H$66\",TRUE)),\"\",INDIRECT(\"'B&U_\"&A207&\"'!$H$66\",TRUE)),2)","v":{"$error":"#VALUE!"}},{"$f":"COUNTIF(IF(ISERROR(INDIRECT(\"'B&U_\"&A207&\"'!$H$97\",TRUE)),\"\",INDIRECT(\"'B&U_\"&A207&\"'!$H$97\",TRUE)),2)","v":{"$error":"#VALUE!"}},{"$f":"COUNTIF(IF(ISERROR(INDIRECT(\"'B&U_\"&A207&\"'!$H$128\",TRUE)),\"\",INDIRECT(\"'B&U_\"&A207&\"'!$H$128\",TRUE)),2)","v":{"$error":"#VALUE!"}},{"$f":"COUNTIF(IF(ISERROR(INDIRECT(\"'B&U_\"&A207&\"'!$H$160\",TRUE)),\"\",INDIRECT(\"'B&U_\"&A207&\"'!$H$160\",TRUE)),2)","v":{"$error":"#VALUE!"}},{"$f":"COUNTIF(IF(ISERROR(INDIRECT(\"'B&U_\"&A207&\"'!$H$190\",TRUE)),\"\",INDIRECT(\"'B&U_\"&A207&\"'!$H$190\",TRUE)),2)","v":{"$error":"#VALUE!"}},{"$f":"COUNTIF(IF(ISERROR(INDIRECT(\"'B&U_\"&A207&\"'!$H$199\",TRUE)),\"\",INDIRECT(\"'B&U_\"&A207&\"'!$H$199\",TRUE)),2)","v":{"$error":"#VALUE!"}}]
["Tilsyn 49","Status:  rød",null,null,null,null,null,null,null,null,{"$f":"COUNTIF(IF(ISERROR(INDIRECT(\"'B&U_\"&A208&\"'!$H$33\",TRUE)),\"\",INDIRECT(\"'B&U_\"&A208&\"'!$H$33\",TRUE)),3)","v":{"$error":"#VALUE!"}},{"$f":"COUNTIF(IF(ISERROR(INDIRECT(\"'B&U_\"&A208&\"'!$h$42\",TRUE)),\"\",INDIRECT(\"'B&U_\"&A208&\"'!$h$42\",TRUE)),3)","v":{"$error":"#VALUE!"}},{"$f":"COUNTIF(IF(ISERROR(INDIRECT(\"'B&U_\"&A208&\"'!$H$66\",TRUE)),\"\",INDIRECT(\"'B&U_\"&A208&\"'!$H$66\",TRUE)),3)","v":{"$error":"#VALUE!"}},{"$f":"COUNTIF(IF(ISERROR(INDIRECT(\"'B&U_\"&A208&\"'!$H$97\",TRUE)),\"\",INDIRECT(\"'B&U_\"&A208&\"'!$H$97\",TRUE)),3)","v":{"$error":"#VALUE!"}},{"$f":"COUNTIF(IF(ISERROR(INDIRECT(\"'B&U_\"&A208&\"'!$H$128\",TRUE)),\"\",INDIRECT(\"'B&U_\"&A208&\"'!$H$128\",TRUE)),3)","v":{"$error":"#VALUE!"}},{"$f":"COUNTIF(IF(ISERROR(INDIRECT(\"'B&U_\"&A208&\"'!$H$160\",TRUE)),\"\",INDIRECT(\"'B&U_\"&A208&\"'!$H$160\",TRUE)),3)","v":{"$error":"#VALUE!"}},{"$f":"COUNTIF(IF(ISERROR(INDIRECT(\"'B&U_\"&A208&\"'!$H$190\",TRUE)),\"\",INDIRECT(\"'B&U_\"&A208&\"'!$H$190\",TRUE)),3)","v":{"$error":"#VALUE!"}},{"$f":"COUNTIF(IF(ISERROR(INDIRECT(\"'B&U_\"&A208&\"'!$H$199\",TRUE)),\"\",INDIRECT(\"'B&U_\"&A208&\"'!$H$199\",TRUE)),3)","v":{"$error":"#VALUE!"}}]
["Tilsyn 50","Status:  grøn",null,null,null,null,null,null,null,null,{"$f":"COUNTIF(IF(ISERROR(INDIRECT(\"'B&U_\"&A209&\"'!$H$33\",TRUE)),\"\",INDIRECT(\"'B&U_\"&A209&\"'!$H$33\",TRUE)),1)","v":{"$error":"#VALUE!"}},{"$f":"COUNTIF(IF(ISERROR(INDIRECT(\"'B&U_\"&A209&\"'!$h$42\",TRUE)),\"\",INDIRECT(\"'B&U_\"&A209&\"'!$h$42\",TRUE)),1)","v":{"$error":"#VALUE!"}},{"$f":"COUNTIF(IF(ISERROR(INDIRECT(\"'B&U_\"&A209&\"'!$H$66\",TRUE)),\"\",INDIRECT(\"'B&U_\"&A209&\"'!$H$66\",TRUE)),1)","v":{"$error":"#VALUE!"}},{"$f":"COUNTIF(IF(ISERROR(INDIRECT(\"'B&U_\"&A209&\"'!$H$97\",TRUE)),\"\",INDIRECT(\"'B&U_\"&A209&\"'!$H$97\",TRUE)),1)","v":{"$error":"#VALUE!"}},{"$f":"COUNTIF(IF(ISERROR(INDIRECT(\"'B&U_\"&A209&\"'!$H$128\",TRUE)),\"\",INDIRECT(\"'B&U_\"&A209&\"'!$H$128\",TRUE)),1)","v":{"$error":"#VALUE!"}},{"$f":"COUNTIF(IF(ISERROR(INDIRECT(\"'B&U_\"&A209&\"'!$H$160\",TRUE)),\"\",INDIRECT(\"'B&U_\"&A209&\"'!$H$160\",TRUE)),1)","v":{"$error":"#VALUE!"}},{"$f":"COUNTIF(IF(ISERROR(INDIRECT(\"'B&U_\"&A209&\"'!$H$190\",TRUE)),\"\",INDIRECT(\"'B&U_\"&A209&\"'!$H$190\",TRUE)),1)","v":{"$error":"#VALUE!"}},{"$f":"COUNTIF(IF(ISERROR(INDIRECT(\"'B&U_\"&A209&\"'!$H$199\",TRUE)),\"\",INDIRECT(\"'B&U_\"&A209&\"'!$H$199\",TRUE)),1)","v":{"$error":"#VALUE!"}}]
["Tilsyn 50","Status:  gul",null,null,null,null,null,null,null,null,{"$f":"COUNTIF(IF(ISERROR(INDIRECT(\"'B&U_\"&A210&\"'!$H$33\",TRUE)),\"\",INDIRECT(\"'B&U_\"&A210&\"'!$H$33\",TRUE)),2)","v":{"$error":"#VALUE!"}},{"$f":"COUNTIF(IF(ISERROR(INDIRECT(\"'B&U_\"&A210&\"'!$h$42\",TRUE)),\"\",INDIRECT(\"'B&U_\"&A210&\"'!$h$42\",TRUE)),2)","v":{"$error":"#VALUE!"}},{"$f":"COUNTIF(IF(ISERROR(INDIRECT(\"'B&U_\"&A210&\"'!$H$66\",TRUE)),\"\",INDIRECT(\"'B&U_\"&A210&\"'!$H$66\",TRUE)),2)","v":{"$error":"#VALUE!"}},{"$f":"COUNTIF(IF(ISERROR(INDIRECT(\"'B&U_\"&A210&\"'!$H$97\",TRUE)),\"\",INDIRECT(\"'B&U_\"&A210&\"'!$H$97\",TRUE)),2)","v":{"$error":"#VALUE!"}},{"$f":"COUNTIF(IF(ISERROR(INDIRECT(\"'B&U_\"&A210&\"'!$H$128\",TRUE)),\"\",INDIRECT(\"'B&U_\"&A210&\"'!$H$128\",TRUE)),2)","v":{"$error":"#VALUE!"}},{"$f":"COUNTIF(IF(ISERROR(INDIRECT(\"'B&U_\"&A210&\"'!$H$160\",TRUE)),\"\",INDIRECT(\"'B&U_\"&A210&\"'!$H$160\",TRUE)),2)","v":{"$error":"#VALUE!"}},{"$f":"COUNTIF(IF(ISERROR(INDIRECT(\"'B&U_\"&A210&\"'!$H$190\",TRUE)),\"\",INDIRECT(\"'B&U_\"&A210&\"'!$H$190\",TRUE)),2)","v":{"$error":"#VALUE!"}},{"$f":"COUNTIF(IF(ISERROR(INDIRECT(\"'B&U_\"&A210&\"'!$H$199\",TRUE)),\"\",INDIRECT(\"'B&U_\"&A210&\"'!$H$199\",TRUE)),2)","v":{"$error":"#VALUE!"}}]
["Tilsyn 50","Status:  rød",null,null,null,null,null,null,null,null,{"$f":"COUNTIF(IF(ISERROR(INDIRECT(\"'B&U_\"&A211&\"'!$H$33\",TRUE)),\"\",INDIRECT(\"'B&U_\"&A211&\"'!$H$33\",TRUE)),3)","v":{"$error":"#VALUE!"}},{"$f":"COUNTIF(IF(ISERROR(INDIRECT(\"'B&U_\"&A211&\"'!$h$42\",TRUE)),\"\",INDIRECT(\"'B&U_\"&A211&\"'!$h$42\",TRUE)),3)","v":{"$error":"#VALUE!"}},{"$f":"COUNTIF(IF(ISERROR(INDIRECT(\"'B&U_\"&A211&\"'!$H$66\",TRUE)),\"\",INDIRECT(\"'B&U_\"&A211&\"'!$H$66\",TRUE)),3)","v":{"$error":"#VALUE!"}},{"$f":"COUNTIF(IF(ISERROR(INDIRECT(\"'B&U_\"&A211&\"'!$H$97\",TRUE)),\"\",INDIRECT(\"'B&U_\"&A211&\"'!$H$97\",TRUE)),3)","v":{"$error":"#VALUE!"}},{"$f":"COUNTIF(IF(ISERROR(INDIRECT(\"'B&U_\"&A211&\"'!$H$128\",TRUE)),\"\",INDIRECT(\"'B&U_\"&A211&\"'!$H$128\",TRUE)),3)","v":{"$error":"#VALUE!"}},{"$f":"COUNTIF(IF(ISERROR(INDIRECT(\"'B&U_\"&A211&\"'!$H$160\",TRUE)),\"\",INDIRECT(\"'B&U_\"&A211&\"'!$H$160\",TRUE)),3)","v":{"$error":"#VALUE!"}},{"$f":"COUNTIF(IF(ISERROR(INDIRECT(\"'B&U_\"&A211&\"'!$H$190\",TRUE)),\"\",INDIRECT(\"'B&U_\"&A211&\"'!$H$190\",TRUE)),3)","v":{"$error":"#VALUE!"}},{"$f":"COUNTIF(IF(ISERROR(INDIRECT(\"'B&U_\"&A211&\"'!$H$199\",TRUE)),\"\",INDIRECT(\"'B&U_\"&A211&\"'!$H$199\",TRUE)),3)","v":{"$error":"#VALUE!"}}]
["Tilsyn 51","Status:  grøn",null,null,null,null,null,null,null,null,{"$f":"COUNTIF(IF(ISERROR(INDIRECT(\"'B&U_\"&A212&\"'!$H$33\",TRUE)),\"\",INDIRECT(\"'B&U_\"&A212&\"'!$H$33\",TRUE)),1)","v":{"$error":"#VALUE!"}},{"$f":"COUNTIF(IF(ISERROR(INDIRECT(\"'B&U_\"&A212&\"'!$h$42\",TRUE)),\"\",INDIRECT(\"'B&U_\"&A212&\"'!$h$42\",TRUE)),1)","v":{"$error":"#VALUE!"}},{"$f":"COUNTIF(IF(ISERROR(INDIRECT(\"'B&U_\"&A212&\"'!$H$66\",TRUE)),\"\",INDIRECT(\"'B&U_\"&A212&\"'!$H$66\",TRUE)),1)","v":{"$error":"#VALUE!"}},{"$f":"COUNTIF(IF(ISERROR(INDIRECT(\"'B&U_\"&A212&\"'!$H$97\",TRUE)),\"\",INDIRECT(\"'B&U_\"&A212&\"'!$H$97\",TRUE)),1)","v":{"$error":"#VALUE!"}},{"$f":"COUNTIF(IF(ISERROR(INDIRECT(\"'B&U_\"&A212&\"'!$H$128\",TRUE)),\"\",INDIRECT(\"'B&U_\"&A212&\"'!$H$128\",TRUE)),1)","v":{"$error":"#VALUE!"}},{"$f":"COUNTIF(IF(ISERROR(INDIRECT(\"'B&U_\"&A212&\"'!$H$160\",TRUE)),\"\",INDIRECT(\"'B&U_\"&A212&\"'!$H$160\",TRUE)),1)","v":{"$error":"#VALUE!"}},{"$f":"COUNTIF(IF(ISERROR(INDIRECT(\"'B&U_\"&A212&\"'!$H$190\",TRUE)),\"\",INDIRECT(\"'B&U_\"&A212&\"'!$H$190\",TRUE)),1)","v":{"$error":"#VALUE!"}},{"$f":"COUNTIF(IF(ISERROR(INDIRECT(\"'B&U_\"&A212&\"'!$H$199\",TRUE)),\"\",INDIRECT(\"'B&U_\"&A212&\"'!$H$199\",TRUE)),1)","v":{"$error":"#VALUE!"}}]
["Tilsyn 51","Status:  gul",null,null,null,null,null,null,null,null,{"$f":"COUNTIF(IF(ISERROR(INDIRECT(\"'B&U_\"&A213&\"'!$H$33\",TRUE)),\"\",INDIRECT(\"'B&U_\"&A213&\"'!$H$33\",TRUE)),2)","v":{"$error":"#VALUE!"}},{"$f":"COUNTIF(IF(ISERROR(INDIRECT(\"'B&U_\"&A213&\"'!$h$42\",TRUE)),\"\",INDIRECT(\"'B&U_\"&A213&\"'!$h$42\",TRUE)),2)","v":{"$error":"#VALUE!"}},{"$f":"COUNTIF(IF(ISERROR(INDIRECT(\"'B&U_\"&A213&\"'!$H$66\",TRUE)),\"\",INDIRECT(\"'B&U_\"&A213&\"'!$H$66\",TRUE)),2)","v":{"$error":"#VALUE!"}},{"$f":"COUNTIF(IF(ISERROR(INDIRECT(\"'B&U_\"&A213&\"'!$H$97\",TRUE)),\"\",INDIRECT(\"'B&U_\"&A213&\"'!$H$97\",TRUE)),2)","v":{"$error":"#VALUE!"}},{"$f":"COUNTIF(IF(ISERROR(INDIRECT(\"'B&U_\"&A213&\"'!$H$128\",TRUE)),\"\",INDIRECT(\"'B&U_\"&A213&\"'!$H$128\",TRUE)),2)","v":{"$error":"#VALUE!"}},{"$f":"COUNTIF(IF(ISERROR(INDIRECT(\"'B&U_\"&A213&\"'!$H$160\",TRUE)),\"\",INDIRECT(\"'B&U_\"&A213&\"'!$H$160\",TRUE)),2)","v":{"$error":"#VALUE!"}},{"$f":"COUNTIF(IF(ISERROR(INDIRECT(\"'B&U_\"&A213&\"'!$H$190\",TRUE)),\"\",INDIRECT(\"'B&U_\"&A213&\"'!$H$190\",TRUE)),2)","v":{"$error":"#VALUE!"}},{"$f":"COUNTIF(IF(ISERROR(INDIRECT(\"'B&U_\"&A213&\"'!$H$199\",TRUE)),\"\",INDIRECT(\"'B&U_\"&A213&\"'!$H$199\",TRUE)),2)","v":{"$error":"#VALUE!"}}]
["Tilsyn 51","Status:  rød",null,null,null,null,null,null,null,null,{"$f":"COUNTIF(IF(ISERROR(INDIRECT(\"'B&U_\"&A214&\"'!$H$33\",TRUE)),\"\",INDIRECT(\"'B&U_\"&A214&\"'!$H$33\",TRUE)),3)","v":{"$error":"#VALUE!"}},{"$f":"COUNTIF(IF(ISERROR(INDIRECT(\"'B&U_\"&A214&\"'!$h$42\",TRUE)),\"\",INDIRECT(\"'B&U_\"&A214&\"'!$h$42\",TRUE)),3)","v":{"$error":"#VALUE!"}},{"$f":"COUNTIF(IF(ISERROR(INDIRECT(\"'B&U_\"&A214&\"'!$H$66\",TRUE)),\"\",INDIRECT(\"'B&U_\"&A214&\"'!$H$66\",TRUE)),3)","v":{"$error":"#VALUE!"}},{"$f":"COUNTIF(IF(ISERROR(INDIRECT(\"'B&U_\"&A214&\"'!$H$97\",TRUE)),\"\",INDIRECT(\"'B&U_\"&A214&\"'!$H$97\",TRUE)),3)","v":{"$error":"#VALUE!"}},{"$f":"COUNTIF(IF(ISERROR(INDIRECT(\"'B&U_\"&A214&\"'!$H$128\",TRUE)),\"\",INDIRECT(\"'B&U_\"&A214&\"'!$H$128\",TRUE)),3)","v":{"$error":"#VALUE!"}},{"$f":"COUNTIF(IF(ISERROR(INDIRECT(\"'B&U_\"&A214&\"'!$H$160\",TRUE)),\"\",INDIRECT(\"'B&U_\"&A214&\"'!$H$160\",TRUE)),3)","v":{"$error":"#VALUE!"}},{"$f":"COUNTIF(IF(ISERROR(INDIRECT(\"'B&U_\"&A214&\"'!$H$190\",TRUE)),\"\",INDIRECT(\"'B&U_\"&A214&\"'!$H$190\",TRUE)),3)","v":{"$error":"#VALUE!"}},{"$f":"COUNTIF(IF(ISERROR(INDIRECT(\"'B&U_\"&A214&\"'!$H$199\",TRUE)),\"\",INDIRECT(\"'B&U_\"&A214&\"'!$H$199\",TRUE)),3)","v":{"$error":"#VALUE!"}}]
["Tilsyn 52","Status:  grøn",null,null,null,null,null,null,null,null,{"$f":"COUNTIF(IF(ISERROR(INDIRECT(\"'B&U_\"&A215&\"'!$H$33\",TRUE)),\"\",INDIRECT(\"'B&U_\"&A215&\"'!$H$33\",TRUE)),1)","v":{"$error":"#VALUE!"}},{"$f":"COUNTIF(IF(ISERROR(INDIRECT(\"'B&U_\"&A215&\"'!$h$42\",TRUE)),\"\",INDIRECT(\"'B&U_\"&A215&\"'!$h$42\",TRUE)),1)","v":{"$error":"#VALUE!"}},{"$f":"COUNTIF(IF(ISERROR(INDIRECT(\"'B&U_\"&A215&\"'!$H$66\",TRUE)),\"\",INDIRECT(\"'B&U_\"&A215&\"'!$H$66\",TRUE)),1)","v":{"$error":"#VALUE!"}},{"$f":"COUNTIF(IF(ISERROR(INDIRECT(\"'B&U_\"&A215&\"'!$H$97\",TRUE)),\"\",INDIRECT(\"'B&U_\"&A215&\"'!$H$97\",TRUE)),1)","v":{"$error":"#VALUE!"}},{"$f":"COUNTIF(IF(ISERROR(INDIRECT(\"'B&U_\"&A215&\"'!$H$128\",TRUE)),\"\",INDIRECT(\"'B&U_\"&A215&\"'!$H$128\",TRUE)),1)","v":{"$error":"#VALUE!"}},{"$f":"COUNTIF(IF(ISERROR(INDIRECT(\"'B&U_\"&A215&\"'!$H$160\",TRUE)),\"\",INDIRECT(\"'B&U_\"&A215&\"'!$H$160\",TRUE)),1)","v":{"$error":"#VALUE!"}},{"$f":"COUNTIF(IF(ISERROR(INDIRECT(\"'B&U_\"&A215&\"'!$H$190\",TRUE)),\"\",INDIRECT(\"'B&U_\"&A215&\"'!$H$190\",TRUE)),1)","v":{"$error":"#VALUE!"}},{"$f":"COUNTIF(IF(ISERROR(INDIRECT(\"'B&U_\"&A215&\"'!$H$199\",TRUE)),\"\",INDIRECT(\"'B&U_\"&A215&\"'!$H$199\",TRUE)),1)","v":{"$error":"#VALUE!"}}]
["Tilsyn 52","Status:  gul",null,null,null,null,null,null,null,null,{"$f":"COUNTIF(IF(ISERROR(INDIRECT(\"'B&U_\"&A216&\"'!$H$33\",TRUE)),\"\",INDIRECT(\"'B&U_\"&A216&\"'!$H$33\",TRUE)),2)","v":{"$error":"#VALUE!"}},{"$f":"COUNTIF(IF(ISERROR(INDIRECT(\"'B&U_\"&A216&\"'!$h$42\",TRUE)),\"\",INDIRECT(\"'B&U_\"&A216&\"'!$h$42\",TRUE)),2)","v":{"$error":"#VALUE!"}},{"$f":"COUNTIF(IF(ISERROR(INDIRECT(\"'B&U_\"&A216&\"'!$H$66\",TRUE)),\"\",INDIRECT(\"'B&U_\"&A216&\"'!$H$66\",TRUE)),2)","v":{"$error":"#VALUE!"}},{"$f":"COUNTIF(IF(ISERROR(INDIRECT(\"'B&U_\"&A216&\"'!$H$97\",TRUE)),\"\",INDIRECT(\"'B&U_\"&A216&\"'!$H$97\",TRUE)),2)","v":{"$error":"#VALUE!"}},{"$f":"COUNTIF(IF(ISERROR(INDIRECT(\"'B&U_\"&A216&\"'!$H$128\",TRUE)),\"\",INDIRECT(\"'B&U_\"&A216&\"'!$H$128\",TRUE)),2)","v":{"$error":"#VALUE!"}},{"$f":"COUNTIF(IF(ISERROR(INDIRECT(\"'B&U_\"&A216&\"'!$H$160\",TRUE)),\"\",INDIRECT(\"'B&U_\"&A216&\"'!$H$160\",TRUE)),2)","v":{"$error":"#VALUE!"}},{"$f":"COUNTIF(IF(ISERROR(INDIRECT(\"'B&U_\"&A216&\"'!$H$190\",TRUE)),\"\",INDIRECT(\"'B&U_\"&A216&\"'!$H$190\",TRUE)),2)","v":{"$error":"#VALUE!"}},{"$f":"COUNTIF(IF(ISERROR(INDIRECT(\"'B&U_\"&A216&\"'!$H$199\",TRUE)),\"\",INDIRECT(\"'B&U_\"&A216&\"'!$H$199\",TRUE)),2)","v":{"$error":"#VALUE!"}}]
["Tilsyn 52","Status:  rød",null,null,null,null,null,null,null,null,{"$f":"COUNTIF(IF(ISERROR(INDIRECT(\"'B&U_\"&A217&\"'!$H$33\",TRUE)),\"\",INDIRECT(\"'B&U_\"&A217&\"'!$H$33\",TRUE)),3)","v":{"$error":"#VALUE!"}},{"$f":"COUNTIF(IF(ISERROR(INDIRECT(\"'B&U_\"&A217&\"'!$h$42\",TRUE)),\"\",INDIRECT(\"'B&U_\"&A217&\"'!$h$42\",TRUE)),3)","v":{"$error":"#VALUE!"}},{"$f":"COUNTIF(IF(ISERROR(INDIRECT(\"'B&U_\"&A217&\"'!$H$66\",TRUE)),\"\",INDIRECT(\"'B&U_\"&A217&\"'!$H$66\",TRUE)),3)","v":{"$error":"#VALUE!"}},{"$f":"COUNTIF(IF(ISERROR(INDIRECT(\"'B&U_\"&A217&\"'!$H$97\",TRUE)),\"\",INDIRECT(\"'B&U_\"&A217&\"'!$H$97\",TRUE)),3)","v":{"$error":"#VALUE!"}},{"$f":"COUNTIF(IF(ISERROR(INDIRECT(\"'B&U_\"&A217&\"'!$H$128\",TRUE)),\"\",INDIRECT(\"'B&U_\"&A217&\"'!$H$128\",TRUE)),3)","v":{"$error":"#VALUE!"}},{"$f":"COUNTIF(IF(ISERROR(INDIRECT(\"'B&U_\"&A217&\"'!$H$160\",TRUE)),\"\",INDIRECT(\"'B&U_\"&A217&\"'!$H$160\",TRUE)),3)","v":{"$error":"#VALUE!"}},{"$f":"COUNTIF(IF(ISERROR(INDIRECT(\"'B&U_\"&A217&\"'!$H$190\",TRUE)),\"\",INDIRECT(\"'B&U_\"&A217&\"'!$H$190\",TRUE)),3)","v":{"$error":"#VALUE!"}},{"$f":"COUNTIF(IF(ISERROR(INDIRECT(\"'B&U_\"&A217&\"'!$H$199\",TRUE)),\"\",INDIRECT(\"'B&U_\"&A217&\"'!$H$199\",TRUE)),3)","v":{"$error":"#VALUE!"}}]
["Tilsyn 53","Status:  grøn",null,null,null,null,null,null,null,null,{"$f":"COUNTIF(IF(ISERROR(INDIRECT(\"'B&U_\"&A218&\"'!$H$33\",TRUE)),\"\",INDIRECT(\"'B&U_\"&A218&\"'!$H$33\",TRUE)),1)","v":{"$error":"#VALUE!"}},{"$f":"COUNTIF(IF(ISERROR(INDIRECT(\"'B&U_\"&A218&\"'!$h$42\",TRUE)),\"\",INDIRECT(\"'B&U_\"&A218&\"'!$h$42\",TRUE)),1)","v":{"$error":"#VALUE!"}},{"$f":"COUNTIF(IF(ISERROR(INDIRECT(\"'B&U_\"&A218&\"'!$H$66\",TRUE)),\"\",INDIRECT(\"'B&U_\"&A218&\"'!$H$66\",TRUE)),1)","v":{"$error":"#VALUE!"}},{"$f":"COUNTIF(IF(ISERROR(INDIRECT(\"'B&U_\"&A218&\"'!$H$97\",TRUE)),\"\",INDIRECT(\"'B&U_\"&A218&\"'!$H$97\",TRUE)),1)","v":{"$error":"#VALUE!"}},{"$f":"COUNTIF(IF(ISERROR(INDIRECT(\"'B&U_\"&A218&\"'!$H$128\",TRUE)),\"\",INDIRECT(\"'B&U_\"&A218&\"'!$H$128\",TRUE)),1)","v":{"$error":"#VALUE!"}},{"$f":"COUNTIF(IF(ISERROR(INDIRECT(\"'B&U_\"&A218&\"'!$H$160\",TRUE)),\"\",INDIRECT(\"'B&U_\"&A218&\"'!$H$160\",TRUE)),1)","v":{"$error":"#VALUE!"}},{"$f":"COUNTIF(IF(ISERROR(INDIRECT(\"'B&U_\"&A218&\"'!$H$190\",TRUE)),\"\",INDIRECT(\"'B&U_\"&A218&\"'!$H$190\",TRUE)),1)","v":{"$error":"#VALUE!"}},{"$f":"COUNTIF(IF(ISERROR(INDIRECT(\"'B&U_\"&A218&\"'!$H$199\",TRUE)),\"\",INDIRECT(\"'B&U_\"&A218&\"'!$H$199\",TRUE)),1)","v":{"$error":"#VALUE!"}}]
["Tilsyn 53","Status:  gul",null,null,null,null,null,null,null,null,{"$f":"COUNTIF(IF(ISERROR(INDIRECT(\"'B&U_\"&A219&\"'!$H$33\",TRUE)),\"\",INDIRECT(\"'B&U_\"&A219&\"'!$H$33\",TRUE)),2)","v":{"$error":"#VALUE!"}},{"$f":"COUNTIF(IF(ISERROR(INDIRECT(\"'B&U_\"&A219&\"'!$h$42\",TRUE)),\"\",INDIRECT(\"'B&U_\"&A219&\"'!$h$42\",TRUE)),2)","v":{"$error":"#VALUE!"}},{"$f":"COUNTIF(IF(ISERROR(INDIRECT(\"'B&U_\"&A219&\"'!$H$66\",TRUE)),\"\",INDIRECT(\"'B&U_\"&A219&\"'!$H$66\",TRUE)),2)","v":{"$error":"#VALUE!"}},{"$f":"COUNTIF(IF(ISERROR(INDIRECT(\"'B&U_\"&A219&\"'!$H$97\",TRUE)),\"\",INDIRECT(\"'B&U_\"&A219&\"'!$H$97\",TRUE)),2)","v":{"$error":"#VALUE!"}},{"$f":"COUNTIF(IF(ISERROR(INDIRECT(\"'B&U_\"&A219&\"'!$H$128\",TRUE)),\"\",INDIRECT(\"'B&U_\"&A219&\"'!$H$128\",TRUE)),2)","v":{"$error":"#VALUE!"}},{"$f":"COUNTIF(IF(ISERROR(INDIRECT(\"'B&U_\"&A219&\"'!$H$160\",TRUE)),\"\",INDIRECT(\"'B&U_\"&A219&\"'!$H$160\",TRUE)),2)","v":{"$error":"#VALUE!"}},{"$f":"COUNTIF(IF(ISERROR(INDIRECT(\"'B&U_\"&A219&\"'!$H$190\",TRUE)),\"\",INDIRECT(\"'B&U_\"&A219&\"'!$H$190\",TRUE)),2)","v":{"$error":"#VALUE!"}},{"$f":"COUNTIF(IF(ISERROR(INDIRECT(\"'B&U_\"&A219&\"'!$H$199\",TRUE)),\"\",INDIRECT(\"'B&U_\"&A219&\"'!$H$199\",TRUE)),2)","v":{"$error":"#VALUE!"}}]
["Tilsyn 53","Status:  rød",null,null,null,null,null,null,null,null,{"$f":"COUNTIF(IF(ISERROR(INDIRECT(\"'B&U_\"&A220&\"'!$H$33\",TRUE)),\"\",INDIRECT(\"'B&U_\"&A220&\"'!$H$33\",TRUE)),3)","v":{"$error":"#VALUE!"}},{"$f":"COUNTIF(IF(ISERROR(INDIRECT(\"'B&U_\"&A220&\"'!$h$42\",TRUE)),\"\",INDIRECT(\"'B&U_\"&A220&\"'!$h$42\",TRUE)),3)","v":{"$error":"#VALUE!"}},{"$f":"COUNTIF(IF(ISERROR(INDIRECT(\"'B&U_\"&A220&\"'!$H$66\",TRUE)),\"\",INDIRECT(\"'B&U_\"&A220&\"'!$H$66\",TRUE)),3)","v":{"$error":"#VALUE!"}},{"$f":"COUNTIF(IF(ISERROR(INDIRECT(\"'B&U_\"&A220&\"'!$H$97\",TRUE)),\"\",INDIRECT(\"'B&U_\"&A220&\"'!$H$97\",TRUE)),3)","v":{"$error":"#VALUE!"}},{"$f":"COUNTIF(IF(ISERROR(INDIRECT(\"'B&U_\"&A220&\"'!$H$128\",TRUE)),\"\",INDIRECT(\"'B&U_\"&A220&\"'!$H$128\",TRUE)),3)","v":{"$error":"#VALUE!"}},{"$f":"COUNTIF(IF(ISERROR(INDIRECT(\"'B&U_\"&A220&\"'!$H$160\",TRUE)),\"\",INDIRECT(\"'B&U_\"&A220&\"'!$H$160\",TRUE)),3)","v":{"$error":"#VALUE!"}},{"$f":"COUNTIF(IF(ISERROR(INDIRECT(\"'B&U_\"&A220&\"'!$H$190\",TRUE)),\"\",INDIRECT(\"'B&U_\"&A220&\"'!$H$190\",TRUE)),3)","v":{"$error":"#VALUE!"}},{"$f":"COUNTIF(IF(ISERROR(INDIRECT(\"'B&U_\"&A220&\"'!$H$199\",TRUE)),\"\",INDIRECT(\"'B&U_\"&A220&\"'!$H$199\",TRUE)),3)","v":{"$error":"#VALUE!"}}]
["Tilsyn 54","Status:  grøn",null,null,null,null,null,null,null,null,{"$f":"COUNTIF(IF(ISERROR(INDIRECT(\"'B&U_\"&A221&\"'!$H$33\",TRUE)),\"\",INDIRECT(\"'B&U_\"&A221&\"'!$H$33\",TRUE)),1)","v":{"$error":"#VALUE!"}},{"$f":"COUNTIF(IF(ISERROR(INDIRECT(\"'B&U_\"&A221&\"'!$h$42\",TRUE)),\"\",INDIRECT(\"'B&U_\"&A221&\"'!$h$42\",TRUE)),1)","v":{"$error":"#VALUE!"}},{"$f":"COUNTIF(IF(ISERROR(INDIRECT(\"'B&U_\"&A221&\"'!$H$66\",TRUE)),\"\",INDIRECT(\"'B&U_\"&A221&\"'!$H$66\",TRUE)),1)","v":{"$error":"#VALUE!"}},{"$f":"COUNTIF(IF(ISERROR(INDIRECT(\"'B&U_\"&A221&\"'!$H$97\",TRUE)),\"\",INDIRECT(\"'B&U_\"&A221&\"'!$H$97\",TRUE)),1)","v":{"$error":"#VALUE!"}},{"$f":"COUNTIF(IF(ISERROR(INDIRECT(\"'B&U_\"&A221&\"'!$H$128\",TRUE)),\"\",INDIRECT(\"'B&U_\"&A221&\"'!$H$128\",TRUE)),1)","v":{"$error":"#VALUE!"}},{"$f":"COUNTIF(IF(ISERROR(INDIRECT(\"'B&U_\"&A221&\"'!$H$160\",TRUE)),\"\",INDIRECT(\"'B&U_\"&A221&\"'!$H$160\",TRUE)),1)","v":{"$error":"#VALUE!"}},{"$f":"COUNTIF(IF(ISERROR(INDIRECT(\"'B&U_\"&A221&\"'!$H$190\",TRUE)),\"\",INDIRECT(\"'B&U_\"&A221&\"'!$H$190\",TRUE)),1)","v":{"$error":"#VALUE!"}},{"$f":"COUNTIF(IF(ISERROR(INDIRECT(\"'B&U_\"&A221&\"'!$H$199\",TRUE)),\"\",INDIRECT(\"'B&U_\"&A221&\"'!$H$199\",TRUE)),1)","v":{"$error":"#VALUE!"}}]
["Tilsyn 54","Status:  gul",null,null,null,null,null,null,null,null,{"$f":"COUNTIF(IF(ISERROR(INDIRECT(\"'B&U_\"&A222&\"'!$H$33\",TRUE)),\"\",INDIRECT(\"'B&U_\"&A222&\"'!$H$33\",TRUE)),2)","v":{"$error":"#VALUE!"}},{"$f":"COUNTIF(IF(ISERROR(INDIRECT(\"'B&U_\"&A222&\"'!$h$42\",TRUE)),\"\",INDIRECT(\"'B&U_\"&A222&\"'!$h$42\",TRUE)),2)","v":{"$error":"#VALUE!"}},{"$f":"COUNTIF(IF(ISERROR(INDIRECT(\"'B&U_\"&A222&\"'!$H$66\",TRUE)),\"\",INDIRECT(\"'B&U_\"&A222&\"'!$H$66\",TRUE)),2)","v":{"$error":"#VALUE!"}},{"$f":"COUNTIF(IF(ISERROR(INDIRECT(\"'B&U_\"&A222&\"'!$H$97\",TRUE)),\"\",INDIRECT(\"'B&U_\"&A222&\"'!$H$97\",TRUE)),2)","v":{"$error":"#VALUE!"}},{"$f":"COUNTIF(IF(ISERROR(INDIRECT(\"'B&U_\"&A222&\"'!$H$128\",TRUE)),\"\",INDIRECT(\"'B&U_\"&A222&\"'!$H$128\",TRUE)),2)","v":{"$error":"#VALUE!"}},{"$f":"COUNTIF(IF(ISERROR(INDIRECT(\"'B&U_\"&A222&\"'!$H$160\",TRUE)),\"\",INDIRECT(\"'B&U_\"&A222&\"'!$H$160\",TRUE)),2)","v":{"$error":"#VALUE!"}},{"$f":"COUNTIF(IF(ISERROR(INDIRECT(\"'B&U_\"&A222&\"'!$H$190\",TRUE)),\"\",INDIRECT(\"'B&U_\"&A222&\"'!$H$190\",TRUE)),2)","v":{"$error":"#VALUE!"}},{"$f":"COUNTIF(IF(ISERROR(INDIRECT(\"'B&U_\"&A222&\"'!$H$199\",TRUE)),\"\",INDIRECT(\"'B&U_\"&A222&\"'!$H$199\",TRUE)),2)","v":{"$error":"#VALUE!"}}]
["Tilsyn 54","Status:  rød",null,null,null,null,null,null,null,null,{"$f":"COUNTIF(IF(ISERROR(INDIRECT(\"'B&U_\"&A223&\"'!$H$33\",TRUE)),\"\",INDIRECT(\"'B&U_\"&A223&\"'!$H$33\",TRUE)),3)","v":{"$error":"#VALUE!"}},{"$f":"COUNTIF(IF(ISERROR(INDIRECT(\"'B&U_\"&A223&\"'!$h$42\",TRUE)),\"\",INDIRECT(\"'B&U_\"&A223&\"'!$h$42\",TRUE)),3)","v":{"$error":"#VALUE!"}},{"$f":"COUNTIF(IF(ISERROR(INDIRECT(\"'B&U_\"&A223&\"'!$H$66\",TRUE)),\"\",INDIRECT(\"'B&U_\"&A223&\"'!$H$66\",TRUE)),3)","v":{"$error":"#VALUE!"}},{"$f":"COUNTIF(IF(ISERROR(INDIRECT(\"'B&U_\"&A223&\"'!$H$97\",TRUE)),\"\",INDIRECT(\"'B&U_\"&A223&\"'!$H$97\",TRUE)),3)","v":{"$error":"#VALUE!"}},{"$f":"COUNTIF(IF(ISERROR(INDIRECT(\"'B&U_\"&A223&\"'!$H$128\",TRUE)),\"\",INDIRECT(\"'B&U_\"&A223&\"'!$H$128\",TRUE)),3)","v":{"$error":"#VALUE!"}},{"$f":"COUNTIF(IF(ISERROR(INDIRECT(\"'B&U_\"&A223&\"'!$H$160\",TRUE)),\"\",INDIRECT(\"'B&U_\"&A223&\"'!$H$160\",TRUE)),3)","v":{"$error":"#VALUE!"}},{"$f":"COUNTIF(IF(ISERROR(INDIRECT(\"'B&U_\"&A223&\"'!$H$190\",TRUE)),\"\",INDIRECT(\"'B&U_\"&A223&\"'!$H$190\",TRUE)),3)","v":{"$error":"#VALUE!"}},{"$f":"COUNTIF(IF(ISERROR(INDIRECT(\"'B&U_\"&A223&\"'!$H$199\",TRUE)),\"\",INDIRECT(\"'B&U_\"&A223&\"'!$H$199\",TRUE)),3)","v":{"$error":"#VALUE!"}}]
["Tilsyn 55","Status:  grøn",null,null,null,null,null,null,null,null,{"$f":"COUNTIF(IF(ISERROR(INDIRECT(\"'B&U_\"&A224&\"'!$H$33\",TRUE)),\"\",INDIRECT(\"'B&U_\"&A224&\"'!$H$33\",TRUE)),1)","v":{"$error":"#VALUE!"}},{"$f":"COUNTIF(IF(ISERROR(INDIRECT(\"'B&U_\"&A224&\"'!$h$42\",TRUE)),\"\",INDIRECT(\"'B&U_\"&A224&\"'!$h$42\",TRUE)),1)","v":{"$error":"#VALUE!"}},{"$f":"COUNTIF(IF(ISERROR(INDIRECT(\"'B&U_\"&A224&\"'!$H$66\",TRUE)),\"\",INDIRECT(\"'B&U_\"&A224&\"'!$H$66\",TRUE)),1)","v":{"$error":"#VALUE!"}},{"$f":"COUNTIF(IF(ISERROR(INDIRECT(\"'B&U_\"&A224&\"'!$H$97\",TRUE)),\"\",INDIRECT(\"'B&U_\"&A224&\"'!$H$97\",TRUE)),1)","v":{"$error":"#VALUE!"}},{"$f":"COUNTIF(IF(ISERROR(INDIRECT(\"'B&U_\"&A224&\"'!$H$128\",TRUE)),\"\",INDIRECT(\"'B&U_\"&A224&\"'!$H$128\",TRUE)),1)","v":{"$error":"#VALUE!"}},{"$f":"COUNTIF(IF(ISERROR(INDIRECT(\"'B&U_\"&A224&\"'!$H$160\",TRUE)),\"\",INDIRECT(\"'B&U_\"&A224&\"'!$H$160\",TRUE)),1)","v":{"$error":"#VALUE!"}},{"$f":"COUNTIF(IF(ISERROR(INDIRECT(\"'B&U_\"&A224&\"'!$H$190\",TRUE)),\"\",INDIRECT(\"'B&U_\"&A224&\"'!$H$190\",TRUE)),1)","v":{"$error":"#VALUE!"}},{"$f":"COUNTIF(IF(ISERROR(INDIRECT(\"'B&U_\"&A224&\"'!$H$199\",TRUE)),\"\",INDIRECT(\"'B&U_\"&A224&\"'!$H$199\",TRUE)),1)","v":{"$error":"#VALUE!"}}]
["Tilsyn 55","Status:  gul",null,null,null,null,null,null,null,null,{"$f":"COUNTIF(IF(ISERROR(INDIRECT(\"'B&U_\"&A225&\"'!$H$33\",TRUE)),\"\",INDIRECT(\"'B&U_\"&A225&\"'!$H$33\",TRUE)),2)","v":{"$error":"#VALUE!"}},{"$f":"COUNTIF(IF(ISERROR(INDIRECT(\"'B&U_\"&A225&\"'!$h$42\",TRUE)),\"\",INDIRECT(\"'B&U_\"&A225&\"'!$h$42\",TRUE)),2)","v":{"$error":"#VALUE!"}},{"$f":"COUNTIF(IF(ISERROR(INDIRECT(\"'B&U_\"&A225&\"'!$H$66\",TRUE)),\"\",INDIRECT(\"'B&U_\"&A225&\"'!$H$66\",TRUE)),2)","v":{"$error":"#VALUE!"}},{"$f":"COUNTIF(IF(ISERROR(INDIRECT(\"'B&U_\"&A225&\"'!$H$97\",TRUE)),\"\",INDIRECT(\"'B&U_\"&A225&\"'!$H$97\",TRUE)),2)","v":{"$error":"#VALUE!"}},{"$f":"COUNTIF(IF(ISERROR(INDIRECT(\"'B&U_\"&A225&\"'!$H$128\",TRUE)),\"\",INDIRECT(\"'B&U_\"&A225&\"'!$H$128\",TRUE)),2)","v":{"$error":"#VALUE!"}},{"$f":"COUNTIF(IF(ISERROR(INDIRECT(\"'B&U_\"&A225&\"'!$H$160\",TRUE)),\"\",INDIRECT(\"'B&U_\"&A225&\"'!$H$160\",TRUE)),2)","v":{"$error":"#VALUE!"}},{"$f":"COUNTIF(IF(ISERROR(INDIRECT(\"'B&U_\"&A225&\"'!$H$190\",TRUE)),\"\",INDIRECT(\"'B&U_\"&A225&\"'!$H$190\",TRUE)),2)","v":{"$error":"#VALUE!"}},{"$f":"COUNTIF(IF(ISERROR(INDIRECT(\"'B&U_\"&A225&\"'!$H$199\",TRUE)),\"\",INDIRECT(\"'B&U_\"&A225&\"'!$H$199\",TRUE)),2)","v":{"$error":"#VALUE!"}}]
["Tilsyn 55","Status:  rød",null,null,null,null,null,null,null,null,{"$f":"COUNTIF(IF(ISERROR(INDIRECT(\"'B&U_\"&A226&\"'!$H$33\",TRUE)),\"\",INDIRECT(\"'B&U_\"&A226&\"'!$H$33\",TRUE)),3)","v":{"$error":"#VALUE!"}},{"$f":"COUNTIF(IF(ISERROR(INDIRECT(\"'B&U_\"&A226&\"'!$h$42\",TRUE)),\"\",INDIRECT(\"'B&U_\"&A226&\"'!$h$42\",TRUE)),3)","v":{"$error":"#VALUE!"}},{"$f":"COUNTIF(IF(ISERROR(INDIRECT(\"'B&U_\"&A226&\"'!$H$66\",TRUE)),\"\",INDIRECT(\"'B&U_\"&A226&\"'!$H$66\",TRUE)),3)","v":{"$error":"#VALUE!"}},{"$f":"COUNTIF(IF(ISERROR(INDIRECT(\"'B&U_\"&A226&\"'!$H$97\",TRUE)),\"\",INDIRECT(\"'B&U_\"&A226&\"'!$H$97\",TRUE)),3)","v":{"$error":"#VALUE!"}},{"$f":"COUNTIF(IF(ISERROR(INDIRECT(\"'B&U_\"&A226&\"'!$H$128\",TRUE)),\"\",INDIRECT(\"'B&U_\"&A226&\"'!$H$128\",TRUE)),3)","v":{"$error":"#VALUE!"}},{"$f":"COUNTIF(IF(ISERROR(INDIRECT(\"'B&U_\"&A226&\"'!$H$160\",TRUE)),\"\",INDIRECT(\"'B&U_\"&A226&\"'!$H$160\",TRUE)),3)","v":{"$error":"#VALUE!"}},{"$f":"COUNTIF(IF(ISERROR(INDIRECT(\"'B&U_\"&A226&\"'!$H$190\",TRUE)),\"\",INDIRECT(\"'B&U_\"&A226&\"'!$H$190\",TRUE)),3)","v":{"$error":"#VALUE!"}},{"$f":"COUNTIF(IF(ISERROR(INDIRECT(\"'B&U_\"&A226&\"'!$H$199\",TRUE)),\"\",INDIRECT(\"'B&U_\"&A226&\"'!$H$199\",TRUE)),3)","v":{"$error":"#VALUE!"}}]
["Tilsyn 56","Status:  grøn",null,null,null,null,null,null,null,null,{"$f":"COUNTIF(IF(ISERROR(INDIRECT(\"'B&U_\"&A227&\"'!$H$33\",TRUE)),\"\",INDIRECT(\"'B&U_\"&A227&\"'!$H$33\",TRUE)),1)","v":{"$error":"#VALUE!"}},{"$f":"COUNTIF(IF(ISERROR(INDIRECT(\"'B&U_\"&A227&\"'!$h$42\",TRUE)),\"\",INDIRECT(\"'B&U_\"&A227&\"'!$h$42\",TRUE)),1)","v":{"$error":"#VALUE!"}},{"$f":"COUNTIF(IF(ISERROR(INDIRECT(\"'B&U_\"&A227&\"'!$H$66\",TRUE)),\"\",INDIRECT(\"'B&U_\"&A227&\"'!$H$66\",TRUE)),1)","v":{"$error":"#VALUE!"}},{"$f":"COUNTIF(IF(ISERROR(INDIRECT(\"'B&U_\"&A227&\"'!$H$97\",TRUE)),\"\",INDIRECT(\"'B&U_\"&A227&\"'!$H$97\",TRUE)),1)","v":{"$error":"#VALUE!"}},{"$f":"COUNTIF(IF(ISERROR(INDIRECT(\"'B&U_\"&A227&\"'!$H$128\",TRUE)),\"\",INDIRECT(\"'B&U_\"&A227&\"'!$H$128\",TRUE)),1)","v":{"$error":"#VALUE!"}},{"$f":"COUNTIF(IF(ISERROR(INDIRECT(\"'B&U_\"&A227&\"'!$H$160\",TRUE)),\"\",INDIRECT(\"'B&U_\"&A227&\"'!$H$160\",TRUE)),1)","v":{"$error":"#VALUE!"}},{"$f":"COUNTIF(IF(ISERROR(INDIRECT(\"'B&U_\"&A227&\"'!$H$190\",TRUE)),\"\",INDIRECT(\"'B&U_\"&A227&\"'!$H$190\",TRUE)),1)","v":{"$error":"#VALUE!"}},{"$f":"COUNTIF(IF(ISERROR(INDIRECT(\"'B&U_\"&A227&\"'!$H$199\",TRUE)),\"\",INDIRECT(\"'B&U_\"&A227&\"'!$H$199\",TRUE)),1)","v":{"$error":"#VALUE!"}}]
["Tilsyn 56","Status:  gul",null,null,null,null,null,null,null,null,{"$f":"COUNTIF(IF(ISERROR(INDIRECT(\"'B&U_\"&A228&\"'!$H$33\",TRUE)),\"\",INDIRECT(\"'B&U_\"&A228&\"'!$H$33\",TRUE)),2)","v":{"$error":"#VALUE!"}},{"$f":"COUNTIF(IF(ISERROR(INDIRECT(\"'B&U_\"&A228&\"'!$h$42\",TRUE)),\"\",INDIRECT(\"'B&U_\"&A228&\"'!$h$42\",TRUE)),2)","v":{"$error":"#VALUE!"}},{"$f":"COUNTIF(IF(ISERROR(INDIRECT(\"'B&U_\"&A228&\"'!$H$66\",TRUE)),\"\",INDIRECT(\"'B&U_\"&A228&\"'!$H$66\",TRUE)),2)","v":{"$error":"#VALUE!"}},{"$f":"COUNTIF(IF(ISERROR(INDIRECT(\"'B&U_\"&A228&\"'!$H$97\",TRUE)),\"\",INDIRECT(\"'B&U_\"&A228&\"'!$H$97\",TRUE)),2)","v":{"$error":"#VALUE!"}},{"$f":"COUNTIF(IF(ISERROR(INDIRECT(\"'B&U_\"&A228&\"'!$H$128\",TRUE)),\"\",INDIRECT(\"'B&U_\"&A228&\"'!$H$128\",TRUE)),2)","v":{"$error":"#VALUE!"}},{"$f":"COUNTIF(IF(ISERROR(INDIRECT(\"'B&U_\"&A228&\"'!$H$160\",TRUE)),\"\",INDIRECT(\"'B&U_\"&A228&\"'!$H$160\",TRUE)),2)","v":{"$error":"#VALUE!"}},{"$f":"COUNTIF(IF(ISERROR(INDIRECT(\"'B&U_\"&A228&\"'!$H$190\",TRUE)),\"\",INDIRECT(\"'B&U_\"&A228&\"'!$H$190\",TRUE)),2)","v":{"$error":"#VALUE!"}},{"$f":"COUNTIF(IF(ISERROR(INDIRECT(\"'B&U_\"&A228&\"'!$H$199\",TRUE)),\"\",INDIRECT(\"'B&U_\"&A228&\"'!$H$199\",TRUE)),2)","v":{"$error":"#VALUE!"}}]
["Tilsyn 56","Status:  rød",null,null,null,null,null,null,null,null,{"$f":"COUNTIF(IF(ISERROR(INDIRECT(\"'B&U_\"&A229&\"'!$H$33\",TRUE)),\"\",INDIRECT(\"'B&U_\"&A229&\"'!$H$33\",TRUE)),3)","v":{"$error":"#VALUE!"}},{"$f":"COUNTIF(IF(ISERROR(INDIRECT(\"'B&U_\"&A229&\"'!$h$42\",TRUE)),\"\",INDIRECT(\"'B&U_\"&A229&\"'!$h$42\",TRUE)),3)","v":{"$error":"#VALUE!"}},{"$f":"COUNTIF(IF(ISERROR(INDIRECT(\"'B&U_\"&A229&\"'!$H$66\",TRUE)),\"\",INDIRECT(\"'B&U_\"&A229&\"'!$H$66\",TRUE)),3)","v":{"$error":"#VALUE!"}},{"$f":"COUNTIF(IF(ISERROR(INDIRECT(\"'B&U_\"&A229&\"'!$H$97\",TRUE)),\"\",INDIRECT(\"'B&U_\"&A229&\"'!$H$97\",TRUE)),3)","v":{"$error":"#VALUE!"}},{"$f":"COUNTIF(IF(ISERROR(INDIRECT(\"'B&U_\"&A229&\"'!$H$128\",TRUE)),\"\",INDIRECT(\"'B&U_\"&A229&\"'!$H$128\",TRUE)),3)","v":{"$error":"#VALUE!"}},{"$f":"COUNTIF(IF(ISERROR(INDIRECT(\"'B&U_\"&A229&\"'!$H$160\",TRUE)),\"\",INDIRECT(\"'B&U_\"&A229&\"'!$H$160\",TRUE)),3)","v":{"$error":"#VALUE!"}},{"$f":"COUNTIF(IF(ISERROR(INDIRECT(\"'B&U_\"&A229&\"'!$H$190\",TRUE)),\"\",INDIRECT(\"'B&U_\"&A229&\"'!$H$190\",TRUE)),3)","v":{"$error":"#VALUE!"}},{"$f":"COUNTIF(IF(ISERROR(INDIRECT(\"'B&U_\"&A229&\"'!$H$199\",TRUE)),\"\",INDIRECT(\"'B&U_\"&A229&\"'!$H$199\",TRUE)),3)","v":{"$error":"#VALUE!"}}]
["Tilsyn 57","Status:  grøn",null,null,null,null,null,null,null,null,{"$f":"COUNTIF(IF(ISERROR(INDIRECT(\"'B&U_\"&A230&\"'!$H$33\",TRUE)),\"\",INDIRECT(\"'B&U_\"&A230&\"'!$H$33\",TRUE)),1)","v":{"$error":"#VALUE!"}},{"$f":"COUNTIF(IF(ISERROR(INDIRECT(\"'B&U_\"&A230&\"'!$h$42\",TRUE)),\"\",INDIRECT(\"'B&U_\"&A230&\"'!$h$42\",TRUE)),1)","v":{"$error":"#VALUE!"}},{"$f":"COUNTIF(IF(ISERROR(INDIRECT(\"'B&U_\"&A230&\"'!$H$66\",TRUE)),\"\",INDIRECT(\"'B&U_\"&A230&\"'!$H$66\",TRUE)),1)","v":{"$error":"#VALUE!"}},{"$f":"COUNTIF(IF(ISERROR(INDIRECT(\"'B&U_\"&A230&\"'!$H$97\",TRUE)),\"\",INDIRECT(\"'B&U_\"&A230&\"'!$H$97\",TRUE)),1)","v":{"$error":"#VALUE!"}},{"$f":"COUNTIF(IF(ISERROR(INDIRECT(\"'B&U_\"&A230&\"'!$H$128\",TRUE)),\"\",INDIRECT(\"'B&U_\"&A230&\"'!$H$128\",TRUE)),1)","v":{"$error":"#VALUE!"}},{"$f":"COUNTIF(IF(ISERROR(INDIRECT(\"'B&U_\"&A230&\"'!$H$160\",TRUE)),\"\",INDIRECT(\"'B&U_\"&A230&\"'!$H$160\",TRUE)),1)","v":{"$error":"#VALUE!"}},{"$f":"COUNTIF(IF(ISERROR(INDIRECT(\"'B&U_\"&A230&\"'!$H$190\",TRUE)),\"\",INDIRECT(\"'B&U_\"&A230&\"'!$H$190\",TRUE)),1)","v":{"$error":"#VALUE!"}},{"$f":"COUNTIF(IF(ISERROR(INDIRECT(\"'B&U_\"&A230&\"'!$H$199\",TRUE)),\"\",INDIRECT(\"'B&U_\"&A230&\"'!$H$199\",TRUE)),1)","v":{"$error":"#VALUE!"}}]
["Tilsyn 57","Status:  gul",null,null,null,null,null,null,null,null,{"$f":"COUNTIF(IF(ISERROR(INDIRECT(\"'B&U_\"&A231&\"'!$H$33\",TRUE)),\"\",INDIRECT(\"'B&U_\"&A231&\"'!$H$33\",TRUE)),2)","v":{"$error":"#VALUE!"}},{"$f":"COUNTIF(IF(ISERROR(INDIRECT(\"'B&U_\"&A231&\"'!$h$42\",TRUE)),\"\",INDIRECT(\"'B&U_\"&A231&\"'!$h$42\",TRUE)),2)","v":{"$error":"#VALUE!"}},{"$f":"COUNTIF(IF(ISERROR(INDIRECT(\"'B&U_\"&A231&\"'!$H$66\",TRUE)),\"\",INDIRECT(\"'B&U_\"&A231&\"'!$H$66\",TRUE)),2)","v":{"$error":"#VALUE!"}},{"$f":"COUNTIF(IF(ISERROR(INDIRECT(\"'B&U_\"&A231&\"'!$H$97\",TRUE)),\"\",INDIRECT(\"'B&U_\"&A231&\"'!$H$97\",TRUE)),2)","v":{"$error":"#VALUE!"}},{"$f":"COUNTIF(IF(ISERROR(INDIRECT(\"'B&U_\"&A231&\"'!$H$128\",TRUE)),\"\",INDIRECT(\"'B&U_\"&A231&\"'!$H$128\",TRUE)),2)","v":{"$error":"#VALUE!"}},{"$f":"COUNTIF(IF(ISERROR(INDIRECT(\"'B&U_\"&A231&\"'!$H$160\",TRUE)),\"\",INDIRECT(\"'B&U_\"&A231&\"'!$H$160\",TRUE)),2)","v":{"$error":"#VALUE!"}},{"$f":"COUNTIF(IF(ISERROR(INDIRECT(\"'B&U_\"&A231&\"'!$H$190\",TRUE)),\"\",INDIRECT(\"'B&U_\"&A231&\"'!$H$190\",TRUE)),2)","v":{"$error":"#VALUE!"}},{"$f":"COUNTIF(IF(ISERROR(INDIRECT(\"'B&U_\"&A231&\"'!$H$199\",TRUE)),\"\",INDIRECT(\"'B&U_\"&A231&\"'!$H$199\",TRUE)),2)","v":{"$error":"#VALUE!"}}]
["Tilsyn 57","Status:  rød",null,null,null,null,null,null,null,null,{"$f":"COUNTIF(IF(ISERROR(INDIRECT(\"'B&U_\"&A232&\"'!$H$33\",TRUE)),\"\",INDIRECT(\"'B&U_\"&A232&\"'!$H$33\",TRUE)),3)","v":{"$error":"#VALUE!"}},{"$f":"COUNTIF(IF(ISERROR(INDIRECT(\"'B&U_\"&A232&\"'!$h$42\",TRUE)),\"\",INDIRECT(\"'B&U_\"&A232&\"'!$h$42\",TRUE)),3)","v":{"$error":"#VALUE!"}},{"$f":"COUNTIF(IF(ISERROR(INDIRECT(\"'B&U_\"&A232&\"'!$H$66\",TRUE)),\"\",INDIRECT(\"'B&U_\"&A232&\"'!$H$66\",TRUE)),3)","v":{"$error":"#VALUE!"}},{"$f":"COUNTIF(IF(ISERROR(INDIRECT(\"'B&U_\"&A232&\"'!$H$97\",TRUE)),\"\",INDIRECT(\"'B&U_\"&A232&\"'!$H$97\",TRUE)),3)","v":{"$error":"#VALUE!"}},{"$f":"COUNTIF(IF(ISERROR(INDIRECT(\"'B&U_\"&A232&\"'!$H$128\",TRUE)),\"\",INDIRECT(\"'B&U_\"&A232&\"'!$H$128\",TRUE)),3)","v":{"$error":"#VALUE!"}},{"$f":"COUNTIF(IF(ISERROR(INDIRECT(\"'B&U_\"&A232&\"'!$H$160\",TRUE)),\"\",INDIRECT(\"'B&U_\"&A232&\"'!$H$160\",TRUE)),3)","v":{"$error":"#VALUE!"}},{"$f":"COUNTIF(IF(ISERROR(INDIRECT(\"'B&U_\"&A232&\"'!$H$190\",TRUE)),\"\",INDIRECT(\"'B&U_\"&A232&\"'!$H$190\",TRUE)),3)","v":{"$error":"#VALUE!"}},{"$f":"COUNTIF(IF(ISERROR(INDIRECT(\"'B&U_\"&A232&\"'!$H$199\",TRUE)),\"\",INDIRECT(\"'B&U_\"&A232&\"'!$H$199\",TRUE)),3)","v":{"$error":"#VALUE!"}}]
["Tilsyn 58","Status:  grøn",null,null,null,null,null,null,null,null,{"$f":"COUNTIF(IF(ISERROR(INDIRECT(\"'B&U_\"&A233&\"'!$H$33\",TRUE)),\"\",INDIRECT(\"'B&U_\"&A233&\"'!$H$33\",TRUE)),1)","v":{"$error":"#VALUE!"}},{"$f":"COUNTIF(IF(ISERROR(INDIRECT(\"'B&U_\"&A233&\"'!$h$42\",TRUE)),\"\",INDIRECT(\"'B&U_\"&A233&\"'!$h$42\",TRUE)),1)","v":{"$error":"#VALUE!"}},{"$f":"COUNTIF(IF(ISERROR(INDIRECT(\"'B&U_\"&A233&\"'!$H$66\",TRUE)),\"\",INDIRECT(\"'B&U_\"&A233&\"'!$H$66\",TRUE)),1)","v":{"$error":"#VALUE!"}},{"$f":"COUNTIF(IF(ISERROR(INDIRECT(\"'B&U_\"&A233&\"'!$H$97\",TRUE)),\"\",INDIRECT(\"'B&U_\"&A233&\"'!$H$97\",TRUE)),1)","v":{"$error":"#VALUE!"}},{"$f":"COUNTIF(IF(ISERROR(INDIRECT(\"'B&U_\"&A233&\"'!$H$128\",TRUE)),\"\",INDIRECT(\"'B&U_\"&A233&\"'!$H$128\",TRUE)),1)","v":{"$error":"#VALUE!"}},{"$f":"COUNTIF(IF(ISERROR(INDIRECT(\"'B&U_\"&A233&\"'!$H$160\",TRUE)),\"\",INDIRECT(\"'B&U_\"&A233&\"'!$H$160\",TRUE)),1)","v":{"$error":"#VALUE!"}},{"$f":"COUNTIF(IF(ISERROR(INDIRECT(\"'B&U_\"&A233&\"'!$H$190\",TRUE)),\"\",INDIRECT(\"'B&U_\"&A233&\"'!$H$190\",TRUE)),1)","v":{"$error":"#VALUE!"}},{"$f":"COUNTIF(IF(ISERROR(INDIRECT(\"'B&U_\"&A233&\"'!$H$199\",TRUE)),\"\",INDIRECT(\"'B&U_\"&A233&\"'!$H$199\",TRUE)),1)","v":{"$error":"#VALUE!"}}]
["Tilsyn 58","Status:  gul",null,null,null,null,null,null,null,null,{"$f":"COUNTIF(IF(ISERROR(INDIRECT(\"'B&U_\"&A234&\"'!$H$33\",TRUE)),\"\",INDIRECT(\"'B&U_\"&A234&\"'!$H$33\",TRUE)),2)","v":{"$error":"#VALUE!"}},{"$f":"COUNTIF(IF(ISERROR(INDIRECT(\"'B&U_\"&A234&\"'!$h$42\",TRUE)),\"\",INDIRECT(\"'B&U_\"&A234&\"'!$h$42\",TRUE)),2)","v":{"$error":"#VALUE!"}},{"$f":"COUNTIF(IF(ISERROR(INDIRECT(\"'B&U_\"&A234&\"'!$H$66\",TRUE)),\"\",INDIRECT(\"'B&U_\"&A234&\"'!$H$66\",TRUE)),2)","v":{"$error":"#VALUE!"}},{"$f":"COUNTIF(IF(ISERROR(INDIRECT(\"'B&U_\"&A234&\"'!$H$97\",TRUE)),\"\",INDIRECT(\"'B&U_\"&A234&\"'!$H$97\",TRUE)),2)","v":{"$error":"#VALUE!"}},{"$f":"COUNTIF(IF(ISERROR(INDIRECT(\"'B&U_\"&A234&\"'!$H$128\",TRUE)),\"\",INDIRECT(\"'B&U_\"&A234&\"'!$H$128\",TRUE)),2)","v":{"$error":"#VALUE!"}},{"$f":"COUNTIF(IF(ISERROR(INDIRECT(\"'B&U_\"&A234&\"'!$H$160\",TRUE)),\"\",INDIRECT(\"'B&U_\"&A234&\"'!$H$160\",TRUE)),2)","v":{"$error":"#VALUE!"}},{"$f":"COUNTIF(IF(ISERROR(INDIRECT(\"'B&U_\"&A234&\"'!$H$190\",TRUE)),\"\",INDIRECT(\"'B&U_\"&A234&\"'!$H$190\",TRUE)),2)","v":{"$error":"#VALUE!"}},{"$f":"COUNTIF(IF(ISERROR(INDIRECT(\"'B&U_\"&A234&\"'!$H$199\",TRUE)),\"\",INDIRECT(\"'B&U_\"&A234&\"'!$H$199\",TRUE)),2)","v":{"$error":"#VALUE!"}}]
["Tilsyn 58","Status:  rød",null,null,null,null,null,null,null,null,{"$f":"COUNTIF(IF(ISERROR(INDIRECT(\"'B&U_\"&A235&\"'!$H$33\",TRUE)),\"\",INDIRECT(\"'B&U_\"&A235&\"'!$H$33\",TRUE)),3)","v":{"$error":"#VALUE!"}},{"$f":"COUNTIF(IF(ISERROR(INDIRECT(\"'B&U_\"&A235&\"'!$h$42\",TRUE)),\"\",INDIRECT(\"'B&U_\"&A235&\"'!$h$42\",TRUE)),3)","v":{"$error":"#VALUE!"}},{"$f":"COUNTIF(IF(ISERROR(INDIRECT(\"'B&U_\"&A235&\"'!$H$66\",TRUE)),\"\",INDIRECT(\"'B&U_\"&A235&\"'!$H$66\",TRUE)),3)","v":{"$error":"#VALUE!"}},{"$f":"COUNTIF(IF(ISERROR(INDIRECT(\"'B&U_\"&A235&\"'!$H$97\",TRUE)),\"\",INDIRECT(\"'B&U_\"&A235&\"'!$H$97\",TRUE)),3)","v":{"$error":"#VALUE!"}},{"$f":"COUNTIF(IF(ISERROR(INDIRECT(\"'B&U_\"&A235&\"'!$H$128\",TRUE)),\"\",INDIRECT(\"'B&U_\"&A235&\"'!$H$128\",TRUE)),3)","v":{"$error":"#VALUE!"}},{"$f":"COUNTIF(IF(ISERROR(INDIRECT(\"'B&U_\"&A235&\"'!$H$160\",TRUE)),\"\",INDIRECT(\"'B&U_\"&A235&\"'!$H$160\",TRUE)),3)","v":{"$error":"#VALUE!"}},{"$f":"COUNTIF(IF(ISERROR(INDIRECT(\"'B&U_\"&A235&\"'!$H$190\",TRUE)),\"\",INDIRECT(\"'B&U_\"&A235&\"'!$H$190\",TRUE)),3)","v":{"$error":"#VALUE!"}},{"$f":"COUNTIF(IF(ISERROR(INDIRECT(\"'B&U_\"&A235&\"'!$H$199\",TRUE)),\"\",INDIRECT(\"'B&U_\"&A235&\"'!$H$199\",TRUE)),3)","v":{"$error":"#VALUE!"}}]
["Tilsyn 59","Status:  grøn",null,null,null,null,null,null,null,null,{"$f":"COUNTIF(IF(ISERROR(INDIRECT(\"'B&U_\"&A236&\"'!$H$33\",TRUE)),\"\",INDIRECT(\"'B&U_\"&A236&\"'!$H$33\",TRUE)),1)","v":{"$error":"#VALUE!"}},{"$f":"COUNTIF(IF(ISERROR(INDIRECT(\"'B&U_\"&A236&\"'!$h$42\",TRUE)),\"\",INDIRECT(\"'B&U_\"&A236&\"'!$h$42\",TRUE)),1)","v":{"$error":"#VALUE!"}},{"$f":"COUNTIF(IF(ISERROR(INDIRECT(\"'B&U_\"&A236&\"'!$H$66\",TRUE)),\"\",INDIRECT(\"'B&U_\"&A236&\"'!$H$66\",TRUE)),1)","v":{"$error":"#VALUE!"}},{"$f":"COUNTIF(IF(ISERROR(INDIRECT(\"'B&U_\"&A236&\"'!$H$97\",TRUE)),\"\",INDIRECT(\"'B&U_\"&A236&\"'!$H$97\",TRUE)),1)","v":{"$error":"#VALUE!"}},{"$f":"COUNTIF(IF(ISERROR(INDIRECT(\"'B&U_\"&A236&\"'!$H$128\",TRUE)),\"\",INDIRECT(\"'B&U_\"&A236&\"'!$H$128\",TRUE)),1)","v":{"$error":"#VALUE!"}},{"$f":"COUNTIF(IF(ISERROR(INDIRECT(\"'B&U_\"&A236&\"'!$H$160\",TRUE)),\"\",INDIRECT(\"'B&U_\"&A236&\"'!$H$160\",TRUE)),1)","v":{"$error":"#VALUE!"}},{"$f":"COUNTIF(IF(ISERROR(INDIRECT(\"'B&U_\"&A236&\"'!$H$190\",TRUE)),\"\",INDIRECT(\"'B&U_\"&A236&\"'!$H$190\",TRUE)),1)","v":{"$error":"#VALUE!"}},{"$f":"COUNTIF(IF(ISERROR(INDIRECT(\"'B&U_\"&A236&\"'!$H$199\",TRUE)),\"\",INDIRECT(\"'B&U_\"&A236&\"'!$H$199\",TRUE)),1)","v":{"$error":"#VALUE!"}}]
["Tilsyn 59","Status:  gul",null,null,null,null,null,null,null,null,{"$f":"COUNTIF(IF(ISERROR(INDIRECT(\"'B&U_\"&A237&\"'!$H$33\",TRUE)),\"\",INDIRECT(\"'B&U_\"&A237&\"'!$H$33\",TRUE)),2)","v":{"$error":"#VALUE!"}},{"$f":"COUNTIF(IF(ISERROR(INDIRECT(\"'B&U_\"&A237&\"'!$h$42\",TRUE)),\"\",INDIRECT(\"'B&U_\"&A237&\"'!$h$42\",TRUE)),2)","v":{"$error":"#VALUE!"}},{"$f":"COUNTIF(IF(ISERROR(INDIRECT(\"'B&U_\"&A237&\"'!$H$66\",TRUE)),\"\",INDIRECT(\"'B&U_\"&A237&\"'!$H$66\",TRUE)),2)","v":{"$error":"#VALUE!"}},{"$f":"COUNTIF(IF(ISERROR(INDIRECT(\"'B&U_\"&A237&\"'!$H$97\",TRUE)),\"\",INDIRECT(\"'B&U_\"&A237&\"'!$H$97\",TRUE)),2)","v":{"$error":"#VALUE!"}},{"$f":"COUNTIF(IF(ISERROR(INDIRECT(\"'B&U_\"&A237&\"'!$H$128\",TRUE)),\"\",INDIRECT(\"'B&U_\"&A237&\"'!$H$128\",TRUE)),2)","v":{"$error":"#VALUE!"}},{"$f":"COUNTIF(IF(ISERROR(INDIRECT(\"'B&U_\"&A237&\"'!$H$160\",TRUE)),\"\",INDIRECT(\"'B&U_\"&A237&\"'!$H$160\",TRUE)),2)","v":{"$error":"#VALUE!"}},{"$f":"COUNTIF(IF(ISERROR(INDIRECT(\"'B&U_\"&A237&\"'!$H$190\",TRUE)),\"\",INDIRECT(\"'B&U_\"&A237&\"'!$H$190\",TRUE)),2)","v":{"$error":"#VALUE!"}},{"$f":"COUNTIF(IF(ISERROR(INDIRECT(\"'B&U_\"&A237&\"'!$H$199\",TRUE)),\"\",INDIRECT(\"'B&U_\"&A237&\"'!$H$199\",TRUE)),2)","v":{"$error":"#VALUE!"}}]
["Tilsyn 59","Status:  rød",null,null,null,null,null,null,null,null,{"$f":"COUNTIF(IF(ISERROR(INDIRECT(\"'B&U_\"&A238&\"'!$H$33\",TRUE)),\"\",INDIRECT(\"'B&U_\"&A238&\"'!$H$33\",TRUE)),3)","v":{"$error":"#VALUE!"}},{"$f":"COUNTIF(IF(ISERROR(INDIRECT(\"'B&U_\"&A238&\"'!$h$42\",TRUE)),\"\",INDIRECT(\"'B&U_\"&A238&\"'!$h$42\",TRUE)),3)","v":{"$error":"#VALUE!"}},{"$f":"COUNTIF(IF(ISERROR(INDIRECT(\"'B&U_\"&A238&\"'!$H$66\",TRUE)),\"\",INDIRECT(\"'B&U_\"&A238&\"'!$H$66\",TRUE)),3)","v":{"$error":"#VALUE!"}},{"$f":"COUNTIF(IF(ISERROR(INDIRECT(\"'B&U_\"&A238&\"'!$H$97\",TRUE)),\"\",INDIRECT(\"'B&U_\"&A238&\"'!$H$97\",TRUE)),3)","v":{"$error":"#VALUE!"}},{"$f":"COUNTIF(IF(ISERROR(INDIRECT(\"'B&U_\"&A238&\"'!$H$128\",TRUE)),\"\",INDIRECT(\"'B&U_\"&A238&\"'!$H$128\",TRUE)),3)","v":{"$error":"#VALUE!"}},{"$f":"COUNTIF(IF(ISERROR(INDIRECT(\"'B&U_\"&A238&\"'!$H$160\",TRUE)),\"\",INDIRECT(\"'B&U_\"&A238&\"'!$H$160\",TRUE)),3)","v":{"$error":"#VALUE!"}},{"$f":"COUNTIF(IF(ISERROR(INDIRECT(\"'B&U_\"&A238&\"'!$H$190\",TRUE)),\"\",INDIRECT(\"'B&U_\"&A238&\"'!$H$190\",TRUE)),3)","v":{"$error":"#VALUE!"}},{"$f":"COUNTIF(IF(ISERROR(INDIRECT(\"'B&U_\"&A238&\"'!$H$199\",TRUE)),\"\",INDIRECT(\"'B&U_\"&A238&\"'!$H$199\",TRUE)),3)","v":{"$error":"#VALUE!"}}]
["Tilsyn 60","Status:  grøn",null,null,null,null,null,null,null,null,{"$f":"COUNTIF(IF(ISERROR(INDIRECT(\"'B&U_\"&A239&\"'!$H$33\",TRUE)),\"\",INDIRECT(\"'B&U_\"&A239&\"'!$H$33\",TRUE)),1)","v":{"$error":"#VALUE!"}},{"$f":"COUNTIF(IF(ISERROR(INDIRECT(\"'B&U_\"&A239&\"'!$h$42\",TRUE)),\"\",INDIRECT(\"'B&U_\"&A239&\"'!$h$42\",TRUE)),1)","v":{"$error":"#VALUE!"}},{"$f":"COUNTIF(IF(ISERROR(INDIRECT(\"'B&U_\"&A239&\"'!$H$66\",TRUE)),\"\",INDIRECT(\"'B&U_\"&A239&\"'!$H$66\",TRUE)),1)","v":{"$error":"#VALUE!"}},{"$f":"COUNTIF(IF(ISERROR(INDIRECT(\"'B&U_\"&A239&\"'!$H$97\",TRUE)),\"\",INDIRECT(\"'B&U_\"&A239&\"'!$H$97\",TRUE)),1)","v":{"$error":"#VALUE!"}},{"$f":"COUNTIF(IF(ISERROR(INDIRECT(\"'B&U_\"&A239&\"'!$H$128\",TRUE)),\"\",INDIRECT(\"'B&U_\"&A239&\"'!$H$128\",TRUE)),1)","v":{"$error":"#VALUE!"}},{"$f":"COUNTIF(IF(ISERROR(INDIRECT(\"'B&U_\"&A239&\"'!$H$160\",TRUE)),\"\",INDIRECT(\"'B&U_\"&A239&\"'!$H$160\",TRUE)),1)","v":{"$error":"#VALUE!"}},{"$f":"COUNTIF(IF(ISERROR(INDIRECT(\"'B&U_\"&A239&\"'!$H$190\",TRUE)),\"\",INDIRECT(\"'B&U_\"&A239&\"'!$H$190\",TRUE)),1)","v":{"$error":"#VALUE!"}},{"$f":"COUNTIF(IF(ISERROR(INDIRECT(\"'B&U_\"&A239&\"'!$H$199\",TRUE)),\"\",INDIRECT(\"'B&U_\"&A239&\"'!$H$199\",TRUE)),1)","v":{"$error":"#VALUE!"}}]
["Tilsyn 60","Status:  gul",null,null,null,null,null,null,null,null,{"$f":"COUNTIF(IF(ISERROR(INDIRECT(\"'B&U_\"&A240&\"'!$H$33\",TRUE)),\"\",INDIRECT(\"'B&U_\"&A240&\"'!$H$33\",TRUE)),2)","v":{"$error":"#VALUE!"}},{"$f":"COUNTIF(IF(ISERROR(INDIRECT(\"'B&U_\"&A240&\"'!$h$42\",TRUE)),\"\",INDIRECT(\"'B&U_\"&A240&\"'!$h$42\",TRUE)),2)","v":{"$error":"#VALUE!"}},{"$f":"COUNTIF(IF(ISERROR(INDIRECT(\"'B&U_\"&A240&\"'!$H$66\",TRUE)),\"\",INDIRECT(\"'B&U_\"&A240&\"'!$H$66\",TRUE)),2)","v":{"$error":"#VALUE!"}},{"$f":"COUNTIF(IF(ISERROR(INDIRECT(\"'B&U_\"&A240&\"'!$H$97\",TRUE)),\"\",INDIRECT(\"'B&U_\"&A240&\"'!$H$97\",TRUE)),2)","v":{"$error":"#VALUE!"}},{"$f":"COUNTIF(IF(ISERROR(INDIRECT(\"'B&U_\"&A240&\"'!$H$128\",TRUE)),\"\",INDIRECT(\"'B&U_\"&A240&\"'!$H$128\",TRUE)),2)","v":{"$error":"#VALUE!"}},{"$f":"COUNTIF(IF(ISERROR(INDIRECT(\"'B&U_\"&A240&\"'!$H$160\",TRUE)),\"\",INDIRECT(\"'B&U_\"&A240&\"'!$H$160\",TRUE)),2)","v":{"$error":"#VALUE!"}},{"$f":"COUNTIF(IF(ISERROR(INDIRECT(\"'B&U_\"&A240&\"'!$H$190\",TRUE)),\"\",INDIRECT(\"'B&U_\"&A240&\"'!$H$190\",TRUE)),2)","v":{"$error":"#VALUE!"}},{"$f":"COUNTIF(IF(ISERROR(INDIRECT(\"'B&U_\"&A240&\"'!$H$199\",TRUE)),\"\",INDIRECT(\"'B&U_\"&A240&\"'!$H$199\",TRUE)),2)","v":{"$error":"#VALUE!"}}]
["Tilsyn 60","Status:  rød",null,null,null,null,null,null,null,null,{"$f":"COUNTIF(IF(ISERROR(INDIRECT(\"'B&U_\"&A241&\"'!$H$33\",TRUE)),\"\",INDIRECT(\"'B&U_\"&A241&\"'!$H$33\",TRUE)),3)","v":{"$error":"#VALUE!"}},{"$f":"COUNTIF(IF(ISERROR(INDIRECT(\"'B&U_\"&A241&\"'!$h$42\",TRUE)),\"\",INDIRECT(\"'B&U_\"&A241&\"'!$h$42\",TRUE)),3)","v":{"$error":"#VALUE!"}},{"$f":"COUNTIF(IF(ISERROR(INDIRECT(\"'B&U_\"&A241&\"'!$H$66\",TRUE)),\"\",INDIRECT(\"'B&U_\"&A241&\"'!$H$66\",TRUE)),3)","v":{"$error":"#VALUE!"}},{"$f":"COUNTIF(IF(ISERROR(INDIRECT(\"'B&U_\"&A241&\"'!$H$97\",TRUE)),\"\",INDIRECT(\"'B&U_\"&A241&\"'!$H$97\",TRUE)),3)","v":{"$error":"#VALUE!"}},{"$f":"COUNTIF(IF(ISERROR(INDIRECT(\"'B&U_\"&A241&\"'!$H$128\",TRUE)),\"\",INDIRECT(\"'B&U_\"&A241&\"'!$H$128\",TRUE)),3)","v":{"$error":"#VALUE!"}},{"$f":"COUNTIF(IF(ISERROR(INDIRECT(\"'B&U_\"&A241&\"'!$H$160\",TRUE)),\"\",INDIRECT(\"'B&U_\"&A241&\"'!$H$160\",TRUE)),3)","v":{"$error":"#VALUE!"}},{"$f":"COUNTIF(IF(ISERROR(INDIRECT(\"'B&U_\"&A241&\"'!$H$190\",TRUE)),\"\",INDIRECT(\"'B&U_\"&A241&\"'!$H$190\",TRUE)),3)","v":{"$error":"#VALUE!"}},{"$f":"COUNTIF(IF(ISERROR(INDIRECT(\"'B&U_\"&A241&\"'!$H$199\",TRUE)),\"\",INDIRECT(\"'B&U_\"&A241&\"'!$H$199\",TRUE)),3)","v":{"$error":"#VALUE!"}}]
["Tilsyn 61","Status:  grøn",null,null,null,null,null,null,null,null,{"$f":"COUNTIF(IF(ISERROR(INDIRECT(\"'B&U_\"&A242&\"'!$H$33\",TRUE)),\"\",INDIRECT(\"'B&U_\"&A242&\"'!$H$33\",TRUE)),1)","v":{"$error":"#VALUE!"}},{"$f":"COUNTIF(IF(ISERROR(INDIRECT(\"'B&U_\"&A242&\"'!$h$42\",TRUE)),\"\",INDIRECT(\"'B&U_\"&A242&\"'!$h$42\",TRUE)),1)","v":{"$error":"#VALUE!"}},{"$f":"COUNTIF(IF(ISERROR(INDIRECT(\"'B&U_\"&A242&\"'!$H$66\",TRUE)),\"\",INDIRECT(\"'B&U_\"&A242&\"'!$H$66\",TRUE)),1)","v":{"$error":"#VALUE!"}},{"$f":"COUNTIF(IF(ISERROR(INDIRECT(\"'B&U_\"&A242&\"'!$H$97\",TRUE)),\"\",INDIRECT(\"'B&U_\"&A242&\"'!$H$97\",TRUE)),1)","v":{"$error":"#VALUE!"}},{"$f":"COUNTIF(IF(ISERROR(INDIRECT(\"'B&U_\"&A242&\"'!$H$128\",TRUE)),\"\",INDIRECT(\"'B&U_\"&A242&\"'!$H$128\",TRUE)),1)","v":{"$error":"#VALUE!"}},{"$f":"COUNTIF(IF(ISERROR(INDIRECT(\"'B&U_\"&A242&\"'!$H$160\",TRUE)),\"\",INDIRECT(\"'B&U_\"&A242&\"'!$H$160\",TRUE)),1)","v":{"$error":"#VALUE!"}},{"$f":"COUNTIF(IF(ISERROR(INDIRECT(\"'B&U_\"&A242&\"'!$H$190\",TRUE)),\"\",INDIRECT(\"'B&U_\"&A242&\"'!$H$190\",TRUE)),1)","v":{"$error":"#VALUE!"}},{"$f":"COUNTIF(IF(ISERROR(INDIRECT(\"'B&U_\"&A242&\"'!$H$199\",TRUE)),\"\",INDIRECT(\"'B&U_\"&A242&\"'!$H$199\",TRUE)),1)","v":{"$error":"#VALUE!"}}]
["Tilsyn 61","Status:  gul",null,null,null,null,null,null,null,null,{"$f":"COUNTIF(IF(ISERROR(INDIRECT(\"'B&U_\"&A243&\"'!$H$33\",TRUE)),\"\",INDIRECT(\"'B&U_\"&A243&\"'!$H$33\",TRUE)),2)","v":{"$error":"#VALUE!"}},{"$f":"COUNTIF(IF(ISERROR(INDIRECT(\"'B&U_\"&A243&\"'!$h$42\",TRUE)),\"\",INDIRECT(\"'B&U_\"&A243&\"'!$h$42\",TRUE)),2)","v":{"$error":"#VALUE!"}},{"$f":"COUNTIF(IF(ISERROR(INDIRECT(\"'B&U_\"&A243&\"'!$H$66\",TRUE)),\"\",INDIRECT(\"'B&U_\"&A243&\"'!$H$66\",TRUE)),2)","v":{"$error":"#VALUE!"}},{"$f":"COUNTIF(IF(ISERROR(INDIRECT(\"'B&U_\"&A243&\"'!$H$97\",TRUE)),\"\",INDIRECT(\"'B&U_\"&A243&\"'!$H$97\",TRUE)),2)","v":{"$error":"#VALUE!"}},{"$f":"COUNTIF(IF(ISERROR(INDIRECT(\"'B&U_\"&A243&\"'!$H$128\",TRUE)),\"\",INDIRECT(\"'B&U_\"&A243&\"'!$H$128\",TRUE)),2)","v":{"$error":"#VALUE!"}},{"$f":"COUNTIF(IF(ISERROR(INDIRECT(\"'B&U_\"&A243&\"'!$H$160\",TRUE)),\"\",INDIRECT(\"'B&U_\"&A243&\"'!$H$160\",TRUE)),2)","v":{"$error":"#VALUE!"}},{"$f":"COUNTIF(IF(ISERROR(INDIRECT(\"'B&U_\"&A243&\"'!$H$190\",TRUE)),\"\",INDIRECT(\"'B&U_\"&A243&\"'!$H$190\",TRUE)),2)","v":{"$error":"#VALUE!"}},{"$f":"COUNTIF(IF(ISERROR(INDIRECT(\"'B&U_\"&A243&\"'!$H$199\",TRUE)),\"\",INDIRECT(\"'B&U_\"&A243&\"'!$H$199\",TRUE)),2)","v":{"$error":"#VALUE!"}}]
["Tilsyn 61","Status:  rød",null,null,null,null,null,null,null,null,{"$f":"COUNTIF(IF(ISERROR(INDIRECT(\"'B&U_\"&A244&\"'!$H$33\",TRUE)),\"\",INDIRECT(\"'B&U_\"&A244&\"'!$H$33\",TRUE)),3)","v":{"$error":"#VALUE!"}},{"$f":"COUNTIF(IF(ISERROR(INDIRECT(\"'B&U_\"&A244&\"'!$h$42\",TRUE)),\"\",INDIRECT(\"'B&U_\"&A244&\"'!$h$42\",TRUE)),3)","v":{"$error":"#VALUE!"}},{"$f":"COUNTIF(IF(ISERROR(INDIRECT(\"'B&U_\"&A244&\"'!$H$66\",TRUE)),\"\",INDIRECT(\"'B&U_\"&A244&\"'!$H$66\",TRUE)),3)","v":{"$error":"#VALUE!"}},{"$f":"COUNTIF(IF(ISERROR(INDIRECT(\"'B&U_\"&A244&\"'!$H$97\",TRUE)),\"\",INDIRECT(\"'B&U_\"&A244&\"'!$H$97\",TRUE)),3)","v":{"$error":"#VALUE!"}},{"$f":"COUNTIF(IF(ISERROR(INDIRECT(\"'B&U_\"&A244&\"'!$H$128\",TRUE)),\"\",INDIRECT(\"'B&U_\"&A244&\"'!$H$128\",TRUE)),3)","v":{"$error":"#VALUE!"}},{"$f":"COUNTIF(IF(ISERROR(INDIRECT(\"'B&U_\"&A244&\"'!$H$160\",TRUE)),\"\",INDIRECT(\"'B&U_\"&A244&\"'!$H$160\",TRUE)),3)","v":{"$error":"#VALUE!"}},{"$f":"COUNTIF(IF(ISERROR(INDIRECT(\"'B&U_\"&A244&\"'!$H$190\",TRUE)),\"\",INDIRECT(\"'B&U_\"&A244&\"'!$H$190\",TRUE)),3)","v":{"$error":"#VALUE!"}},{"$f":"COUNTIF(IF(ISERROR(INDIRECT(\"'B&U_\"&A244&\"'!$H$199\",TRUE)),\"\",INDIRECT(\"'B&U_\"&A244&\"'!$H$199\",TRUE)),3)","v":{"$error":"#VALUE!"}}]
["Tilsyn 62","Status:  grøn",null,null,null,null,null,null,null,null,{"$f":"COUNTIF(IF(ISERROR(INDIRECT(\"'B&U_\"&A245&\"'!$H$33\",TRUE)),\"\",INDIRECT(\"'B&U_\"&A245&\"'!$H$33\",TRUE)),1)","v":{"$error":"#VALUE!"}},{"$f":"COUNTIF(IF(ISERROR(INDIRECT(\"'B&U_\"&A245&\"'!$h$42\",TRUE)),\"\",INDIRECT(\"'B&U_\"&A245&\"'!$h$42\",TRUE)),1)","v":{"$error":"#VALUE!"}},{"$f":"COUNTIF(IF(ISERROR(INDIRECT(\"'B&U_\"&A245&\"'!$H$66\",TRUE)),\"\",INDIRECT(\"'B&U_\"&A245&\"'!$H$66\",TRUE)),1)","v":{"$error":"#VALUE!"}},{"$f":"COUNTIF(IF(ISERROR(INDIRECT(\"'B&U_\"&A245&\"'!$H$97\",TRUE)),\"\",INDIRECT(\"'B&U_\"&A245&\"'!$H$97\",TRUE)),1)","v":{"$error":"#VALUE!"}},{"$f":"COUNTIF(IF(ISERROR(INDIRECT(\"'B&U_\"&A245&\"'!$H$128\",TRUE)),\"\",INDIRECT(\"'B&U_\"&A245&\"'!$H$128\",TRUE)),1)","v":{"$error":"#VALUE!"}},{"$f":"COUNTIF(IF(ISERROR(INDIRECT(\"'B&U_\"&A245&\"'!$H$160\",TRUE)),\"\",INDIRECT(\"'B&U_\"&A245&\"'!$H$160\",TRUE)),1)","v":{"$error":"#VALUE!"}},{"$f":"COUNTIF(IF(ISERROR(INDIRECT(\"'B&U_\"&A245&\"'!$H$190\",TRUE)),\"\",INDIRECT(\"'B&U_\"&A245&\"'!$H$190\",TRUE)),1)","v":{"$error":"#VALUE!"}},{"$f":"COUNTIF(IF(ISERROR(INDIRECT(\"'B&U_\"&A245&\"'!$H$199\",TRUE)),\"\",INDIRECT(\"'B&U_\"&A245&\"'!$H$199\",TRUE)),1)","v":{"$error":"#VALUE!"}}]
["Tilsyn 62","Status:  gul",null,null,null,null,null,null,null,null,{"$f":"COUNTIF(IF(ISERROR(INDIRECT(\"'B&U_\"&A246&\"'!$H$33\",TRUE)),\"\",INDIRECT(\"'B&U_\"&A246&\"'!$H$33\",TRUE)),2)","v":{"$error":"#VALUE!"}},{"$f":"COUNTIF(IF(ISERROR(INDIRECT(\"'B&U_\"&A246&\"'!$h$42\",TRUE)),\"\",INDIRECT(\"'B&U_\"&A246&\"'!$h$42\",TRUE)),2)","v":{"$error":"#VALUE!"}},{"$f":"COUNTIF(IF(ISERROR(INDIRECT(\"'B&U_\"&A246&\"'!$H$66\",TRUE)),\"\",INDIRECT(\"'B&U_\"&A246&\"'!$H$66\",TRUE)),2)","v":{"$error":"#VALUE!"}},{"$f":"COUNTIF(IF(ISERROR(INDIRECT(\"'B&U_\"&A246&\"'!$H$97\",TRUE)),\"\",INDIRECT(\"'B&U_\"&A246&\"'!$H$97\",TRUE)),2)","v":{"$error":"#VALUE!"}},{"$f":"COUNTIF(IF(ISERROR(INDIRECT(\"'B&U_\"&A246&\"'!$H$128\",TRUE)),\"\",INDIRECT(\"'B&U_\"&A246&\"'!$H$128\",TRUE)),2)","v":{"$error":"#VALUE!"}},{"$f":"COUNTIF(IF(ISERROR(INDIRECT(\"'B&U_\"&A246&\"'!$H$160\",TRUE)),\"\",INDIRECT(\"'B&U_\"&A246&\"'!$H$160\",TRUE)),2)","v":{"$error":"#VALUE!"}},{"$f":"COUNTIF(IF(ISERROR(INDIRECT(\"'B&U_\"&A246&\"'!$H$190\",TRUE)),\"\",INDIRECT(\"'B&U_\"&A246&\"'!$H$190\",TRUE)),2)","v":{"$error":"#VALUE!"}},{"$f":"COUNTIF(IF(ISERROR(INDIRECT(\"'B&U_\"&A246&\"'!$H$199\",TRUE)),\"\",INDIRECT(\"'B&U_\"&A246&\"'!$H$199\",TRUE)),2)","v":{"$error":"#VALUE!"}}]
["Tilsyn 62","Status:  rød",null,null,null,null,null,null,null,null,{"$f":"COUNTIF(IF(ISERROR(INDIRECT(\"'B&U_\"&A247&\"'!$H$33\",TRUE)),\"\",INDIRECT(\"'B&U_\"&A247&\"'!$H$33\",TRUE)),3)","v":{"$error":"#VALUE!"}},{"$f":"COUNTIF(IF(ISERROR(INDIRECT(\"'B&U_\"&A247&\"'!$h$42\",TRUE)),\"\",INDIRECT(\"'B&U_\"&A247&\"'!$h$42\",TRUE)),3)","v":{"$error":"#VALUE!"}},{"$f":"COUNTIF(IF(ISERROR(INDIRECT(\"'B&U_\"&A247&\"'!$H$66\",TRUE)),\"\",INDIRECT(\"'B&U_\"&A247&\"'!$H$66\",TRUE)),3)","v":{"$error":"#VALUE!"}},{"$f":"COUNTIF(IF(ISERROR(INDIRECT(\"'B&U_\"&A247&\"'!$H$97\",TRUE)),\"\",INDIRECT(\"'B&U_\"&A247&\"'!$H$97\",TRUE)),3)","v":{"$error":"#VALUE!"}},{"$f":"COUNTIF(IF(ISERROR(INDIRECT(\"'B&U_\"&A247&\"'!$H$128\",TRUE)),\"\",INDIRECT(\"'B&U_\"&A247&\"'!$H$128\",TRUE)),3)","v":{"$error":"#VALUE!"}},{"$f":"COUNTIF(IF(ISERROR(INDIRECT(\"'B&U_\"&A247&\"'!$H$160\",TRUE)),\"\",INDIRECT(\"'B&U_\"&A247&\"'!$H$160\",TRUE)),3)","v":{"$error":"#VALUE!"}},{"$f":"COUNTIF(IF(ISERROR(INDIRECT(\"'B&U_\"&A247&\"'!$H$190\",TRUE)),\"\",INDIRECT(\"'B&U_\"&A247&\"'!$H$190\",TRUE)),3)","v":{"$error":"#VALUE!"}},{"$f":"COUNTIF(IF(ISERROR(INDIRECT(\"'B&U_\"&A247&\"'!$H$199\",TRUE)),\"\",INDIRECT(\"'B&U_\"&A247&\"'!$H$199\",TRUE)),3)","v":{"$error":"#VALUE!"}}]
["Tilsyn 63","Status:  grøn",null,null,null,null,null,null,null,null,{"$f":"COUNTIF(IF(ISERROR(INDIRECT(\"'B&U_\"&A248&\"'!$H$33\",TRUE)),\"\",INDIRECT(\"'B&U_\"&A248&\"'!$H$33\",TRUE)),1)","v":{"$error":"#VALUE!"}},{"$f":"COUNTIF(IF(ISERROR(INDIRECT(\"'B&U_\"&A248&\"'!$h$42\",TRUE)),\"\",INDIRECT(\"'B&U_\"&A248&\"'!$h$42\",TRUE)),1)","v":{"$error":"#VALUE!"}},{"$f":"COUNTIF(IF(ISERROR(INDIRECT(\"'B&U_\"&A248&\"'!$H$66\",TRUE)),\"\",INDIRECT(\"'B&U_\"&A248&\"'!$H$66\",TRUE)),1)","v":{"$error":"#VALUE!"}},{"$f":"COUNTIF(IF(ISERROR(INDIRECT(\"'B&U_\"&A248&\"'!$H$97\",TRUE)),\"\",INDIRECT(\"'B&U_\"&A248&\"'!$H$97\",TRUE)),1)","v":{"$error":"#VALUE!"}},{"$f":"COUNTIF(IF(ISERROR(INDIRECT(\"'B&U_\"&A248&\"'!$H$128\",TRUE)),\"\",INDIRECT(\"'B&U_\"&A248&\"'!$H$128\",TRUE)),1)","v":{"$error":"#VALUE!"}},{"$f":"COUNTIF(IF(ISERROR(INDIRECT(\"'B&U_\"&A248&\"'!$H$160\",TRUE)),\"\",INDIRECT(\"'B&U_\"&A248&\"'!$H$160\",TRUE)),1)","v":{"$error":"#VALUE!"}},{"$f":"COUNTIF(IF(ISERROR(INDIRECT(\"'B&U_\"&A248&\"'!$H$190\",TRUE)),\"\",INDIRECT(\"'B&U_\"&A248&\"'!$H$190\",TRUE)),1)","v":{"$error":"#VALUE!"}},{"$f":"COUNTIF(IF(ISERROR(INDIRECT(\"'B&U_\"&A248&\"'!$H$199\",TRUE)),\"\",INDIRECT(\"'B&U_\"&A248&\"'!$H$199\",TRUE)),1)","v":{"$error":"#VALUE!"}}]
["Tilsyn 63","Status:  gul",null,null,null,null,null,null,null,null,{"$f":"COUNTIF(IF(ISERROR(INDIRECT(\"'B&U_\"&A249&\"'!$H$33\",TRUE)),\"\",INDIRECT(\"'B&U_\"&A249&\"'!$H$33\",TRUE)),2)","v":{"$error":"#VALUE!"}},{"$f":"COUNTIF(IF(ISERROR(INDIRECT(\"'B&U_\"&A249&\"'!$h$42\",TRUE)),\"\",INDIRECT(\"'B&U_\"&A249&\"'!$h$42\",TRUE)),2)","v":{"$error":"#VALUE!"}},{"$f":"COUNTIF(IF(ISERROR(INDIRECT(\"'B&U_\"&A249&\"'!$H$66\",TRUE)),\"\",INDIRECT(\"'B&U_\"&A249&\"'!$H$66\",TRUE)),2)","v":{"$error":"#VALUE!"}},{"$f":"COUNTIF(IF(ISERROR(INDIRECT(\"'B&U_\"&A249&\"'!$H$97\",TRUE)),\"\",INDIRECT(\"'B&U_\"&A249&\"'!$H$97\",TRUE)),2)","v":{"$error":"#VALUE!"}},{"$f":"COUNTIF(IF(ISERROR(INDIRECT(\"'B&U_\"&A249&\"'!$H$128\",TRUE)),\"\",INDIRECT(\"'B&U_\"&A249&\"'!$H$128\",TRUE)),2)","v":{"$error":"#VALUE!"}},{"$f":"COUNTIF(IF(ISERROR(INDIRECT(\"'B&U_\"&A249&\"'!$H$160\",TRUE)),\"\",INDIRECT(\"'B&U_\"&A249&\"'!$H$160\",TRUE)),2)","v":{"$error":"#VALUE!"}},{"$f":"COUNTIF(IF(ISERROR(INDIRECT(\"'B&U_\"&A249&\"'!$H$190\",TRUE)),\"\",INDIRECT(\"'B&U_\"&A249&\"'!$H$190\",TRUE)),2)","v":{"$error":"#VALUE!"}},{"$f":"COUNTIF(IF(ISERROR(INDIRECT(\"'B&U_\"&A249&\"'!$H$199\",TRUE)),\"\",INDIRECT(\"'B&U_\"&A249&\"'!$H$199\",TRUE)),2)","v":{"$error":"#VALUE!"}}]
["Tilsyn 63","Status:  rød",null,null,null,null,null,null,null,null,{"$f":"COUNTIF(IF(ISERROR(INDIRECT(\"'B&U_\"&A250&\"'!$H$33\",TRUE)),\"\",INDIRECT(\"'B&U_\"&A250&\"'!$H$33\",TRUE)),3)","v":{"$error":"#VALUE!"}},{"$f":"COUNTIF(IF(ISERROR(INDIRECT(\"'B&U_\"&A250&\"'!$h$42\",TRUE)),\"\",INDIRECT(\"'B&U_\"&A250&\"'!$h$42\",TRUE)),3)","v":{"$error":"#VALUE!"}},{"$f":"COUNTIF(IF(ISERROR(INDIRECT(\"'B&U_\"&A250&\"'!$H$66\",TRUE)),\"\",INDIRECT(\"'B&U_\"&A250&\"'!$H$66\",TRUE)),3)","v":{"$error":"#VALUE!"}},{"$f":"COUNTIF(IF(ISERROR(INDIRECT(\"'B&U_\"&A250&\"'!$H$97\",TRUE)),\"\",INDIRECT(\"'B&U_\"&A250&\"'!$H$97\",TRUE)),3)","v":{"$error":"#VALUE!"}},{"$f":"COUNTIF(IF(ISERROR(INDIRECT(\"'B&U_\"&A250&\"'!$H$128\",TRUE)),\"\",INDIRECT(\"'B&U_\"&A250&\"'!$H$128\",TRUE)),3)","v":{"$error":"#VALUE!"}},{"$f":"COUNTIF(IF(ISERROR(INDIRECT(\"'B&U_\"&A250&\"'!$H$160\",TRUE)),\"\",INDIRECT(\"'B&U_\"&A250&\"'!$H$160\",TRUE)),3)","v":{"$error":"#VALUE!"}},{"$f":"COUNTIF(IF(ISERROR(INDIRECT(\"'B&U_\"&A250&\"'!$H$190\",TRUE)),\"\",INDIRECT(\"'B&U_\"&A250&\"'!$H$190\",TRUE)),3)","v":{"$error":"#VALUE!"}},{"$f":"COUNTIF(IF(ISERROR(INDIRECT(\"'B&U_\"&A250&\"'!$H$199\",TRUE)),\"\",INDIRECT(\"'B&U_\"&A250&\"'!$H$199\",TRUE)),3)","v":{"$error":"#VALUE!"}}]
["Tilsyn 64","Status:  grøn",null,null,null,null,null,null,null,null,{"$f":"COUNTIF(IF(ISERROR(INDIRECT(\"'B&U_\"&A251&\"'!$H$33\",TRUE)),\"\",INDIRECT(\"'B&U_\"&A251&\"'!$H$33\",TRUE)),1)","v":{"$error":"#VALUE!"}},{"$f":"COUNTIF(IF(ISERROR(INDIRECT(\"'B&U_\"&A251&\"'!$h$42\",TRUE)),\"\",INDIRECT(\"'B&U_\"&A251&\"'!$h$42\",TRUE)),1)","v":{"$error":"#VALUE!"}},{"$f":"COUNTIF(IF(ISERROR(INDIRECT(\"'B&U_\"&A251&\"'!$H$66\",TRUE)),\"\",INDIRECT(\"'B&U_\"&A251&\"'!$H$66\",TRUE)),1)","v":{"$error":"#VALUE!"}},{"$f":"COUNTIF(IF(ISERROR(INDIRECT(\"'B&U_\"&A251&\"'!$H$97\",TRUE)),\"\",INDIRECT(\"'B&U_\"&A251&\"'!$H$97\",TRUE)),1)","v":{"$error":"#VALUE!"}},{"$f":"COUNTIF(IF(ISERROR(INDIRECT(\"'B&U_\"&A251&\"'!$H$128\",TRUE)),\"\",INDIRECT(\"'B&U_\"&A251&\"'!$H$128\",TRUE)),1)","v":{"$error":"#VALUE!"}},{"$f":"COUNTIF(IF(ISERROR(INDIRECT(\"'B&U_\"&A251&\"'!$H$160\",TRUE)),\"\",INDIRECT(\"'B&U_\"&A251&\"'!$H$160\",TRUE)),1)","v":{"$error":"#VALUE!"}},{"$f":"COUNTIF(IF(ISERROR(INDIRECT(\"'B&U_\"&A251&\"'!$H$190\",TRUE)),\"\",INDIRECT(\"'B&U_\"&A251&\"'!$H$190\",TRUE)),1)","v":{"$error":"#VALUE!"}},{"$f":"COUNTIF(IF(ISERROR(INDIRECT(\"'B&U_\"&A251&\"'!$H$199\",TRUE)),\"\",INDIRECT(\"'B&U_\"&A251&\"'!$H$199\",TRUE)),1)","v":{"$error":"#VALUE!"}}]
["Tilsyn 64","Status:  gul",null,null,null,null,null,null,null,null,{"$f":"COUNTIF(IF(ISERROR(INDIRECT(\"'B&U_\"&A252&\"'!$H$33\",TRUE)),\"\",INDIRECT(\"'B&U_\"&A252&\"'!$H$33\",TRUE)),2)","v":{"$error":"#VALUE!"}},{"$f":"COUNTIF(IF(ISERROR(INDIRECT(\"'B&U_\"&A252&\"'!$h$42\",TRUE)),\"\",INDIRECT(\"'B&U_\"&A252&\"'!$h$42\",TRUE)),2)","v":{"$error":"#VALUE!"}},{"$f":"COUNTIF(IF(ISERROR(INDIRECT(\"'B&U_\"&A252&\"'!$H$66\",TRUE)),\"\",INDIRECT(\"'B&U_\"&A252&\"'!$H$66\",TRUE)),2)","v":{"$error":"#VALUE!"}},{"$f":"COUNTIF(IF(ISERROR(INDIRECT(\"'B&U_\"&A252&\"'!$H$97\",TRUE)),\"\",INDIRECT(\"'B&U_\"&A252&\"'!$H$97\",TRUE)),2)","v":{"$error":"#VALUE!"}},{"$f":"COUNTIF(IF(ISERROR(INDIRECT(\"'B&U_\"&A252&\"'!$H$128\",TRUE)),\"\",INDIRECT(\"'B&U_\"&A252&\"'!$H$128\",TRUE)),2)","v":{"$error":"#VALUE!"}},{"$f":"COUNTIF(IF(ISERROR(INDIRECT(\"'B&U_\"&A252&\"'!$H$160\",TRUE)),\"\",INDIRECT(\"'B&U_\"&A252&\"'!$H$160\",TRUE)),2)","v":{"$error":"#VALUE!"}},{"$f":"COUNTIF(IF(ISERROR(INDIRECT(\"'B&U_\"&A252&\"'!$H$190\",TRUE)),\"\",INDIRECT(\"'B&U_\"&A252&\"'!$H$190\",TRUE)),2)","v":{"$error":"#VALUE!"}},{"$f":"COUNTIF(IF(ISERROR(INDIRECT(\"'B&U_\"&A252&\"'!$H$199\",TRUE)),\"\",INDIRECT(\"'B&U_\"&A252&\"'!$H$199\",TRUE)),2)","v":{"$error":"#VALUE!"}}]
["Tilsyn 64","Status:  rød",null,null,null,null,null,null,null,null,{"$f":"COUNTIF(IF(ISERROR(INDIRECT(\"'B&U_\"&A253&\"'!$H$33\",TRUE)),\"\",INDIRECT(\"'B&U_\"&A253&\"'!$H$33\",TRUE)),3)","v":{"$error":"#VALUE!"}},{"$f":"COUNTIF(IF(ISERROR(INDIRECT(\"'B&U_\"&A253&\"'!$h$42\",TRUE)),\"\",INDIRECT(\"'B&U_\"&A253&\"'!$h$42\",TRUE)),3)","v":{"$error":"#VALUE!"}},{"$f":"COUNTIF(IF(ISERROR(INDIRECT(\"'B&U_\"&A253&\"'!$H$66\",TRUE)),\"\",INDIRECT(\"'B&U_\"&A253&\"'!$H$66\",TRUE)),3)","v":{"$error":"#VALUE!"}},{"$f":"COUNTIF(IF(ISERROR(INDIRECT(\"'B&U_\"&A253&\"'!$H$97\",TRUE)),\"\",INDIRECT(\"'B&U_\"&A253&\"'!$H$97\",TRUE)),3)","v":{"$error":"#VALUE!"}},{"$f":"COUNTIF(IF(ISERROR(INDIRECT(\"'B&U_\"&A253&\"'!$H$128\",TRUE)),\"\",INDIRECT(\"'B&U_\"&A253&\"'!$H$128\",TRUE)),3)","v":{"$error":"#VALUE!"}},{"$f":"COUNTIF(IF(ISERROR(INDIRECT(\"'B&U_\"&A253&\"'!$H$160\",TRUE)),\"\",INDIRECT(\"'B&U_\"&A253&\"'!$H$160\",TRUE)),3)","v":{"$error":"#VALUE!"}},{"$f":"COUNTIF(IF(ISERROR(INDIRECT(\"'B&U_\"&A253&\"'!$H$190\",TRUE)),\"\",INDIRECT(\"'B&U_\"&A253&\"'!$H$190\",TRUE)),3)","v":{"$error":"#VALUE!"}},{"$f":"COUNTIF(IF(ISERROR(INDIRECT(\"'B&U_\"&A253&\"'!$H$199\",TRUE)),\"\",INDIRECT(\"'B&U_\"&A253&\"'!$H$199\",TRUE)),3)","v":{"$error":"#VALUE!"}}]
["Tilsyn 65","Status:  grøn",null,null,null,null,null,null,null,null,{"$f":"COUNTIF(IF(ISERROR(INDIRECT(\"'B&U_\"&A254&\"'!$H$33\",TRUE)),\"\",INDIRECT(\"'B&U_\"&A254&\"'!$H$33\",TRUE)),1)","v":{"$error":"#VALUE!"}},{"$f":"COUNTIF(IF(ISERROR(INDIRECT(\"'B&U_\"&A254&\"'!$h$42\",TRUE)),\"\",INDIRECT(\"'B&U_\"&A254&\"'!$h$42\",TRUE)),1)","v":{"$error":"#VALUE!"}},{"$f":"COUNTIF(IF(ISERROR(INDIRECT(\"'B&U_\"&A254&\"'!$H$66\",TRUE)),\"\",INDIRECT(\"'B&U_\"&A254&\"'!$H$66\",TRUE)),1)","v":{"$error":"#VALUE!"}},{"$f":"COUNTIF(IF(ISERROR(INDIRECT(\"'B&U_\"&A254&\"'!$H$97\",TRUE)),\"\",INDIRECT(\"'B&U_\"&A254&\"'!$H$97\",TRUE)),1)","v":{"$error":"#VALUE!"}},{"$f":"COUNTIF(IF(ISERROR(INDIRECT(\"'B&U_\"&A254&\"'!$H$128\",TRUE)),\"\",INDIRECT(\"'B&U_\"&A254&\"'!$H$128\",TRUE)),1)","v":{"$error":"#VALUE!"}},{"$f":"COUNTIF(IF(ISERROR(INDIRECT(\"'B&U_\"&A254&\"'!$H$160\",TRUE)),\"\",INDIRECT(\"'B&U_\"&A254&\"'!$H$160\",TRUE)),1)","v":{"$error":"#VALUE!"}},{"$f":"COUNTIF(IF(ISERROR(INDIRECT(\"'B&U_\"&A254&\"'!$H$190\",TRUE)),\"\",INDIRECT(\"'B&U_\"&A254&\"'!$H$190\",TRUE)),1)","v":{"$error":"#VALUE!"}},{"$f":"COUNTIF(IF(ISERROR(INDIRECT(\"'B&U_\"&A254&\"'!$H$199\",TRUE)),\"\",INDIRECT(\"'B&U_\"&A254&\"'!$H$199\",TRUE)),1)","v":{"$error":"#VALUE!"}}]
["Tilsyn 65","Status:  gul",null,null,null,null,null,null,null,null,{"$f":"COUNTIF(IF(ISERROR(INDIRECT(\"'B&U_\"&A255&\"'!$H$33\",TRUE)),\"\",INDIRECT(\"'B&U_\"&A255&\"'!$H$33\",TRUE)),2)","v":{"$error":"#VALUE!"}},{"$f":"COUNTIF(IF(ISERROR(INDIRECT(\"'B&U_\"&A255&\"'!$h$42\",TRUE)),\"\",INDIRECT(\"'B&U_\"&A255&\"'!$h$42\",TRUE)),2)","v":{"$error":"#VALUE!"}},{"$f":"COUNTIF(IF(ISERROR(INDIRECT(\"'B&U_\"&A255&\"'!$H$66\",TRUE)),\"\",INDIRECT(\"'B&U_\"&A255&\"'!$H$66\",TRUE)),2)","v":{"$error":"#VALUE!"}},{"$f":"COUNTIF(IF(ISERROR(INDIRECT(\"'B&U_\"&A255&\"'!$H$97\",TRUE)),\"\",INDIRECT(\"'B&U_\"&A255&\"'!$H$97\",TRUE)),2)","v":{"$error":"#VALUE!"}},{"$f":"COUNTIF(IF(ISERROR(INDIRECT(\"'B&U_\"&A255&\"'!$H$128\",TRUE)),\"\",INDIRECT(\"'B&U_\"&A255&\"'!$H$128\",TRUE)),2)","v":{"$error":"#VALUE!"}},{"$f":"COUNTIF(IF(ISERROR(INDIRECT(\"'B&U_\"&A255&\"'!$H$160\",TRUE)),\"\",INDIRECT(\"'B&U_\"&A255&\"'!$H$160\",TRUE)),2)","v":{"$error":"#VALUE!"}},{"$f":"COUNTIF(IF(ISERROR(INDIRECT(\"'B&U_\"&A255&\"'!$H$190\",TRUE)),\"\",INDIRECT(\"'B&U_\"&A255&\"'!$H$190\",TRUE)),2)","v":{"$error":"#VALUE!"}},{"$f":"COUNTIF(IF(ISERROR(INDIRECT(\"'B&U_\"&A255&\"'!$H$199\",TRUE)),\"\",INDIRECT(\"'B&U_\"&A255&\"'!$H$199\",TRUE)),2)","v":{"$error":"#VALUE!"}}]
["Tilsyn 65","Status:  rød",null,null,null,null,null,null,null,null,{"$f":"COUNTIF(IF(ISERROR(INDIRECT(\"'B&U_\"&A256&\"'!$H$33\",TRUE)),\"\",INDIRECT(\"'B&U_\"&A256&\"'!$H$33\",TRUE)),3)","v":{"$error":"#VALUE!"}},{"$f":"COUNTIF(IF(ISERROR(INDIRECT(\"'B&U_\"&A256&\"'!$h$42\",TRUE)),\"\",INDIRECT(\"'B&U_\"&A256&\"'!$h$42\",TRUE)),3)","v":{"$error":"#VALUE!"}},{"$f":"COUNTIF(IF(ISERROR(INDIRECT(\"'B&U_\"&A256&\"'!$H$66\",TRUE)),\"\",INDIRECT(\"'B&U_\"&A256&\"'!$H$66\",TRUE)),3)","v":{"$error":"#VALUE!"}},{"$f":"COUNTIF(IF(ISERROR(INDIRECT(\"'B&U_\"&A256&\"'!$H$97\",TRUE)),\"\",INDIRECT(\"'B&U_\"&A256&\"'!$H$97\",TRUE)),3)","v":{"$error":"#VALUE!"}},{"$f":"COUNTIF(IF(ISERROR(INDIRECT(\"'B&U_\"&A256&\"'!$H$128\",TRUE)),\"\",INDIRECT(\"'B&U_\"&A256&\"'!$H$128\",TRUE)),3)","v":{"$error":"#VALUE!"}},{"$f":"COUNTIF(IF(ISERROR(INDIRECT(\"'B&U_\"&A256&\"'!$H$160\",TRUE)),\"\",INDIRECT(\"'B&U_\"&A256&\"'!$H$160\",TRUE)),3)","v":{"$error":"#VALUE!"}},{"$f":"COUNTIF(IF(ISERROR(INDIRECT(\"'B&U_\"&A256&\"'!$H$190\",TRUE)),\"\",INDIRECT(\"'B&U_\"&A256&\"'!$H$190\",TRUE)),3)","v":{"$error":"#VALUE!"}},{"$f":"COUNTIF(IF(ISERROR(INDIRECT(\"'B&U_\"&A256&\"'!$H$199\",TRUE)),\"\",INDIRECT(\"'B&U_\"&A256&\"'!$H$199\",TRUE)),3)","v":{"$error":"#VALUE!"}}]
["Tilsyn 66","Status:  grøn",null,null,null,null,null,null,null,null,{"$f":"COUNTIF(IF(ISERROR(INDIRECT(\"'B&U_\"&A257&\"'!$H$33\",TRUE)),\"\",INDIRECT(\"'B&U_\"&A257&\"'!$H$33\",TRUE)),1)","v":{"$error":"#VALUE!"}},{"$f":"COUNTIF(IF(ISERROR(INDIRECT(\"'B&U_\"&A257&\"'!$h$42\",TRUE)),\"\",INDIRECT(\"'B&U_\"&A257&\"'!$h$42\",TRUE)),1)","v":{"$error":"#VALUE!"}},{"$f":"COUNTIF(IF(ISERROR(INDIRECT(\"'B&U_\"&A257&\"'!$H$66\",TRUE)),\"\",INDIRECT(\"'B&U_\"&A257&\"'!$H$66\",TRUE)),1)","v":{"$error":"#VALUE!"}},{"$f":"COUNTIF(IF(ISERROR(INDIRECT(\"'B&U_\"&A257&\"'!$H$97\",TRUE)),\"\",INDIRECT(\"'B&U_\"&A257&\"'!$H$97\",TRUE)),1)","v":{"$error":"#VALUE!"}},{"$f":"COUNTIF(IF(ISERROR(INDIRECT(\"'B&U_\"&A257&\"'!$H$128\",TRUE)),\"\",INDIRECT(\"'B&U_\"&A257&\"'!$H$128\",TRUE)),1)","v":{"$error":"#VALUE!"}},{"$f":"COUNTIF(IF(ISERROR(INDIRECT(\"'B&U_\"&A257&\"'!$H$160\",TRUE)),\"\",INDIRECT(\"'B&U_\"&A257&\"'!$H$160\",TRUE)),1)","v":{"$error":"#VALUE!"}},{"$f":"COUNTIF(IF(ISERROR(INDIRECT(\"'B&U_\"&A257&\"'!$H$190\",TRUE)),\"\",INDIRECT(\"'B&U_\"&A257&\"'!$H$190\",TRUE)),1)","v":{"$error":"#VALUE!"}},{"$f":"COUNTIF(IF(ISERROR(INDIRECT(\"'B&U_\"&A257&\"'!$H$199\",TRUE)),\"\",INDIRECT(\"'B&U_\"&A257&\"'!$H$199\",TRUE)),1)","v":{"$error":"#VALUE!"}}]
["Tilsyn 66","Status:  gul",null,null,null,null,null,null,null,null,{"$f":"COUNTIF(IF(ISERROR(INDIRECT(\"'B&U_\"&A258&\"'!$H$33\",TRUE)),\"\",INDIRECT(\"'B&U_\"&A258&\"'!$H$33\",TRUE)),2)","v":{"$error":"#VALUE!"}},{"$f":"COUNTIF(IF(ISERROR(INDIRECT(\"'B&U_\"&A258&\"'!$h$42\",TRUE)),\"\",INDIRECT(\"'B&U_\"&A258&\"'!$h$42\",TRUE)),2)","v":{"$error":"#VALUE!"}},{"$f":"COUNTIF(IF(ISERROR(INDIRECT(\"'B&U_\"&A258&\"'!$H$66\",TRUE)),\"\",INDIRECT(\"'B&U_\"&A258&\"'!$H$66\",TRUE)),2)","v":{"$error":"#VALUE!"}},{"$f":"COUNTIF(IF(ISERROR(INDIRECT(\"'B&U_\"&A258&\"'!$H$97\",TRUE)),\"\",INDIRECT(\"'B&U_\"&A258&\"'!$H$97\",TRUE)),2)","v":{"$error":"#VALUE!"}},{"$f":"COUNTIF(IF(ISERROR(INDIRECT(\"'B&U_\"&A258&\"'!$H$128\",TRUE)),\"\",INDIRECT(\"'B&U_\"&A258&\"'!$H$128\",TRUE)),2)","v":{"$error":"#VALUE!"}},{"$f":"COUNTIF(IF(ISERROR(INDIRECT(\"'B&U_\"&A258&\"'!$H$160\",TRUE)),\"\",INDIRECT(\"'B&U_\"&A258&\"'!$H$160\",TRUE)),2)","v":{"$error":"#VALUE!"}},{"$f":"COUNTIF(IF(ISERROR(INDIRECT(\"'B&U_\"&A258&\"'!$H$190\",TRUE)),\"\",INDIRECT(\"'B&U_\"&A258&\"'!$H$190\",TRUE)),2)","v":{"$error":"#VALUE!"}},{"$f":"COUNTIF(IF(ISERROR(INDIRECT(\"'B&U_\"&A258&\"'!$H$199\",TRUE)),\"\",INDIRECT(\"'B&U_\"&A258&\"'!$H$199\",TRUE)),2)","v":{"$error":"#VALUE!"}}]
["Tilsyn 66","Status:  rød",null,null,null,null,null,null,null,null,{"$f":"COUNTIF(IF(ISERROR(INDIRECT(\"'B&U_\"&A259&\"'!$H$33\",TRUE)),\"\",INDIRECT(\"'B&U_\"&A259&\"'!$H$33\",TRUE)),3)","v":{"$error":"#VALUE!"}},{"$f":"COUNTIF(IF(ISERROR(INDIRECT(\"'B&U_\"&A259&\"'!$h$42\",TRUE)),\"\",INDIRECT(\"'B&U_\"&A259&\"'!$h$42\",TRUE)),3)","v":{"$error":"#VALUE!"}},{"$f":"COUNTIF(IF(ISERROR(INDIRECT(\"'B&U_\"&A259&\"'!$H$66\",TRUE)),\"\",INDIRECT(\"'B&U_\"&A259&\"'!$H$66\",TRUE)),3)","v":{"$error":"#VALUE!"}},{"$f":"COUNTIF(IF(ISERROR(INDIRECT(\"'B&U_\"&A259&\"'!$H$97\",TRUE)),\"\",INDIRECT(\"'B&U_\"&A259&\"'!$H$97\",TRUE)),3)","v":{"$error":"#VALUE!"}},{"$f":"COUNTIF(IF(ISERROR(INDIRECT(\"'B&U_\"&A259&\"'!$H$128\",TRUE)),\"\",INDIRECT(\"'B&U_\"&A259&\"'!$H$128\",TRUE)),3)","v":{"$error":"#VALUE!"}},{"$f":"COUNTIF(IF(ISERROR(INDIRECT(\"'B&U_\"&A259&\"'!$H$160\",TRUE)),\"\",INDIRECT(\"'B&U_\"&A259&\"'!$H$160\",TRUE)),3)","v":{"$error":"#VALUE!"}},{"$f":"COUNTIF(IF(ISERROR(INDIRECT(\"'B&U_\"&A259&\"'!$H$190\",TRUE)),\"\",INDIRECT(\"'B&U_\"&A259&\"'!$H$190\",TRUE)),3)","v":{"$error":"#VALUE!"}},{"$f":"COUNTIF(IF(ISERROR(INDIRECT(\"'B&U_\"&A259&\"'!$H$199\",TRUE)),\"\",INDIRECT(\"'B&U_\"&A259&\"'!$H$199\",TRUE)),3)","v":{"$error":"#VALUE!"}}]
["Tilsyn 67","Status:  grøn",null,null,null,null,null,null,null,null,{"$f":"COUNTIF(IF(ISERROR(INDIRECT(\"'B&U_\"&A260&\"'!$H$33\",TRUE)),\"\",INDIRECT(\"'B&U_\"&A260&\"'!$H$33\",TRUE)),1)","v":{"$error":"#VALUE!"}},{"$f":"COUNTIF(IF(ISERROR(INDIRECT(\"'B&U_\"&A260&\"'!$h$42\",TRUE)),\"\",INDIRECT(\"'B&U_\"&A260&\"'!$h$42\",TRUE)),1)","v":{"$error":"#VALUE!"}},{"$f":"COUNTIF(IF(ISERROR(INDIRECT(\"'B&U_\"&A260&\"'!$H$66\",TRUE)),\"\",INDIRECT(\"'B&U_\"&A260&\"'!$H$66\",TRUE)),1)","v":{"$error":"#VALUE!"}},{"$f":"COUNTIF(IF(ISERROR(INDIRECT(\"'B&U_\"&A260&\"'!$H$97\",TRUE)),\"\",INDIRECT(\"'B&U_\"&A260&\"'!$H$97\",TRUE)),1)","v":{"$error":"#VALUE!"}},{"$f":"COUNTIF(IF(ISERROR(INDIRECT(\"'B&U_\"&A260&\"'!$H$128\",TRUE)),\"\",INDIRECT(\"'B&U_\"&A260&\"'!$H$128\",TRUE)),1)","v":{"$error":"#VALUE!"}},{"$f":"COUNTIF(IF(ISERROR(INDIRECT(\"'B&U_\"&A260&\"'!$H$160\",TRUE)),\"\",INDIRECT(\"'B&U_\"&A260&\"'!$H$160\",TRUE)),1)","v":{"$error":"#VALUE!"}},{"$f":"COUNTIF(IF(ISERROR(INDIRECT(\"'B&U_\"&A260&\"'!$H$190\",TRUE)),\"\",INDIRECT(\"'B&U_\"&A260&\"'!$H$190\",TRUE)),1)","v":{"$error":"#VALUE!"}},{"$f":"COUNTIF(IF(ISERROR(INDIRECT(\"'B&U_\"&A260&\"'!$H$199\",TRUE)),\"\",INDIRECT(\"'B&U_\"&A260&\"'!$H$199\",TRUE)),1)","v":{"$error":"#VALUE!"}}]
["Tilsyn 67","Status:  gul",null,null,null,null,null,null,null,null,{"$f":"COUNTIF(IF(ISERROR(INDIRECT(\"'B&U_\"&A261&\"'!$H$33\",TRUE)),\"\",INDIRECT(\"'B&U_\"&A261&\"'!$H$33\",TRUE)),2)","v":{"$error":"#VALUE!"}},{"$f":"COUNTIF(IF(ISERROR(INDIRECT(\"'B&U_\"&A261&\"'!$h$42\",TRUE)),\"\",INDIRECT(\"'B&U_\"&A261&\"'!$h$42\",TRUE)),2)","v":{"$error":"#VALUE!"}},{"$f":"COUNTIF(IF(ISERROR(INDIRECT(\"'B&U_\"&A261&\"'!$H$66\",TRUE)),\"\",INDIRECT(\"'B&U_\"&A261&\"'!$H$66\",TRUE)),2)","v":{"$error":"#VALUE!"}},{"$f":"COUNTIF(IF(ISERROR(INDIRECT(\"'B&U_\"&A261&\"'!$H$97\",TRUE)),\"\",INDIRECT(\"'B&U_\"&A261&\"'!$H$97\",TRUE)),2)","v":{"$error":"#VALUE!"}},{"$f":"COUNTIF(IF(ISERROR(INDIRECT(\"'B&U_\"&A261&\"'!$H$128\",TRUE)),\"\",INDIRECT(\"'B&U_\"&A261&\"'!$H$128\",TRUE)),2)","v":{"$error":"#VALUE!"}},{"$f":"COUNTIF(IF(ISERROR(INDIRECT(\"'B&U_\"&A261&\"'!$H$160\",TRUE)),\"\",INDIRECT(\"'B&U_\"&A261&\"'!$H$160\",TRUE)),2)","v":{"$error":"#VALUE!"}},{"$f":"COUNTIF(IF(ISERROR(INDIRECT(\"'B&U_\"&A261&\"'!$H$190\",TRUE)),\"\",INDIRECT(\"'B&U_\"&A261&\"'!$H$190\",TRUE)),2)","v":{"$error":"#VALUE!"}},{"$f":"COUNTIF(IF(ISERROR(INDIRECT(\"'B&U_\"&A261&\"'!$H$199\",TRUE)),\"\",INDIRECT(\"'B&U_\"&A261&\"'!$H$199\",TRUE)),2)","v":{"$error":"#VALUE!"}}]
["Tilsyn 67","Status:  rød",null,null,null,null,null,null,null,null,{"$f":"COUNTIF(IF(ISERROR(INDIRECT(\"'B&U_\"&A262&\"'!$H$33\",TRUE)),\"\",INDIRECT(\"'B&U_\"&A262&\"'!$H$33\",TRUE)),3)","v":{"$error":"#VALUE!"}},{"$f":"COUNTIF(IF(ISERROR(INDIRECT(\"'B&U_\"&A262&\"'!$h$42\",TRUE)),\"\",INDIRECT(\"'B&U_\"&A262&\"'!$h$42\",TRUE)),3)","v":{"$error":"#VALUE!"}},{"$f":"COUNTIF(IF(ISERROR(INDIRECT(\"'B&U_\"&A262&\"'!$H$66\",TRUE)),\"\",INDIRECT(\"'B&U_\"&A262&\"'!$H$66\",TRUE)),3)","v":{"$error":"#VALUE!"}},{"$f":"COUNTIF(IF(ISERROR(INDIRECT(\"'B&U_\"&A262&\"'!$H$97\",TRUE)),\"\",INDIRECT(\"'B&U_\"&A262&\"'!$H$97\",TRUE)),3)","v":{"$error":"#VALUE!"}},{"$f":"COUNTIF(IF(ISERROR(INDIRECT(\"'B&U_\"&A262&\"'!$H$128\",TRUE)),\"\",INDIRECT(\"'B&U_\"&A262&\"'!$H$128\",TRUE)),3)","v":{"$error":"#VALUE!"}},{"$f":"COUNTIF(IF(ISERROR(INDIRECT(\"'B&U_\"&A262&\"'!$H$160\",TRUE)),\"\",INDIRECT(\"'B&U_\"&A262&\"'!$H$160\",TRUE)),3)","v":{"$error":"#VALUE!"}},{"$f":"COUNTIF(IF(ISERROR(INDIRECT(\"'B&U_\"&A262&\"'!$H$190\",TRUE)),\"\",INDIRECT(\"'B&U_\"&A262&\"'!$H$190\",TRUE)),3)","v":{"$error":"#VALUE!"}},{"$f":"COUNTIF(IF(ISERROR(INDIRECT(\"'B&U_\"&A262&\"'!$H$199\",TRUE)),\"\",INDIRECT(\"'B&U_\"&A262&\"'!$H$199\",TRUE)),3)","v":{"$error":"#VALUE!"}}]
["Tilsyn 68","Status:  grøn",null,null,null,null,null,null,null,null,{"$f":"COUNTIF(IF(ISERROR(INDIRECT(\"'B&U_\"&A263&\"'!$H$33\",TRUE)),\"\",INDIRECT(\"'B&U_\"&A263&\"'!$H$33\",TRUE)),1)","v":{"$error":"#VALUE!"}},{"$f":"COUNTIF(IF(ISERROR(INDIRECT(\"'B&U_\"&A263&\"'!$h$42\",TRUE)),\"\",INDIRECT(\"'B&U_\"&A263&\"'!$h$42\",TRUE)),1)","v":{"$error":"#VALUE!"}},{"$f":"COUNTIF(IF(ISERROR(INDIRECT(\"'B&U_\"&A263&\"'!$H$66\",TRUE)),\"\",INDIRECT(\"'B&U_\"&A263&\"'!$H$66\",TRUE)),1)","v":{"$error":"#VALUE!"}},{"$f":"COUNTIF(IF(ISERROR(INDIRECT(\"'B&U_\"&A263&\"'!$H$97\",TRUE)),\"\",INDIRECT(\"'B&U_\"&A263&\"'!$H$97\",TRUE)),1)","v":{"$error":"#VALUE!"}},{"$f":"COUNTIF(IF(ISERROR(INDIRECT(\"'B&U_\"&A263&\"'!$H$128\",TRUE)),\"\",INDIRECT(\"'B&U_\"&A263&\"'!$H$128\",TRUE)),1)","v":{"$error":"#VALUE!"}},{"$f":"COUNTIF(IF(ISERROR(INDIRECT(\"'B&U_\"&A263&\"'!$H$160\",TRUE)),\"\",INDIRECT(\"'B&U_\"&A263&\"'!$H$160\",TRUE)),1)","v":{"$error":"#VALUE!"}},{"$f":"COUNTIF(IF(ISERROR(INDIRECT(\"'B&U_\"&A263&\"'!$H$190\",TRUE)),\"\",INDIRECT(\"'B&U_\"&A263&\"'!$H$190\",TRUE)),1)","v":{"$error":"#VALUE!"}},{"$f":"COUNTIF(IF(ISERROR(INDIRECT(\"'B&U_\"&A263&\"'!$H$199\",TRUE)),\"\",INDIRECT(\"'B&U_\"&A263&\"'!$H$199\",TRUE)),1)","v":{"$error":"#VALUE!"}}]
["Tilsyn 68","Status:  gul",null,null,null,null,null,null,null,null,{"$f":"COUNTIF(IF(ISERROR(INDIRECT(\"'B&U_\"&A264&\"'!$H$33\",TRUE)),\"\",INDIRECT(\"'B&U_\"&A264&\"'!$H$33\",TRUE)),2)","v":{"$error":"#VALUE!"}},{"$f":"COUNTIF(IF(ISERROR(INDIRECT(\"'B&U_\"&A264&\"'!$h$42\",TRUE)),\"\",INDIRECT(\"'B&U_\"&A264&\"'!$h$42\",TRUE)),2)","v":{"$error":"#VALUE!"}},{"$f":"COUNTIF(IF(ISERROR(INDIRECT(\"'B&U_\"&A264&\"'!$H$66\",TRUE)),\"\",INDIRECT(\"'B&U_\"&A264&\"'!$H$66\",TRUE)),2)","v":{"$error":"#VALUE!"}},{"$f":"COUNTIF(IF(ISERROR(INDIRECT(\"'B&U_\"&A264&\"'!$H$97\",TRUE)),\"\",INDIRECT(\"'B&U_\"&A264&\"'!$H$97\",TRUE)),2)","v":{"$error":"#VALUE!"}},{"$f":"COUNTIF(IF(ISERROR(INDIRECT(\"'B&U_\"&A264&\"'!$H$128\",TRUE)),\"\",INDIRECT(\"'B&U_\"&A264&\"'!$H$128\",TRUE)),2)","v":{"$error":"#VALUE!"}},{"$f":"COUNTIF(IF(ISERROR(INDIRECT(\"'B&U_\"&A264&\"'!$H$160\",TRUE)),\"\",INDIRECT(\"'B&U_\"&A264&\"'!$H$160\",TRUE)),2)","v":{"$error":"#VALUE!"}},{"$f":"COUNTIF(IF(ISERROR(INDIRECT(\"'B&U_\"&A264&\"'!$H$190\",TRUE)),\"\",INDIRECT(\"'B&U_\"&A264&\"'!$H$190\",TRUE)),2)","v":{"$error":"#VALUE!"}},{"$f":"COUNTIF(IF(ISERROR(INDIRECT(\"'B&U_\"&A264&\"'!$H$199\",TRUE)),\"\",INDIRECT(\"'B&U_\"&A264&\"'!$H$199\",TRUE)),2)","v":{"$error":"#VALUE!"}}]
["Tilsyn 68","Status:  rød",null,null,null,null,null,null,null,null,{"$f":"COUNTIF(IF(ISERROR(INDIRECT(\"'B&U_\"&A265&\"'!$H$33\",TRUE)),\"\",INDIRECT(\"'B&U_\"&A265&\"'!$H$33\",TRUE)),3)","v":{"$error":"#VALUE!"}},{"$f":"COUNTIF(IF(ISERROR(INDIRECT(\"'B&U_\"&A265&\"'!$h$42\",TRUE)),\"\",INDIRECT(\"'B&U_\"&A265&\"'!$h$42\",TRUE)),3)","v":{"$error":"#VALUE!"}},{"$f":"COUNTIF(IF(ISERROR(INDIRECT(\"'B&U_\"&A265&\"'!$H$66\",TRUE)),\"\",INDIRECT(\"'B&U_\"&A265&\"'!$H$66\",TRUE)),3)","v":{"$error":"#VALUE!"}},{"$f":"COUNTIF(IF(ISERROR(INDIRECT(\"'B&U_\"&A265&\"'!$H$97\",TRUE)),\"\",INDIRECT(\"'B&U_\"&A265&\"'!$H$97\",TRUE)),3)","v":{"$error":"#VALUE!"}},{"$f":"COUNTIF(IF(ISERROR(INDIRECT(\"'B&U_\"&A265&\"'!$H$128\",TRUE)),\"\",INDIRECT(\"'B&U_\"&A265&\"'!$H$128\",TRUE)),3)","v":{"$error":"#VALUE!"}},{"$f":"COUNTIF(IF(ISERROR(INDIRECT(\"'B&U_\"&A265&\"'!$H$160\",TRUE)),\"\",INDIRECT(\"'B&U_\"&A265&\"'!$H$160\",TRUE)),3)","v":{"$error":"#VALUE!"}},{"$f":"COUNTIF(IF(ISERROR(INDIRECT(\"'B&U_\"&A265&\"'!$H$190\",TRUE)),\"\",INDIRECT(\"'B&U_\"&A265&\"'!$H$190\",TRUE)),3)","v":{"$error":"#VALUE!"}},{"$f":"COUNTIF(IF(ISERROR(INDIRECT(\"'B&U_\"&A265&\"'!$H$199\",TRUE)),\"\",INDIRECT(\"'B&U_\"&A265&\"'!$H$199\",TRUE)),3)","v":{"$error":"#VALUE!"}}]
["Tilsyn 69","Status:  grøn",null,null,null,null,null,null,null,null,{"$f":"COUNTIF(IF(ISERROR(INDIRECT(\"'B&U_\"&A266&\"'!$H$33\",TRUE)),\"\",INDIRECT(\"'B&U_\"&A266&\"'!$H$33\",TRUE)),1)","v":{"$error":"#VALUE!"}},{"$f":"COUNTIF(IF(ISERROR(INDIRECT(\"'B&U_\"&A266&\"'!$h$42\",TRUE)),\"\",INDIRECT(\"'B&U_\"&A266&\"'!$h$42\",TRUE)),1)","v":{"$error":"#VALUE!"}},{"$f":"COUNTIF(IF(ISERROR(INDIRECT(\"'B&U_\"&A266&\"'!$H$66\",TRUE)),\"\",INDIRECT(\"'B&U_\"&A266&\"'!$H$66\",TRUE)),1)","v":{"$error":"#VALUE!"}},{"$f":"COUNTIF(IF(ISERROR(INDIRECT(\"'B&U_\"&A266&\"'!$H$97\",TRUE)),\"\",INDIRECT(\"'B&U_\"&A266&\"'!$H$97\",TRUE)),1)","v":{"$error":"#VALUE!"}},{"$f":"COUNTIF(IF(ISERROR(INDIRECT(\"'B&U_\"&A266&\"'!$H$128\",TRUE)),\"\",INDIRECT(\"'B&U_\"&A266&\"'!$H$128\",TRUE)),1)","v":{"$error":"#VALUE!"}},{"$f":"COUNTIF(IF(ISERROR(INDIRECT(\"'B&U_\"&A266&\"'!$H$160\",TRUE)),\"\",INDIRECT(\"'B&U_\"&A266&\"'!$H$160\",TRUE)),1)","v":{"$error":"#VALUE!"}},{"$f":"COUNTIF(IF(ISERROR(INDIRECT(\"'B&U_\"&A266&\"'!$H$190\",TRUE)),\"\",INDIRECT(\"'B&U_\"&A266&\"'!$H$190\",TRUE)),1)","v":{"$error":"#VALUE!"}},{"$f":"COUNTIF(IF(ISERROR(INDIRECT(\"'B&U_\"&A266&\"'!$H$199\",TRUE)),\"\",INDIRECT(\"'B&U_\"&A266&\"'!$H$199\",TRUE)),1)","v":{"$error":"#VALUE!"}}]
["Tilsyn 69","Status:  gul",null,null,null,null,null,null,null,null,{"$f":"COUNTIF(IF(ISERROR(INDIRECT(\"'B&U_\"&A267&\"'!$H$33\",TRUE)),\"\",INDIRECT(\"'B&U_\"&A267&\"'!$H$33\",TRUE)),2)","v":{"$error":"#VALUE!"}},{"$f":"COUNTIF(IF(ISERROR(INDIRECT(\"'B&U_\"&A267&\"'!$h$42\",TRUE)),\"\",INDIRECT(\"'B&U_\"&A267&\"'!$h$42\",TRUE)),2)","v":{"$error":"#VALUE!"}},{"$f":"COUNTIF(IF(ISERROR(INDIRECT(\"'B&U_\"&A267&\"'!$H$66\",TRUE)),\"\",INDIRECT(\"'B&U_\"&A267&\"'!$H$66\",TRUE)),2)","v":{"$error":"#VALUE!"}},{"$f":"COUNTIF(IF(ISERROR(INDIRECT(\"'B&U_\"&A267&\"'!$H$97\",TRUE)),\"\",INDIRECT(\"'B&U_\"&A267&\"'!$H$97\",TRUE)),2)","v":{"$error":"#VALUE!"}},{"$f":"COUNTIF(IF(ISERROR(INDIRECT(\"'B&U_\"&A267&\"'!$H$128\",TRUE)),\"\",INDIRECT(\"'B&U_\"&A267&\"'!$H$128\",TRUE)),2)","v":{"$error":"#VALUE!"}},{"$f":"COUNTIF(IF(ISERROR(INDIRECT(\"'B&U_\"&A267&\"'!$H$160\",TRUE)),\"\",INDIRECT(\"'B&U_\"&A267&\"'!$H$160\",TRUE)),2)","v":{"$error":"#VALUE!"}},{"$f":"COUNTIF(IF(ISERROR(INDIRECT(\"'B&U_\"&A267&\"'!$H$190\",TRUE)),\"\",INDIRECT(\"'B&U_\"&A267&\"'!$H$190\",TRUE)),2)","v":{"$error":"#VALUE!"}},{"$f":"COUNTIF(IF(ISERROR(INDIRECT(\"'B&U_\"&A267&\"'!$H$199\",TRUE)),\"\",INDIRECT(\"'B&U_\"&A267&\"'!$H$199\",TRUE)),2)","v":{"$error":"#VALUE!"}}]
["Tilsyn 69","Status:  rød",null,null,null,null,null,null,null,null,{"$f":"COUNTIF(IF(ISERROR(INDIRECT(\"'B&U_\"&A268&\"'!$H$33\",TRUE)),\"\",INDIRECT(\"'B&U_\"&A268&\"'!$H$33\",TRUE)),3)","v":{"$error":"#VALUE!"}},{"$f":"COUNTIF(IF(ISERROR(INDIRECT(\"'B&U_\"&A268&\"'!$h$42\",TRUE)),\"\",INDIRECT(\"'B&U_\"&A268&\"'!$h$42\",TRUE)),3)","v":{"$error":"#VALUE!"}},{"$f":"COUNTIF(IF(ISERROR(INDIRECT(\"'B&U_\"&A268&\"'!$H$66\",TRUE)),\"\",INDIRECT(\"'B&U_\"&A268&\"'!$H$66\",TRUE)),3)","v":{"$error":"#VALUE!"}},{"$f":"COUNTIF(IF(ISERROR(INDIRECT(\"'B&U_\"&A268&\"'!$H$97\",TRUE)),\"\",INDIRECT(\"'B&U_\"&A268&\"'!$H$97\",TRUE)),3)","v":{"$error":"#VALUE!"}},{"$f":"COUNTIF(IF(ISERROR(INDIRECT(\"'B&U_\"&A268&\"'!$H$128\",TRUE)),\"\",INDIRECT(\"'B&U_\"&A268&\"'!$H$128\",TRUE)),3)","v":{"$error":"#VALUE!"}},{"$f":"COUNTIF(IF(ISERROR(INDIRECT(\"'B&U_\"&A268&\"'!$H$160\",TRUE)),\"\",INDIRECT(\"'B&U_\"&A268&\"'!$H$160\",TRUE)),3)","v":{"$error":"#VALUE!"}},{"$f":"COUNTIF(IF(ISERROR(INDIRECT(\"'B&U_\"&A268&\"'!$H$190\",TRUE)),\"\",INDIRECT(\"'B&U_\"&A268&\"'!$H$190\",TRUE)),3)","v":{"$error":"#VALUE!"}},{"$f":"COUNTIF(IF(ISERROR(INDIRECT(\"'B&U_\"&A268&\"'!$H$199\",TRUE)),\"\",INDIRECT(\"'B&U_\"&A268&\"'!$H$199\",TRUE)),3)","v":{"$error":"#VALUE!"}}]
["Tilsyn 70","Status:  grøn",null,null,null,null,null,null,null,null,{"$f":"COUNTIF(IF(ISERROR(INDIRECT(\"'B&U_\"&A269&\"'!$H$33\",TRUE)),\"\",INDIRECT(\"'B&U_\"&A269&\"'!$H$33\",TRUE)),1)","v":{"$error":"#VALUE!"}},{"$f":"COUNTIF(IF(ISERROR(INDIRECT(\"'B&U_\"&A269&\"'!$h$42\",TRUE)),\"\",INDIRECT(\"'B&U_\"&A269&\"'!$h$42\",TRUE)),1)","v":{"$error":"#VALUE!"}},{"$f":"COUNTIF(IF(ISERROR(INDIRECT(\"'B&U_\"&A269&\"'!$H$66\",TRUE)),\"\",INDIRECT(\"'B&U_\"&A269&\"'!$H$66\",TRUE)),1)","v":{"$error":"#VALUE!"}},{"$f":"COUNTIF(IF(ISERROR(INDIRECT(\"'B&U_\"&A269&\"'!$H$97\",TRUE)),\"\",INDIRECT(\"'B&U_\"&A269&\"'!$H$97\",TRUE)),1)","v":{"$error":"#VALUE!"}},{"$f":"COUNTIF(IF(ISERROR(INDIRECT(\"'B&U_\"&A269&\"'!$H$128\",TRUE)),\"\",INDIRECT(\"'B&U_\"&A269&\"'!$H$128\",TRUE)),1)","v":{"$error":"#VALUE!"}},{"$f":"COUNTIF(IF(ISERROR(INDIRECT(\"'B&U_\"&A269&\"'!$H$160\",TRUE)),\"\",INDIRECT(\"'B&U_\"&A269&\"'!$H$160\",TRUE)),1)","v":{"$error":"#VALUE!"}},{"$f":"COUNTIF(IF(ISERROR(INDIRECT(\"'B&U_\"&A269&\"'!$H$190\",TRUE)),\"\",INDIRECT(\"'B&U_\"&A269&\"'!$H$190\",TRUE)),1)","v":{"$error":"#VALUE!"}},{"$f":"COUNTIF(IF(ISERROR(INDIRECT(\"'B&U_\"&A269&\"'!$H$199\",TRUE)),\"\",INDIRECT(\"'B&U_\"&A269&\"'!$H$199\",TRUE)),1)","v":{"$error":"#VALUE!"}}]
["Tilsyn 70","Status:  gul",null,null,null,null,null,null,null,null,{"$f":"COUNTIF(IF(ISERROR(INDIRECT(\"'B&U_\"&A270&\"'!$H$33\",TRUE)),\"\",INDIRECT(\"'B&U_\"&A270&\"'!$H$33\",TRUE)),2)","v":{"$error":"#VALUE!"}},{"$f":"COUNTIF(IF(ISERROR(INDIRECT(\"'B&U_\"&A270&\"'!$h$42\",TRUE)),\"\",INDIRECT(\"'B&U_\"&A270&\"'!$h$42\",TRUE)),2)","v":{"$error":"#VALUE!"}},{"$f":"COUNTIF(IF(ISERROR(INDIRECT(\"'B&U_\"&A270&\"'!$H$66\",TRUE)),\"\",INDIRECT(\"'B&U_\"&A270&\"'!$H$66\",TRUE)),2)","v":{"$error":"#VALUE!"}},{"$f":"COUNTIF(IF(ISERROR(INDIRECT(\"'B&U_\"&A270&\"'!$H$97\",TRUE)),\"\",INDIRECT(\"'B&U_\"&A270&\"'!$H$97\",TRUE)),2)","v":{"$error":"#VALUE!"}},{"$f":"COUNTIF(IF(ISERROR(INDIRECT(\"'B&U_\"&A270&\"'!$H$128\",TRUE)),\"\",INDIRECT(\"'B&U_\"&A270&\"'!$H$128\",TRUE)),2)","v":{"$error":"#VALUE!"}},{"$f":"COUNTIF(IF(ISERROR(INDIRECT(\"'B&U_\"&A270&\"'!$H$160\",TRUE)),\"\",INDIRECT(\"'B&U_\"&A270&\"'!$H$160\",TRUE)),2)","v":{"$error":"#VALUE!"}},{"$f":"COUNTIF(IF(ISERROR(INDIRECT(\"'B&U_\"&A270&\"'!$H$190\",TRUE)),\"\",INDIRECT(\"'B&U_\"&A270&\"'!$H$190\",TRUE)),2)","v":{"$error":"#VALUE!"}},{"$f":"COUNTIF(IF(ISERROR(INDIRECT(\"'B&U_\"&A270&\"'!$H$199\",TRUE)),\"\",INDIRECT(\"'B&U_\"&A270&\"'!$H$199\",TRUE)),2)","v":{"$error":"#VALUE!"}}]
["Tilsyn 70","Status:  rød",null,null,null,null,null,null,null,null,{"$f":"COUNTIF(IF(ISERROR(INDIRECT(\"'B&U_\"&A271&\"'!$H$33\",TRUE)),\"\",INDIRECT(\"'B&U_\"&A271&\"'!$H$33\",TRUE)),3)","v":{"$error":"#VALUE!"}},{"$f":"COUNTIF(IF(ISERROR(INDIRECT(\"'B&U_\"&A271&\"'!$h$42\",TRUE)),\"\",INDIRECT(\"'B&U_\"&A271&\"'!$h$42\",TRUE)),3)","v":{"$error":"#VALUE!"}},{"$f":"COUNTIF(IF(ISERROR(INDIRECT(\"'B&U_\"&A271&\"'!$H$66\",TRUE)),\"\",INDIRECT(\"'B&U_\"&A271&\"'!$H$66\",TRUE)),3)","v":{"$error":"#VALUE!"}},{"$f":"COUNTIF(IF(ISERROR(INDIRECT(\"'B&U_\"&A271&\"'!$H$97\",TRUE)),\"\",INDIRECT(\"'B&U_\"&A271&\"'!$H$97\",TRUE)),3)","v":{"$error":"#VALUE!"}},{"$f":"COUNTIF(IF(ISERROR(INDIRECT(\"'B&U_\"&A271&\"'!$H$128\",TRUE)),\"\",INDIRECT(\"'B&U_\"&A271&\"'!$H$128\",TRUE)),3)","v":{"$error":"#VALUE!"}},{"$f":"COUNTIF(IF(ISERROR(INDIRECT(\"'B&U_\"&A271&\"'!$H$160\",TRUE)),\"\",INDIRECT(\"'B&U_\"&A271&\"'!$H$160\",TRUE)),3)","v":{"$error":"#VALUE!"}},{"$f":"COUNTIF(IF(ISERROR(INDIRECT(\"'B&U_\"&A271&\"'!$H$190\",TRUE)),\"\",INDIRECT(\"'B&U_\"&A271&\"'!$H$190\",TRUE)),3)","v":{"$error":"#VALUE!"}},{"$f":"COUNTIF(IF(ISERROR(INDIRECT(\"'B&U_\"&A271&\"'!$H$199\",TRUE)),\"\",INDIRECT(\"'B&U_\"&A271&\"'!$H$199\",TRUE)),3)","v":{"$error":"#VALUE!"}}]
["Tilsyn 71","Status:  grøn",null,null,null,null,null,null,null,null,{"$f":"COUNTIF(IF(ISERROR(INDIRECT(\"'B&U_\"&A272&\"'!$H$33\",TRUE)),\"\",INDIRECT(\"'B&U_\"&A272&\"'!$H$33\",TRUE)),1)","v":{"$error":"#VALUE!"}},{"$f":"COUNTIF(IF(ISERROR(INDIRECT(\"'B&U_\"&A272&\"'!$h$42\",TRUE)),\"\",INDIRECT(\"'B&U_\"&A272&\"'!$h$42\",TRUE)),1)","v":{"$error":"#VALUE!"}},{"$f":"COUNTIF(IF(ISERROR(INDIRECT(\"'B&U_\"&A272&\"'!$H$66\",TRUE)),\"\",INDIRECT(\"'B&U_\"&A272&\"'!$H$66\",TRUE)),1)","v":{"$error":"#VALUE!"}},{"$f":"COUNTIF(IF(ISERROR(INDIRECT(\"'B&U_\"&A272&\"'!$H$97\",TRUE)),\"\",INDIRECT(\"'B&U_\"&A272&\"'!$H$97\",TRUE)),1)","v":{"$error":"#VALUE!"}},{"$f":"COUNTIF(IF(ISERROR(INDIRECT(\"'B&U_\"&A272&\"'!$H$128\",TRUE)),\"\",INDIRECT(\"'B&U_\"&A272&\"'!$H$128\",TRUE)),1)","v":{"$error":"#VALUE!"}},{"$f":"COUNTIF(IF(ISERROR(INDIRECT(\"'B&U_\"&A272&\"'!$H$160\",TRUE)),\"\",INDIRECT(\"'B&U_\"&A272&\"'!$H$160\",TRUE)),1)","v":{"$error":"#VALUE!"}},{"$f":"COUNTIF(IF(ISERROR(INDIRECT(\"'B&U_\"&A272&\"'!$H$190\",TRUE)),\"\",INDIRECT(\"'B&U_\"&A272&\"'!$H$190\",TRUE)),1)","v":{"$error":"#VALUE!"}},{"$f":"COUNTIF(IF(ISERROR(INDIRECT(\"'B&U_\"&A272&\"'!$H$199\",TRUE)),\"\",INDIRECT(\"'B&U_\"&A272&\"'!$H$199\",TRUE)),1)","v":{"$error":"#VALUE!"}}]
["Tilsyn 71","Status:  gul",null,null,null,null,null,null,null,null,{"$f":"COUNTIF(IF(ISERROR(INDIRECT(\"'B&U_\"&A273&\"'!$H$33\",TRUE)),\"\",INDIRECT(\"'B&U_\"&A273&\"'!$H$33\",TRUE)),2)","v":{"$error":"#VALUE!"}},{"$f":"COUNTIF(IF(ISERROR(INDIRECT(\"'B&U_\"&A273&\"'!$h$42\",TRUE)),\"\",INDIRECT(\"'B&U_\"&A273&\"'!$h$42\",TRUE)),2)","v":{"$error":"#VALUE!"}},{"$f":"COUNTIF(IF(ISERROR(INDIRECT(\"'B&U_\"&A273&\"'!$H$66\",TRUE)),\"\",INDIRECT(\"'B&U_\"&A273&\"'!$H$66\",TRUE)),2)","v":{"$error":"#VALUE!"}},{"$f":"COUNTIF(IF(ISERROR(INDIRECT(\"'B&U_\"&A273&\"'!$H$97\",TRUE)),\"\",INDIRECT(\"'B&U_\"&A273&\"'!$H$97\",TRUE)),2)","v":{"$error":"#VALUE!"}},{"$f":"COUNTIF(IF(ISERROR(INDIRECT(\"'B&U_\"&A273&\"'!$H$128\",TRUE)),\"\",INDIRECT(\"'B&U_\"&A273&\"'!$H$128\",TRUE)),2)","v":{"$error":"#VALUE!"}},{"$f":"COUNTIF(IF(ISERROR(INDIRECT(\"'B&U_\"&A273&\"'!$H$160\",TRUE)),\"\",INDIRECT(\"'B&U_\"&A273&\"'!$H$160\",TRUE)),2)","v":{"$error":"#VALUE!"}},{"$f":"COUNTIF(IF(ISERROR(INDIRECT(\"'B&U_\"&A273&\"'!$H$190\",TRUE)),\"\",INDIRECT(\"'B&U_\"&A273&\"'!$H$190\",TRUE)),2)","v":{"$error":"#VALUE!"}},{"$f":"COUNTIF(IF(ISERROR(INDIRECT(\"'B&U_\"&A273&\"'!$H$199\",TRUE)),\"\",INDIRECT(\"'B&U_\"&A273&\"'!$H$199\",TRUE)),2)","v":{"$error":"#VALUE!"}}]
["Tilsyn 71","Status:  rød",null,null,null,null,null,null,null,null,{"$f":"COUNTIF(IF(ISERROR(INDIRECT(\"'B&U_\"&A274&\"'!$H$33\",TRUE)),\"\",INDIRECT(\"'B&U_\"&A274&\"'!$H$33\",TRUE)),3)","v":{"$error":"#VALUE!"}},{"$f":"COUNTIF(IF(ISERROR(INDIRECT(\"'B&U_\"&A274&\"'!$h$42\",TRUE)),\"\",INDIRECT(\"'B&U_\"&A274&\"'!$h$42\",TRUE)),3)","v":{"$error":"#VALUE!"}},{"$f":"COUNTIF(IF(ISERROR(INDIRECT(\"'B&U_\"&A274&\"'!$H$66\",TRUE)),\"\",INDIRECT(\"'B&U_\"&A274&\"'!$H$66\",TRUE)),3)","v":{"$error":"#VALUE!"}},{"$f":"COUNTIF(IF(ISERROR(INDIRECT(\"'B&U_\"&A274&\"'!$H$97\",TRUE)),\"\",INDIRECT(\"'B&U_\"&A274&\"'!$H$97\",TRUE)),3)","v":{"$error":"#VALUE!"}},{"$f":"COUNTIF(IF(ISERROR(INDIRECT(\"'B&U_\"&A274&\"'!$H$128\",TRUE)),\"\",INDIRECT(\"'B&U_\"&A274&\"'!$H$128\",TRUE)),3)","v":{"$error":"#VALUE!"}},{"$f":"COUNTIF(IF(ISERROR(INDIRECT(\"'B&U_\"&A274&\"'!$H$160\",TRUE)),\"\",INDIRECT(\"'B&U_\"&A274&\"'!$H$160\",TRUE)),3)","v":{"$error":"#VALUE!"}},{"$f":"COUNTIF(IF(ISERROR(INDIRECT(\"'B&U_\"&A274&\"'!$H$190\",TRUE)),\"\",INDIRECT(\"'B&U_\"&A274&\"'!$H$190\",TRUE)),3)","v":{"$error":"#VALUE!"}},{"$f":"COUNTIF(IF(ISERROR(INDIRECT(\"'B&U_\"&A274&\"'!$H$199\",TRUE)),\"\",INDIRECT(\"'B&U_\"&A274&\"'!$H$199\",TRUE)),3)","v":{"$error":"#VALUE!"}}]
["Tilsyn 72","Status:  grøn",null,null,null,null,null,null,null,null,{"$f":"COUNTIF(IF(ISERROR(INDIRECT(\"'B&U_\"&A275&\"'!$H$33\",TRUE)),\"\",INDIRECT(\"'B&U_\"&A275&\"'!$H$33\",TRUE)),1)","v":{"$error":"#VALUE!"}},{"$f":"COUNTIF(IF(ISERROR(INDIRECT(\"'B&U_\"&A275&\"'!$h$42\",TRUE)),\"\",INDIRECT(\"'B&U_\"&A275&\"'!$h$42\",TRUE)),1)","v":{"$error":"#VALUE!"}},{"$f":"COUNTIF(IF(ISERROR(INDIRECT(\"'B&U_\"&A275&\"'!$H$66\",TRUE)),\"\",INDIRECT(\"'B&U_\"&A275&\"'!$H$66\",TRUE)),1)","v":{"$error":"#VALUE!"}},{"$f":"COUNTIF(IF(ISERROR(INDIRECT(\"'B&U_\"&A275&\"'!$H$97\",TRUE)),\"\",INDIRECT(\"'B&U_\"&A275&\"'!$H$97\",TRUE)),1)","v":{"$error":"#VALUE!"}},{"$f":"COUNTIF(IF(ISERROR(INDIRECT(\"'B&U_\"&A275&\"'!$H$128\",TRUE)),\"\",INDIRECT(\"'B&U_\"&A275&\"'!$H$128\",TRUE)),1)","v":{"$error":"#VALUE!"}},{"$f":"COUNTIF(IF(ISERROR(INDIRECT(\"'B&U_\"&A275&\"'!$H$160\",TRUE)),\"\",INDIRECT(\"'B&U_\"&A275&\"'!$H$160\",TRUE)),1)","v":{"$error":"#VALUE!"}},{"$f":"COUNTIF(IF(ISERROR(INDIRECT(\"'B&U_\"&A275&\"'!$H$190\",TRUE)),\"\",INDIRECT(\"'B&U_\"&A275&\"'!$H$190\",TRUE)),1)","v":{"$error":"#VALUE!"}},{"$f":"COUNTIF(IF(ISERROR(INDIRECT(\"'B&U_\"&A275&\"'!$H$199\",TRUE)),\"\",INDIRECT(\"'B&U_\"&A275&\"'!$H$199\",TRUE)),1)","v":{"$error":"#VALUE!"}}]
["Tilsyn 72","Status:  gul",null,null,null,null,null,null,null,null,{"$f":"COUNTIF(IF(ISERROR(INDIRECT(\"'B&U_\"&A276&\"'!$H$33\",TRUE)),\"\",INDIRECT(\"'B&U_\"&A276&\"'!$H$33\",TRUE)),2)","v":{"$error":"#VALUE!"}},{"$f":"COUNTIF(IF(ISERROR(INDIRECT(\"'B&U_\"&A276&\"'!$h$42\",TRUE)),\"\",INDIRECT(\"'B&U_\"&A276&\"'!$h$42\",TRUE)),2)","v":{"$error":"#VALUE!"}},{"$f":"COUNTIF(IF(ISERROR(INDIRECT(\"'B&U_\"&A276&\"'!$H$66\",TRUE)),\"\",INDIRECT(\"'B&U_\"&A276&\"'!$H$66\",TRUE)),2)","v":{"$error":"#VALUE!"}},{"$f":"COUNTIF(IF(ISERROR(INDIRECT(\"'B&U_\"&A276&\"'!$H$97\",TRUE)),\"\",INDIRECT(\"'B&U_\"&A276&\"'!$H$97\",TRUE)),2)","v":{"$error":"#VALUE!"}},{"$f":"COUNTIF(IF(ISERROR(INDIRECT(\"'B&U_\"&A276&\"'!$H$128\",TRUE)),\"\",INDIRECT(\"'B&U_\"&A276&\"'!$H$128\",TRUE)),2)","v":{"$error":"#VALUE!"}},{"$f":"COUNTIF(IF(ISERROR(INDIRECT(\"'B&U_\"&A276&\"'!$H$160\",TRUE)),\"\",INDIRECT(\"'B&U_\"&A276&\"'!$H$160\",TRUE)),2)","v":{"$error":"#VALUE!"}},{"$f":"COUNTIF(IF(ISERROR(INDIRECT(\"'B&U_\"&A276&\"'!$H$190\",TRUE)),\"\",INDIRECT(\"'B&U_\"&A276&\"'!$H$190\",TRUE)),2)","v":{"$error":"#VALUE!"}},{"$f":"COUNTIF(IF(ISERROR(INDIRECT(\"'B&U_\"&A276&\"'!$H$199\",TRUE)),\"\",INDIRECT(\"'B&U_\"&A276&\"'!$H$199\",TRUE)),2)","v":{"$error":"#VALUE!"}}]
["Tilsyn 72","Status:  rød",null,null,null,null,null,null,null,null,{"$f":"COUNTIF(IF(ISERROR(INDIRECT(\"'B&U_\"&A277&\"'!$H$33\",TRUE)),\"\",INDIRECT(\"'B&U_\"&A277&\"'!$H$33\",TRUE)),3)","v":{"$error":"#VALUE!"}},{"$f":"COUNTIF(IF(ISERROR(INDIRECT(\"'B&U_\"&A277&\"'!$h$42\",TRUE)),\"\",INDIRECT(\"'B&U_\"&A277&\"'!$h$42\",TRUE)),3)","v":{"$error":"#VALUE!"}},{"$f":"COUNTIF(IF(ISERROR(INDIRECT(\"'B&U_\"&A277&\"'!$H$66\",TRUE)),\"\",INDIRECT(\"'B&U_\"&A277&\"'!$H$66\",TRUE)),3)","v":{"$error":"#VALUE!"}},{"$f":"COUNTIF(IF(ISERROR(INDIRECT(\"'B&U_\"&A277&\"'!$H$97\",TRUE)),\"\",INDIRECT(\"'B&U_\"&A277&\"'!$H$97\",TRUE)),3)","v":{"$error":"#VALUE!"}},{"$f":"COUNTIF(IF(ISERROR(INDIRECT(\"'B&U_\"&A277&\"'!$H$128\",TRUE)),\"\",INDIRECT(\"'B&U_\"&A277&\"'!$H$128\",TRUE)),3)","v":{"$error":"#VALUE!"}},{"$f":"COUNTIF(IF(ISERROR(INDIRECT(\"'B&U_\"&A277&\"'!$H$160\",TRUE)),\"\",INDIRECT(\"'B&U_\"&A277&\"'!$H$160\",TRUE)),3)","v":{"$error":"#VALUE!"}},{"$f":"COUNTIF(IF(ISERROR(INDIRECT(\"'B&U_\"&A277&\"'!$H$190\",TRUE)),\"\",INDIRECT(\"'B&U_\"&A277&\"'!$H$190\",TRUE)),3)","v":{"$error":"#VALUE!"}},{"$f":"COUNTIF(IF(ISERROR(INDIRECT(\"'B&U_\"&A277&\"'!$H$199\",TRUE)),\"\",INDIRECT(\"'B&U_\"&A277&\"'!$H$199\",TRUE)),3)","v":{"$error":"#VALUE!"}}]
["Tilsyn 73","Status:  grøn",null,null,null,null,null,null,null,null,{"$f":"COUNTIF(IF(ISERROR(INDIRECT(\"'B&U_\"&A278&\"'!$H$33\",TRUE)),\"\",INDIRECT(\"'B&U_\"&A278&\"'!$H$33\",TRUE)),1)","v":{"$error":"#VALUE!"}},{"$f":"COUNTIF(IF(ISERROR(INDIRECT(\"'B&U_\"&A278&\"'!$h$42\",TRUE)),\"\",INDIRECT(\"'B&U_\"&A278&\"'!$h$42\",TRUE)),1)","v":{"$error":"#VALUE!"}},{"$f":"COUNTIF(IF(ISERROR(INDIRECT(\"'B&U_\"&A278&\"'!$H$66\",TRUE)),\"\",INDIRECT(\"'B&U_\"&A278&\"'!$H$66\",TRUE)),1)","v":{"$error":"#VALUE!"}},{"$f":"COUNTIF(IF(ISERROR(INDIRECT(\"'B&U_\"&A278&\"'!$H$97\",TRUE)),\"\",INDIRECT(\"'B&U_\"&A278&\"'!$H$97\",TRUE)),1)","v":{"$error":"#VALUE!"}},{"$f":"COUNTIF(IF(ISERROR(INDIRECT(\"'B&U_\"&A278&\"'!$H$128\",TRUE)),\"\",INDIRECT(\"'B&U_\"&A278&\"'!$H$128\",TRUE)),1)","v":{"$error":"#VALUE!"}},{"$f":"COUNTIF(IF(ISERROR(INDIRECT(\"'B&U_\"&A278&\"'!$H$160\",TRUE)),\"\",INDIRECT(\"'B&U_\"&A278&\"'!$H$160\",TRUE)),1)","v":{"$error":"#VALUE!"}},{"$f":"COUNTIF(IF(ISERROR(INDIRECT(\"'B&U_\"&A278&\"'!$H$190\",TRUE)),\"\",INDIRECT(\"'B&U_\"&A278&\"'!$H$190\",TRUE)),1)","v":{"$error":"#VALUE!"}},{"$f":"COUNTIF(IF(ISERROR(INDIRECT(\"'B&U_\"&A278&\"'!$H$199\",TRUE)),\"\",INDIRECT(\"'B&U_\"&A278&\"'!$H$199\",TRUE)),1)","v":{"$error":"#VALUE!"}}]
["Tilsyn 73","Status:  gul",null,null,null,null,null,null,null,null,{"$f":"COUNTIF(IF(ISERROR(INDIRECT(\"'B&U_\"&A279&\"'!$H$33\",TRUE)),\"\",INDIRECT(\"'B&U_\"&A279&\"'!$H$33\",TRUE)),2)","v":{"$error":"#VALUE!"}},{"$f":"COUNTIF(IF(ISERROR(INDIRECT(\"'B&U_\"&A279&\"'!$h$42\",TRUE)),\"\",INDIRECT(\"'B&U_\"&A279&\"'!$h$42\",TRUE)),2)","v":{"$error":"#VALUE!"}},{"$f":"COUNTIF(IF(ISERROR(INDIRECT(\"'B&U_\"&A279&\"'!$H$66\",TRUE)),\"\",INDIRECT(\"'B&U_\"&A279&\"'!$H$66\",TRUE)),2)","v":{"$error":"#VALUE!"}},{"$f":"COUNTIF(IF(ISERROR(INDIRECT(\"'B&U_\"&A279&\"'!$H$97\",TRUE)),\"\",INDIRECT(\"'B&U_\"&A279&\"'!$H$97\",TRUE)),2)","v":{"$error":"#VALUE!"}},{"$f":"COUNTIF(IF(ISERROR(INDIRECT(\"'B&U_\"&A279&\"'!$H$128\",TRUE)),\"\",INDIRECT(\"'B&U_\"&A279&\"'!$H$128\",TRUE)),2)","v":{"$error":"#VALUE!"}},{"$f":"COUNTIF(IF(ISERROR(INDIRECT(\"'B&U_\"&A279&\"'!$H$160\",TRUE)),\"\",INDIRECT(\"'B&U_\"&A279&\"'!$H$160\",TRUE)),2)","v":{"$error":"#VALUE!"}},{"$f":"COUNTIF(IF(ISERROR(INDIRECT(\"'B&U_\"&A279&\"'!$H$190\",TRUE)),\"\",INDIRECT(\"'B&U_\"&A279&\"'!$H$190\",TRUE)),2)","v":{"$error":"#VALUE!"}},{"$f":"COUNTIF(IF(ISERROR(INDIRECT(\"'B&U_\"&A279&\"'!$H$199\",TRUE)),\"\",INDIRECT(\"'B&U_\"&A279&\"'!$H$199\",TRUE)),2)","v":{"$error":"#VALUE!"}}]
["Tilsyn 73","Status:  rød",null,null,null,null,null,null,null,null,{"$f":"COUNTIF(IF(ISERROR(INDIRECT(\"'B&U_\"&A280&\"'!$H$33\",TRUE)),\"\",INDIRECT(\"'B&U_\"&A280&\"'!$H$33\",TRUE)),3)","v":{"$error":"#VALUE!"}},{"$f":"COUNTIF(IF(ISERROR(INDIRECT(\"'B&U_\"&A280&\"'!$h$42\",TRUE)),\"\",INDIRECT(\"'B&U_\"&A280&\"'!$h$42\",TRUE)),3)","v":{"$error":"#VALUE!"}},{"$f":"COUNTIF(IF(ISERROR(INDIRECT(\"'B&U_\"&A280&\"'!$H$66\",TRUE)),\"\",INDIRECT(\"'B&U_\"&A280&\"'!$H$66\",TRUE)),3)","v":{"$error":"#VALUE!"}},{"$f":"COUNTIF(IF(ISERROR(INDIRECT(\"'B&U_\"&A280&\"'!$H$97\",TRUE)),\"\",INDIRECT(\"'B&U_\"&A280&\"'!$H$97\",TRUE)),3)","v":{"$error":"#VALUE!"}},{"$f":"COUNTIF(IF(ISERROR(INDIRECT(\"'B&U_\"&A280&\"'!$H$128\",TRUE)),\"\",INDIRECT(\"'B&U_\"&A280&\"'!$H$128\",TRUE)),3)","v":{"$error":"#VALUE!"}},{"$f":"COUNTIF(IF(ISERROR(INDIRECT(\"'B&U_\"&A280&\"'!$H$160\",TRUE)),\"\",INDIRECT(\"'B&U_\"&A280&\"'!$H$160\",TRUE)),3)","v":{"$error":"#VALUE!"}},{"$f":"COUNTIF(IF(ISERROR(INDIRECT(\"'B&U_\"&A280&\"'!$H$190\",TRUE)),\"\",INDIRECT(\"'B&U_\"&A280&\"'!$H$190\",TRUE)),3)","v":{"$error":"#VALUE!"}},{"$f":"COUNTIF(IF(ISERROR(INDIRECT(\"'B&U_\"&A280&\"'!$H$199\",TRUE)),\"\",INDIRECT(\"'B&U_\"&A280&\"'!$H$199\",TRUE)),3)","v":{"$error":"#VALUE!"}}]
["Tilsyn 74","Status:  grøn",null,null,null,null,null,null,null,null,{"$f":"COUNTIF(IF(ISERROR(INDIRECT(\"'B&U_\"&A281&\"'!$H$33\",TRUE)),\"\",INDIRECT(\"'B&U_\"&A281&\"'!$H$33\",TRUE)),1)","v":{"$error":"#VALUE!"}},{"$f":"COUNTIF(IF(ISERROR(INDIRECT(\"'B&U_\"&A281&\"'!$h$42\",TRUE)),\"\",INDIRECT(\"'B&U_\"&A281&\"'!$h$42\",TRUE)),1)","v":{"$error":"#VALUE!"}},{"$f":"COUNTIF(IF(ISERROR(INDIRECT(\"'B&U_\"&A281&\"'!$H$66\",TRUE)),\"\",INDIRECT(\"'B&U_\"&A281&\"'!$H$66\",TRUE)),1)","v":{"$error":"#VALUE!"}},{"$f":"COUNTIF(IF(ISERROR(INDIRECT(\"'B&U_\"&A281&\"'!$H$97\",TRUE)),\"\",INDIRECT(\"'B&U_\"&A281&\"'!$H$97\",TRUE)),1)","v":{"$error":"#VALUE!"}},{"$f":"COUNTIF(IF(ISERROR(INDIRECT(\"'B&U_\"&A281&\"'!$H$128\",TRUE)),\"\",INDIRECT(\"'B&U_\"&A281&\"'!$H$128\",TRUE)),1)","v":{"$error":"#VALUE!"}},{"$f":"COUNTIF(IF(ISERROR(INDIRECT(\"'B&U_\"&A281&\"'!$H$160\",TRUE)),\"\",INDIRECT(\"'B&U_\"&A281&\"'!$H$160\",TRUE)),1)","v":{"$error":"#VALUE!"}},{"$f":"COUNTIF(IF(ISERROR(INDIRECT(\"'B&U_\"&A281&\"'!$H$190\",TRUE)),\"\",INDIRECT(\"'B&U_\"&A281&\"'!$H$190\",TRUE)),1)","v":{"$error":"#VALUE!"}},{"$f":"COUNTIF(IF(ISERROR(INDIRECT(\"'B&U_\"&A281&\"'!$H$199\",TRUE)),\"\",INDIRECT(\"'B&U_\"&A281&\"'!$H$199\",TRUE)),1)","v":{"$error":"#VALUE!"}}]
["Tilsyn 74","Status:  gul",null,null,null,null,null,null,null,null,{"$f":"COUNTIF(IF(ISERROR(INDIRECT(\"'B&U_\"&A282&\"'!$H$33\",TRUE)),\"\",INDIRECT(\"'B&U_\"&A282&\"'!$H$33\",TRUE)),2)","v":{"$error":"#VALUE!"}},{"$f":"COUNTIF(IF(ISERROR(INDIRECT(\"'B&U_\"&A282&\"'!$h$42\",TRUE)),\"\",INDIRECT(\"'B&U_\"&A282&\"'!$h$42\",TRUE)),2)","v":{"$error":"#VALUE!"}},{"$f":"COUNTIF(IF(ISERROR(INDIRECT(\"'B&U_\"&A282&\"'!$H$66\",TRUE)),\"\",INDIRECT(\"'B&U_\"&A282&\"'!$H$66\",TRUE)),2)","v":{"$error":"#VALUE!"}},{"$f":"COUNTIF(IF(ISERROR(INDIRECT(\"'B&U_\"&A282&\"'!$H$97\",TRUE)),\"\",INDIRECT(\"'B&U_\"&A282&\"'!$H$97\",TRUE)),2)","v":{"$error":"#VALUE!"}},{"$f":"COUNTIF(IF(ISERROR(INDIRECT(\"'B&U_\"&A282&\"'!$H$128\",TRUE)),\"\",INDIRECT(\"'B&U_\"&A282&\"'!$H$128\",TRUE)),2)","v":{"$error":"#VALUE!"}},{"$f":"COUNTIF(IF(ISERROR(INDIRECT(\"'B&U_\"&A282&\"'!$H$160\",TRUE)),\"\",INDIRECT(\"'B&U_\"&A282&\"'!$H$160\",TRUE)),2)","v":{"$error":"#VALUE!"}},{"$f":"COUNTIF(IF(ISERROR(INDIRECT(\"'B&U_\"&A282&\"'!$H$190\",TRUE)),\"\",INDIRECT(\"'B&U_\"&A282&\"'!$H$190\",TRUE)),2)","v":{"$error":"#VALUE!"}},{"$f":"COUNTIF(IF(ISERROR(INDIRECT(\"'B&U_\"&A282&\"'!$H$199\",TRUE)),\"\",INDIRECT(\"'B&U_\"&A282&\"'!$H$199\",TRUE)),2)","v":{"$error":"#VALUE!"}}]
["Tilsyn 74","Status:  rød",null,null,null,null,null,null,null,null,{"$f":"COUNTIF(IF(ISERROR(INDIRECT(\"'B&U_\"&A283&\"'!$H$33\",TRUE)),\"\",INDIRECT(\"'B&U_\"&A283&\"'!$H$33\",TRUE)),3)","v":{"$error":"#VALUE!"}},{"$f":"COUNTIF(IF(ISERROR(INDIRECT(\"'B&U_\"&A283&\"'!$h$42\",TRUE)),\"\",INDIRECT(\"'B&U_\"&A283&\"'!$h$42\",TRUE)),3)","v":{"$error":"#VALUE!"}},{"$f":"COUNTIF(IF(ISERROR(INDIRECT(\"'B&U_\"&A283&\"'!$H$66\",TRUE)),\"\",INDIRECT(\"'B&U_\"&A283&\"'!$H$66\",TRUE)),3)","v":{"$error":"#VALUE!"}},{"$f":"COUNTIF(IF(ISERROR(INDIRECT(\"'B&U_\"&A283&\"'!$H$97\",TRUE)),\"\",INDIRECT(\"'B&U_\"&A283&\"'!$H$97\",TRUE)),3)","v":{"$error":"#VALUE!"}},{"$f":"COUNTIF(IF(ISERROR(INDIRECT(\"'B&U_\"&A283&\"'!$H$128\",TRUE)),\"\",INDIRECT(\"'B&U_\"&A283&\"'!$H$128\",TRUE)),3)","v":{"$error":"#VALUE!"}},{"$f":"COUNTIF(IF(ISERROR(INDIRECT(\"'B&U_\"&A283&\"'!$H$160\",TRUE)),\"\",INDIRECT(\"'B&U_\"&A283&\"'!$H$160\",TRUE)),3)","v":{"$error":"#VALUE!"}},{"$f":"COUNTIF(IF(ISERROR(INDIRECT(\"'B&U_\"&A283&\"'!$H$190\",TRUE)),\"\",INDIRECT(\"'B&U_\"&A283&\"'!$H$190\",TRUE)),3)","v":{"$error":"#VALUE!"}},{"$f":"COUNTIF(IF(ISERROR(INDIRECT(\"'B&U_\"&A283&\"'!$H$199\",TRUE)),\"\",INDIRECT(\"'B&U_\"&A283&\"'!$H$199\",TRUE)),3)","v":{"$error":"#VALUE!"}}]
["Tilsyn 75","Status:  grøn",null,null,null,null,null,null,null,null,{"$f":"COUNTIF(IF(ISERROR(INDIRECT(\"'B&U_\"&A284&\"'!$H$33\",TRUE)),\"\",INDIRECT(\"'B&U_\"&A284&\"'!$H$33\",TRUE)),1)","v":{"$error":"#VALUE!"}},{"$f":"COUNTIF(IF(ISERROR(INDIRECT(\"'B&U_\"&A284&\"'!$h$42\",TRUE)),\"\",INDIRECT(\"'B&U_\"&A284&\"'!$h$42\",TRUE)),1)","v":{"$error":"#VALUE!"}},{"$f":"COUNTIF(IF(ISERROR(INDIRECT(\"'B&U_\"&A284&\"'!$H$66\",TRUE)),\"\",INDIRECT(\"'B&U_\"&A284&\"'!$H$66\",TRUE)),1)","v":{"$error":"#VALUE!"}},{"$f":"COUNTIF(IF(ISERROR(INDIRECT(\"'B&U_\"&A284&\"'!$H$97\",TRUE)),\"\",INDIRECT(\"'B&U_\"&A284&\"'!$H$97\",TRUE)),1)","v":{"$error":"#VALUE!"}},{"$f":"COUNTIF(IF(ISERROR(INDIRECT(\"'B&U_\"&A284&\"'!$H$128\",TRUE)),\"\",INDIRECT(\"'B&U_\"&A284&\"'!$H$128\",TRUE)),1)","v":{"$error":"#VALUE!"}},{"$f":"COUNTIF(IF(ISERROR(INDIRECT(\"'B&U_\"&A284&\"'!$H$160\",TRUE)),\"\",INDIRECT(\"'B&U_\"&A284&\"'!$H$160\",TRUE)),1)","v":{"$error":"#VALUE!"}},{"$f":"COUNTIF(IF(ISERROR(INDIRECT(\"'B&U_\"&A284&\"'!$H$190\",TRUE)),\"\",INDIRECT(\"'B&U_\"&A284&\"'!$H$190\",TRUE)),1)","v":{"$error":"#VALUE!"}},{"$f":"COUNTIF(IF(ISERROR(INDIRECT(\"'B&U_\"&A284&\"'!$H$199\",TRUE)),\"\",INDIRECT(\"'B&U_\"&A284&\"'!$H$199\",TRUE)),1)","v":{"$error":"#VALUE!"}}]
["Tilsyn 75","Status:  gul",null,null,null,null,null,null,null,null,{"$f":"COUNTIF(IF(ISERROR(INDIRECT(\"'B&U_\"&A285&\"'!$H$33\",TRUE)),\"\",INDIRECT(\"'B&U_\"&A285&\"'!$H$33\",TRUE)),2)","v":{"$error":"#VALUE!"}},{"$f":"COUNTIF(IF(ISERROR(INDIRECT(\"'B&U_\"&A285&\"'!$h$42\",TRUE)),\"\",INDIRECT(\"'B&U_\"&A285&\"'!$h$42\",TRUE)),2)","v":{"$error":"#VALUE!"}},{"$f":"COUNTIF(IF(ISERROR(INDIRECT(\"'B&U_\"&A285&\"'!$H$66\",TRUE)),\"\",INDIRECT(\"'B&U_\"&A285&\"'!$H$66\",TRUE)),2)","v":{"$error":"#VALUE!"}},{"$f":"COUNTIF(IF(ISERROR(INDIRECT(\"'B&U_\"&A285&\"'!$H$97\",TRUE)),\"\",INDIRECT(\"'B&U_\"&A285&\"'!$H$97\",TRUE)),2)","v":{"$error":"#VALUE!"}},{"$f":"COUNTIF(IF(ISERROR(INDIRECT(\"'B&U_\"&A285&\"'!$H$128\",TRUE)),\"\",INDIRECT(\"'B&U_\"&A285&\"'!$H$128\",TRUE)),2)","v":{"$error":"#VALUE!"}},{"$f":"COUNTIF(IF(ISERROR(INDIRECT(\"'B&U_\"&A285&\"'!$H$160\",TRUE)),\"\",INDIRECT(\"'B&U_\"&A285&\"'!$H$160\",TRUE)),2)","v":{"$error":"#VALUE!"}},{"$f":"COUNTIF(IF(ISERROR(INDIRECT(\"'B&U_\"&A285&\"'!$H$190\",TRUE)),\"\",INDIRECT(\"'B&U_\"&A285&\"'!$H$190\",TRUE)),2)","v":{"$error":"#VALUE!"}},{"$f":"COUNTIF(IF(ISERROR(INDIRECT(\"'B&U_\"&A285&\"'!$H$199\",TRUE)),\"\",INDIRECT(\"'B&U_\"&A285&\"'!$H$199\",TRUE)),2)","v":{"$error":"#VALUE!"}}]
["Tilsyn 75","Status:  rød",null,null,null,null,null,null,null,null,{"$f":"COUNTIF(IF(ISERROR(INDIRECT(\"'B&U_\"&A286&\"'!$H$33\",TRUE)),\"\",INDIRECT(\"'B&U_\"&A286&\"'!$H$33\",TRUE)),3)","v":{"$error":"#VALUE!"}},{"$f":"COUNTIF(IF(ISERROR(INDIRECT(\"'B&U_\"&A286&\"'!$h$42\",TRUE)),\"\",INDIRECT(\"'B&U_\"&A286&\"'!$h$42\",TRUE)),3)","v":{"$error":"#VALUE!"}},{"$f":"COUNTIF(IF(ISERROR(INDIRECT(\"'B&U_\"&A286&\"'!$H$66\",TRUE)),\"\",INDIRECT(\"'B&U_\"&A286&\"'!$H$66\",TRUE)),3)","v":{"$error":"#VALUE!"}},{"$f":"COUNTIF(IF(ISERROR(INDIRECT(\"'B&U_\"&A286&\"'!$H$97\",TRUE)),\"\",INDIRECT(\"'B&U_\"&A286&\"'!$H$97\",TRUE)),3)","v":{"$error":"#VALUE!"}},{"$f":"COUNTIF(IF(ISERROR(INDIRECT(\"'B&U_\"&A286&\"'!$H$128\",TRUE)),\"\",INDIRECT(\"'B&U_\"&A286&\"'!$H$128\",TRUE)),3)","v":{"$error":"#VALUE!"}},{"$f":"COUNTIF(IF(ISERROR(INDIRECT(\"'B&U_\"&A286&\"'!$H$160\",TRUE)),\"\",INDIRECT(\"'B&U_\"&A286&\"'!$H$160\",TRUE)),3)","v":{"$error":"#VALUE!"}},{"$f":"COUNTIF(IF(ISERROR(INDIRECT(\"'B&U_\"&A286&\"'!$H$190\",TRUE)),\"\",INDIRECT(\"'B&U_\"&A286&\"'!$H$190\",TRUE)),3)","v":{"$error":"#VALUE!"}},{"$f":"COUNTIF(IF(ISERROR(INDIRECT(\"'B&U_\"&A286&\"'!$H$199\",TRUE)),\"\",INDIRECT(\"'B&U_\"&A286&\"'!$H$199\",TRUE)),3)","v":{"$error":"#VALUE!"}}]
["Tilsyn 76","Status:  grøn",null,null,null,null,null,null,null,null,{"$f":"COUNTIF(IF(ISERROR(INDIRECT(\"'B&U_\"&A287&\"'!$H$33\",TRUE)),\"\",INDIRECT(\"'B&U_\"&A287&\"'!$H$33\",TRUE)),1)","v":{"$error":"#VALUE!"}},{"$f":"COUNTIF(IF(ISERROR(INDIRECT(\"'B&U_\"&A287&\"'!$h$42\",TRUE)),\"\",INDIRECT(\"'B&U_\"&A287&\"'!$h$42\",TRUE)),1)","v":{"$error":"#VALUE!"}},{"$f":"COUNTIF(IF(ISERROR(INDIRECT(\"'B&U_\"&A287&\"'!$H$66\",TRUE)),\"\",INDIRECT(\"'B&U_\"&A287&\"'!$H$66\",TRUE)),1)","v":{"$error":"#VALUE!"}},{"$f":"COUNTIF(IF(ISERROR(INDIRECT(\"'B&U_\"&A287&\"'!$H$97\",TRUE)),\"\",INDIRECT(\"'B&U_\"&A287&\"'!$H$97\",TRUE)),1)","v":{"$error":"#VALUE!"}},{"$f":"COUNTIF(IF(ISERROR(INDIRECT(\"'B&U_\"&A287&\"'!$H$128\",TRUE)),\"\",INDIRECT(\"'B&U_\"&A287&\"'!$H$128\",TRUE)),1)","v":{"$error":"#VALUE!"}},{"$f":"COUNTIF(IF(ISERROR(INDIRECT(\"'B&U_\"&A287&\"'!$H$160\",TRUE)),\"\",INDIRECT(\"'B&U_\"&A287&\"'!$H$160\",TRUE)),1)","v":{"$error":"#VALUE!"}},{"$f":"COUNTIF(IF(ISERROR(INDIRECT(\"'B&U_\"&A287&\"'!$H$190\",TRUE)),\"\",INDIRECT(\"'B&U_\"&A287&\"'!$H$190\",TRUE)),1)","v":{"$error":"#VALUE!"}},{"$f":"COUNTIF(IF(ISERROR(INDIRECT(\"'B&U_\"&A287&\"'!$H$199\",TRUE)),\"\",INDIRECT(\"'B&U_\"&A287&\"'!$H$199\",TRUE)),1)","v":{"$error":"#VALUE!"}}]
["Tilsyn 76","Status:  gul",null,null,null,null,null,null,null,null,{"$f":"COUNTIF(IF(ISERROR(INDIRECT(\"'B&U_\"&A288&\"'!$H$33\",TRUE)),\"\",INDIRECT(\"'B&U_\"&A288&\"'!$H$33\",TRUE)),2)","v":{"$error":"#VALUE!"}},{"$f":"COUNTIF(IF(ISERROR(INDIRECT(\"'B&U_\"&A288&\"'!$h$42\",TRUE)),\"\",INDIRECT(\"'B&U_\"&A288&\"'!$h$42\",TRUE)),2)","v":{"$error":"#VALUE!"}},{"$f":"COUNTIF(IF(ISERROR(INDIRECT(\"'B&U_\"&A288&\"'!$H$66\",TRUE)),\"\",INDIRECT(\"'B&U_\"&A288&\"'!$H$66\",TRUE)),2)","v":{"$error":"#VALUE!"}},{"$f":"COUNTIF(IF(ISERROR(INDIRECT(\"'B&U_\"&A288&\"'!$H$97\",TRUE)),\"\",INDIRECT(\"'B&U_\"&A288&\"'!$H$97\",TRUE)),2)","v":{"$error":"#VALUE!"}},{"$f":"COUNTIF(IF(ISERROR(INDIRECT(\"'B&U_\"&A288&\"'!$H$128\",TRUE)),\"\",INDIRECT(\"'B&U_\"&A288&\"'!$H$128\",TRUE)),2)","v":{"$error":"#VALUE!"}},{"$f":"COUNTIF(IF(ISERROR(INDIRECT(\"'B&U_\"&A288&\"'!$H$160\",TRUE)),\"\",INDIRECT(\"'B&U_\"&A288&\"'!$H$160\",TRUE)),2)","v":{"$error":"#VALUE!"}},{"$f":"COUNTIF(IF(ISERROR(INDIRECT(\"'B&U_\"&A288&\"'!$H$190\",TRUE)),\"\",INDIRECT(\"'B&U_\"&A288&\"'!$H$190\",TRUE)),2)","v":{"$error":"#VALUE!"}},{"$f":"COUNTIF(IF(ISERROR(INDIRECT(\"'B&U_\"&A288&\"'!$H$199\",TRUE)),\"\",INDIRECT(\"'B&U_\"&A288&\"'!$H$199\",TRUE)),2)","v":{"$error":"#VALUE!"}}]
["Tilsyn 76","Status:  rød",null,null,null,null,null,null,null,null,{"$f":"COUNTIF(IF(ISERROR(INDIRECT(\"'B&U_\"&A289&\"'!$H$33\",TRUE)),\"\",INDIRECT(\"'B&U_\"&A289&\"'!$H$33\",TRUE)),3)","v":{"$error":"#VALUE!"}},{"$f":"COUNTIF(IF(ISERROR(INDIRECT(\"'B&U_\"&A289&\"'!$h$42\",TRUE)),\"\",INDIRECT(\"'B&U_\"&A289&\"'!$h$42\",TRUE)),3)","v":{"$error":"#VALUE!"}},{"$f":"COUNTIF(IF(ISERROR(INDIRECT(\"'B&U_\"&A289&\"'!$H$66\",TRUE)),\"\",INDIRECT(\"'B&U_\"&A289&\"'!$H$66\",TRUE)),3)","v":{"$error":"#VALUE!"}},{"$f":"COUNTIF(IF(ISERROR(INDIRECT(\"'B&U_\"&A289&\"'!$H$97\",TRUE)),\"\",INDIRECT(\"'B&U_\"&A289&\"'!$H$97\",TRUE)),3)","v":{"$error":"#VALUE!"}},{"$f":"COUNTIF(IF(ISERROR(INDIRECT(\"'B&U_\"&A289&\"'!$H$128\",TRUE)),\"\",INDIRECT(\"'B&U_\"&A289&\"'!$H$128\",TRUE)),3)","v":{"$error":"#VALUE!"}},{"$f":"COUNTIF(IF(ISERROR(INDIRECT(\"'B&U_\"&A289&\"'!$H$160\",TRUE)),\"\",INDIRECT(\"'B&U_\"&A289&\"'!$H$160\",TRUE)),3)","v":{"$error":"#VALUE!"}},{"$f":"COUNTIF(IF(ISERROR(INDIRECT(\"'B&U_\"&A289&\"'!$H$190\",TRUE)),\"\",INDIRECT(\"'B&U_\"&A289&\"'!$H$190\",TRUE)),3)","v":{"$error":"#VALUE!"}},{"$f":"COUNTIF(IF(ISERROR(INDIRECT(\"'B&U_\"&A289&\"'!$H$199\",TRUE)),\"\",INDIRECT(\"'B&U_\"&A289&\"'!$H$199\",TRUE)),3)","v":{"$error":"#VALUE!"}}]
["Tilsyn 77","Status:  grøn",null,null,null,null,null,null,null,null,{"$f":"COUNTIF(IF(ISERROR(INDIRECT(\"'B&U_\"&A290&\"'!$H$33\",TRUE)),\"\",INDIRECT(\"'B&U_\"&A290&\"'!$H$33\",TRUE)),1)","v":{"$error":"#VALUE!"}},{"$f":"COUNTIF(IF(ISERROR(INDIRECT(\"'B&U_\"&A290&\"'!$h$42\",TRUE)),\"\",INDIRECT(\"'B&U_\"&A290&\"'!$h$42\",TRUE)),1)","v":{"$error":"#VALUE!"}},{"$f":"COUNTIF(IF(ISERROR(INDIRECT(\"'B&U_\"&A290&\"'!$H$66\",TRUE)),\"\",INDIRECT(\"'B&U_\"&A290&\"'!$H$66\",TRUE)),1)","v":{"$error":"#VALUE!"}},{"$f":"COUNTIF(IF(ISERROR(INDIRECT(\"'B&U_\"&A290&\"'!$H$97\",TRUE)),\"\",INDIRECT(\"'B&U_\"&A290&\"'!$H$97\",TRUE)),1)","v":{"$error":"#VALUE!"}},{"$f":"COUNTIF(IF(ISERROR(INDIRECT(\"'B&U_\"&A290&\"'!$H$128\",TRUE)),\"\",INDIRECT(\"'B&U_\"&A290&\"'!$H$128\",TRUE)),1)","v":{"$error":"#VALUE!"}},{"$f":"COUNTIF(IF(ISERROR(INDIRECT(\"'B&U_\"&A290&\"'!$H$160\",TRUE)),\"\",INDIRECT(\"'B&U_\"&A290&\"'!$H$160\",TRUE)),1)","v":{"$error":"#VALUE!"}},{"$f":"COUNTIF(IF(ISERROR(INDIRECT(\"'B&U_\"&A290&\"'!$H$190\",TRUE)),\"\",INDIRECT(\"'B&U_\"&A290&\"'!$H$190\",TRUE)),1)","v":{"$error":"#VALUE!"}},{"$f":"COUNTIF(IF(ISERROR(INDIRECT(\"'B&U_\"&A290&\"'!$H$199\",TRUE)),\"\",INDIRECT(\"'B&U_\"&A290&\"'!$H$199\",TRUE)),1)","v":{"$error":"#VALUE!"}}]
["Tilsyn 77","Status:  gul",null,null,null,null,null,null,null,null,{"$f":"COUNTIF(IF(ISERROR(INDIRECT(\"'B&U_\"&A291&\"'!$H$33\",TRUE)),\"\",INDIRECT(\"'B&U_\"&A291&\"'!$H$33\",TRUE)),2)","v":{"$error":"#VALUE!"}},{"$f":"COUNTIF(IF(ISERROR(INDIRECT(\"'B&U_\"&A291&\"'!$h$42\",TRUE)),\"\",INDIRECT(\"'B&U_\"&A291&\"'!$h$42\",TRUE)),2)","v":{"$error":"#VALUE!"}},{"$f":"COUNTIF(IF(ISERROR(INDIRECT(\"'B&U_\"&A291&\"'!$H$66\",TRUE)),\"\",INDIRECT(\"'B&U_\"&A291&\"'!$H$66\",TRUE)),2)","v":{"$error":"#VALUE!"}},{"$f":"COUNTIF(IF(ISERROR(INDIRECT(\"'B&U_\"&A291&\"'!$H$97\",TRUE)),\"\",INDIRECT(\"'B&U_\"&A291&\"'!$H$97\",TRUE)),2)","v":{"$error":"#VALUE!"}},{"$f":"COUNTIF(IF(ISERROR(INDIRECT(\"'B&U_\"&A291&\"'!$H$128\",TRUE)),\"\",INDIRECT(\"'B&U_\"&A291&\"'!$H$128\",TRUE)),2)","v":{"$error":"#VALUE!"}},{"$f":"COUNTIF(IF(ISERROR(INDIRECT(\"'B&U_\"&A291&\"'!$H$160\",TRUE)),\"\",INDIRECT(\"'B&U_\"&A291&\"'!$H$160\",TRUE)),2)","v":{"$error":"#VALUE!"}},{"$f":"COUNTIF(IF(ISERROR(INDIRECT(\"'B&U_\"&A291&\"'!$H$190\",TRUE)),\"\",INDIRECT(\"'B&U_\"&A291&\"'!$H$190\",TRUE)),2)","v":{"$error":"#VALUE!"}},{"$f":"COUNTIF(IF(ISERROR(INDIRECT(\"'B&U_\"&A291&\"'!$H$199\",TRUE)),\"\",INDIRECT(\"'B&U_\"&A291&\"'!$H$199\",TRUE)),2)","v":{"$error":"#VALUE!"}}]
["Tilsyn 77","Status:  rød",null,null,null,null,null,null,null,null,{"$f":"COUNTIF(IF(ISERROR(INDIRECT(\"'B&U_\"&A292&\"'!$H$33\",TRUE)),\"\",INDIRECT(\"'B&U_\"&A292&\"'!$H$33\",TRUE)),3)","v":{"$error":"#VALUE!"}},{"$f":"COUNTIF(IF(ISERROR(INDIRECT(\"'B&U_\"&A292&\"'!$h$42\",TRUE)),\"\",INDIRECT(\"'B&U_\"&A292&\"'!$h$42\",TRUE)),3)","v":{"$error":"#VALUE!"}},{"$f":"COUNTIF(IF(ISERROR(INDIRECT(\"'B&U_\"&A292&\"'!$H$66\",TRUE)),\"\",INDIRECT(\"'B&U_\"&A292&\"'!$H$66\",TRUE)),3)","v":{"$error":"#VALUE!"}},{"$f":"COUNTIF(IF(ISERROR(INDIRECT(\"'B&U_\"&A292&\"'!$H$97\",TRUE)),\"\",INDIRECT(\"'B&U_\"&A292&\"'!$H$97\",TRUE)),3)","v":{"$error":"#VALUE!"}},{"$f":"COUNTIF(IF(ISERROR(INDIRECT(\"'B&U_\"&A292&\"'!$H$128\",TRUE)),\"\",INDIRECT(\"'B&U_\"&A292&\"'!$H$128\",TRUE)),3)","v":{"$error":"#VALUE!"}},{"$f":"COUNTIF(IF(ISERROR(INDIRECT(\"'B&U_\"&A292&\"'!$H$160\",TRUE)),\"\",INDIRECT(\"'B&U_\"&A292&\"'!$H$160\",TRUE)),3)","v":{"$error":"#VALUE!"}},{"$f":"COUNTIF(IF(ISERROR(INDIRECT(\"'B&U_\"&A292&\"'!$H$190\",TRUE)),\"\",INDIRECT(\"'B&U_\"&A292&\"'!$H$190\",TRUE)),3)","v":{"$error":"#VALUE!"}},{"$f":"COUNTIF(IF(ISERROR(INDIRECT(\"'B&U_\"&A292&\"'!$H$199\",TRUE)),\"\",INDIRECT(\"'B&U_\"&A292&\"'!$H$199\",TRUE)),3)","v":{"$error":"#VALUE!"}}]
["Tilsyn 78","Status:  grøn",null,null,null,null,null,null,null,null,{"$f":"COUNTIF(IF(ISERROR(INDIRECT(\"'B&U_\"&A293&\"'!$H$33\",TRUE)),\"\",INDIRECT(\"'B&U_\"&A293&\"'!$H$33\",TRUE)),1)","v":{"$error":"#VALUE!"}},{"$f":"COUNTIF(IF(ISERROR(INDIRECT(\"'B&U_\"&A293&\"'!$h$42\",TRUE)),\"\",INDIRECT(\"'B&U_\"&A293&\"'!$h$42\",TRUE)),1)","v":{"$error":"#VALUE!"}},{"$f":"COUNTIF(IF(ISERROR(INDIRECT(\"'B&U_\"&A293&\"'!$H$66\",TRUE)),\"\",INDIRECT(\"'B&U_\"&A293&\"'!$H$66\",TRUE)),1)","v":{"$error":"#VALUE!"}},{"$f":"COUNTIF(IF(ISERROR(INDIRECT(\"'B&U_\"&A293&\"'!$H$97\",TRUE)),\"\",INDIRECT(\"'B&U_\"&A293&\"'!$H$97\",TRUE)),1)","v":{"$error":"#VALUE!"}},{"$f":"COUNTIF(IF(ISERROR(INDIRECT(\"'B&U_\"&A293&\"'!$H$128\",TRUE)),\"\",INDIRECT(\"'B&U_\"&A293&\"'!$H$128\",TRUE)),1)","v":{"$error":"#VALUE!"}},{"$f":"COUNTIF(IF(ISERROR(INDIRECT(\"'B&U_\"&A293&\"'!$H$160\",TRUE)),\"\",INDIRECT(\"'B&U_\"&A293&\"'!$H$160\",TRUE)),1)","v":{"$error":"#VALUE!"}},{"$f":"COUNTIF(IF(ISERROR(INDIRECT(\"'B&U_\"&A293&\"'!$H$190\",TRUE)),\"\",INDIRECT(\"'B&U_\"&A293&\"'!$H$190\",TRUE)),1)","v":{"$error":"#VALUE!"}},{"$f":"COUNTIF(IF(ISERROR(INDIRECT(\"'B&U_\"&A293&\"'!$H$199\",TRUE)),\"\",INDIRECT(\"'B&U_\"&A293&\"'!$H$199\",TRUE)),1)","v":{"$error":"#VALUE!"}}]
["Tilsyn 78","Status:  gul",null,null,null,null,null,null,null,null,{"$f":"COUNTIF(IF(ISERROR(INDIRECT(\"'B&U_\"&A294&\"'!$H$33\",TRUE)),\"\",INDIRECT(\"'B&U_\"&A294&\"'!$H$33\",TRUE)),2)","v":{"$error":"#VALUE!"}},{"$f":"COUNTIF(IF(ISERROR(INDIRECT(\"'B&U_\"&A294&\"'!$h$42\",TRUE)),\"\",INDIRECT(\"'B&U_\"&A294&\"'!$h$42\",TRUE)),2)","v":{"$error":"#VALUE!"}},{"$f":"COUNTIF(IF(ISERROR(INDIRECT(\"'B&U_\"&A294&\"'!$H$66\",TRUE)),\"\",INDIRECT(\"'B&U_\"&A294&\"'!$H$66\",TRUE)),2)","v":{"$error":"#VALUE!"}},{"$f":"COUNTIF(IF(ISERROR(INDIRECT(\"'B&U_\"&A294&\"'!$H$97\",TRUE)),\"\",INDIRECT(\"'B&U_\"&A294&\"'!$H$97\",TRUE)),2)","v":{"$error":"#VALUE!"}},{"$f":"COUNTIF(IF(ISERROR(INDIRECT(\"'B&U_\"&A294&\"'!$H$128\",TRUE)),\"\",INDIRECT(\"'B&U_\"&A294&\"'!$H$128\",TRUE)),2)","v":{"$error":"#VALUE!"}},{"$f":"COUNTIF(IF(ISERROR(INDIRECT(\"'B&U_\"&A294&\"'!$H$160\",TRUE)),\"\",INDIRECT(\"'B&U_\"&A294&\"'!$H$160\",TRUE)),2)","v":{"$error":"#VALUE!"}},{"$f":"COUNTIF(IF(ISERROR(INDIRECT(\"'B&U_\"&A294&\"'!$H$190\",TRUE)),\"\",INDIRECT(\"'B&U_\"&A294&\"'!$H$190\",TRUE)),2)","v":{"$error":"#VALUE!"}},{"$f":"COUNTIF(IF(ISERROR(INDIRECT(\"'B&U_\"&A294&\"'!$H$199\",TRUE)),\"\",INDIRECT(\"'B&U_\"&A294&\"'!$H$199\",TRUE)),2)","v":{"$error":"#VALUE!"}}]
["Tilsyn 78","Status:  rød",null,null,null,null,null,null,null,null,{"$f":"COUNTIF(IF(ISERROR(INDIRECT(\"'B&U_\"&A295&\"'!$H$33\",TRUE)),\"\",INDIRECT(\"'B&U_\"&A295&\"'!$H$33\",TRUE)),3)","v":{"$error":"#VALUE!"}},{"$f":"COUNTIF(IF(ISERROR(INDIRECT(\"'B&U_\"&A295&\"'!$h$42\",TRUE)),\"\",INDIRECT(\"'B&U_\"&A295&\"'!$h$42\",TRUE)),3)","v":{"$error":"#VALUE!"}},{"$f":"COUNTIF(IF(ISERROR(INDIRECT(\"'B&U_\"&A295&\"'!$H$66\",TRUE)),\"\",INDIRECT(\"'B&U_\"&A295&\"'!$H$66\",TRUE)),3)","v":{"$error":"#VALUE!"}},{"$f":"COUNTIF(IF(ISERROR(INDIRECT(\"'B&U_\"&A295&\"'!$H$97\",TRUE)),\"\",INDIRECT(\"'B&U_\"&A295&\"'!$H$97\",TRUE)),3)","v":{"$error":"#VALUE!"}},{"$f":"COUNTIF(IF(ISERROR(INDIRECT(\"'B&U_\"&A295&\"'!$H$128\",TRUE)),\"\",INDIRECT(\"'B&U_\"&A295&\"'!$H$128\",TRUE)),3)","v":{"$error":"#VALUE!"}},{"$f":"COUNTIF(IF(ISERROR(INDIRECT(\"'B&U_\"&A295&\"'!$H$160\",TRUE)),\"\",INDIRECT(\"'B&U_\"&A295&\"'!$H$160\",TRUE)),3)","v":{"$error":"#VALUE!"}},{"$f":"COUNTIF(IF(ISERROR(INDIRECT(\"'B&U_\"&A295&\"'!$H$190\",TRUE)),\"\",INDIRECT(\"'B&U_\"&A295&\"'!$H$190\",TRUE)),3)","v":{"$error":"#VALUE!"}},{"$f":"COUNTIF(IF(ISERROR(INDIRECT(\"'B&U_\"&A295&\"'!$H$199\",TRUE)),\"\",INDIRECT(\"'B&U_\"&A295&\"'!$H$199\",TRUE)),3)","v":{"$error":"#VALUE!"}}]
["Tilsyn 79","Status:  grøn",null,null,null,null,null,null,null,null,{"$f":"COUNTIF(IF(ISERROR(INDIRECT(\"'B&U_\"&A296&\"'!$H$33\",TRUE)),\"\",INDIRECT(\"'B&U_\"&A296&\"'!$H$33\",TRUE)),1)","v":{"$error":"#VALUE!"}},{"$f":"COUNTIF(IF(ISERROR(INDIRECT(\"'B&U_\"&A296&\"'!$h$42\",TRUE)),\"\",INDIRECT(\"'B&U_\"&A296&\"'!$h$42\",TRUE)),1)","v":{"$error":"#VALUE!"}},{"$f":"COUNTIF(IF(ISERROR(INDIRECT(\"'B&U_\"&A296&\"'!$H$66\",TRUE)),\"\",INDIRECT(\"'B&U_\"&A296&\"'!$H$66\",TRUE)),1)","v":{"$error":"#VALUE!"}},{"$f":"COUNTIF(IF(ISERROR(INDIRECT(\"'B&U_\"&A296&\"'!$H$97\",TRUE)),\"\",INDIRECT(\"'B&U_\"&A296&\"'!$H$97\",TRUE)),1)","v":{"$error":"#VALUE!"}},{"$f":"COUNTIF(IF(ISERROR(INDIRECT(\"'B&U_\"&A296&\"'!$H$128\",TRUE)),\"\",INDIRECT(\"'B&U_\"&A296&\"'!$H$128\",TRUE)),1)","v":{"$error":"#VALUE!"}},{"$f":"COUNTIF(IF(ISERROR(INDIRECT(\"'B&U_\"&A296&\"'!$H$160\",TRUE)),\"\",INDIRECT(\"'B&U_\"&A296&\"'!$H$160\",TRUE)),1)","v":{"$error":"#VALUE!"}},{"$f":"COUNTIF(IF(ISERROR(INDIRECT(\"'B&U_\"&A296&\"'!$H$190\",TRUE)),\"\",INDIRECT(\"'B&U_\"&A296&\"'!$H$190\",TRUE)),1)","v":{"$error":"#VALUE!"}},{"$f":"COUNTIF(IF(ISERROR(INDIRECT(\"'B&U_\"&A296&\"'!$H$199\",TRUE)),\"\",INDIRECT(\"'B&U_\"&A296&\"'!$H$199\",TRUE)),1)","v":{"$error":"#VALUE!"}}]
["Tilsyn 79","Status:  gul",null,null,null,null,null,null,null,null,{"$f":"COUNTIF(IF(ISERROR(INDIRECT(\"'B&U_\"&A297&\"'!$H$33\",TRUE)),\"\",INDIRECT(\"'B&U_\"&A297&\"'!$H$33\",TRUE)),2)","v":{"$error":"#VALUE!"}},{"$f":"COUNTIF(IF(ISERROR(INDIRECT(\"'B&U_\"&A297&\"'!$h$42\",TRUE)),\"\",INDIRECT(\"'B&U_\"&A297&\"'!$h$42\",TRUE)),2)","v":{"$error":"#VALUE!"}},{"$f":"COUNTIF(IF(ISERROR(INDIRECT(\"'B&U_\"&A297&\"'!$H$66\",TRUE)),\"\",INDIRECT(\"'B&U_\"&A297&\"'!$H$66\",TRUE)),2)","v":{"$error":"#VALUE!"}},{"$f":"COUNTIF(IF(ISERROR(INDIRECT(\"'B&U_\"&A297&\"'!$H$97\",TRUE)),\"\",INDIRECT(\"'B&U_\"&A297&\"'!$H$97\",TRUE)),2)","v":{"$error":"#VALUE!"}},{"$f":"COUNTIF(IF(ISERROR(INDIRECT(\"'B&U_\"&A297&\"'!$H$128\",TRUE)),\"\",INDIRECT(\"'B&U_\"&A297&\"'!$H$128\",TRUE)),2)","v":{"$error":"#VALUE!"}},{"$f":"COUNTIF(IF(ISERROR(INDIRECT(\"'B&U_\"&A297&\"'!$H$160\",TRUE)),\"\",INDIRECT(\"'B&U_\"&A297&\"'!$H$160\",TRUE)),2)","v":{"$error":"#VALUE!"}},{"$f":"COUNTIF(IF(ISERROR(INDIRECT(\"'B&U_\"&A297&\"'!$H$190\",TRUE)),\"\",INDIRECT(\"'B&U_\"&A297&\"'!$H$190\",TRUE)),2)","v":{"$error":"#VALUE!"}},{"$f":"COUNTIF(IF(ISERROR(INDIRECT(\"'B&U_\"&A297&\"'!$H$199\",TRUE)),\"\",INDIRECT(\"'B&U_\"&A297&\"'!$H$199\",TRUE)),2)","v":{"$error":"#VALUE!"}}]
["Tilsyn 79","Status:  rød",null,null,null,null,null,null,null,null,{"$f":"COUNTIF(IF(ISERROR(INDIRECT(\"'B&U_\"&A298&\"'!$H$33\",TRUE)),\"\",INDIRECT(\"'B&U_\"&A298&\"'!$H$33\",TRUE)),3)","v":{"$error":"#VALUE!"}},{"$f":"COUNTIF(IF(ISERROR(INDIRECT(\"'B&U_\"&A298&\"'!$h$42\",TRUE)),\"\",INDIRECT(\"'B&U_\"&A298&\"'!$h$42\",TRUE)),3)","v":{"$error":"#VALUE!"}},{"$f":"COUNTIF(IF(ISERROR(INDIRECT(\"'B&U_\"&A298&\"'!$H$66\",TRUE)),\"\",INDIRECT(\"'B&U_\"&A298&\"'!$H$66\",TRUE)),3)","v":{"$error":"#VALUE!"}},{"$f":"COUNTIF(IF(ISERROR(INDIRECT(\"'B&U_\"&A298&\"'!$H$97\",TRUE)),\"\",INDIRECT(\"'B&U_\"&A298&\"'!$H$97\",TRUE)),3)","v":{"$error":"#VALUE!"}},{"$f":"COUNTIF(IF(ISERROR(INDIRECT(\"'B&U_\"&A298&\"'!$H$128\",TRUE)),\"\",INDIRECT(\"'B&U_\"&A298&\"'!$H$128\",TRUE)),3)","v":{"$error":"#VALUE!"}},{"$f":"COUNTIF(IF(ISERROR(INDIRECT(\"'B&U_\"&A298&\"'!$H$160\",TRUE)),\"\",INDIRECT(\"'B&U_\"&A298&\"'!$H$160\",TRUE)),3)","v":{"$error":"#VALUE!"}},{"$f":"COUNTIF(IF(ISERROR(INDIRECT(\"'B&U_\"&A298&\"'!$H$190\",TRUE)),\"\",INDIRECT(\"'B&U_\"&A298&\"'!$H$190\",TRUE)),3)","v":{"$error":"#VALUE!"}},{"$f":"COUNTIF(IF(ISERROR(INDIRECT(\"'B&U_\"&A298&\"'!$H$199\",TRUE)),\"\",INDIRECT(\"'B&U_\"&A298&\"'!$H$199\",TRUE)),3)","v":{"$error":"#VALUE!"}}]
["Tilsyn 80","Status:  grøn",null,null,null,null,null,null,null,null,{"$f":"COUNTIF(IF(ISERROR(INDIRECT(\"'B&U_\"&A299&\"'!$H$33\",TRUE)),\"\",INDIRECT(\"'B&U_\"&A299&\"'!$H$33\",TRUE)),1)","v":{"$error":"#VALUE!"}},{"$f":"COUNTIF(IF(ISERROR(INDIRECT(\"'B&U_\"&A299&\"'!$h$42\",TRUE)),\"\",INDIRECT(\"'B&U_\"&A299&\"'!$h$42\",TRUE)),1)","v":{"$error":"#VALUE!"}},{"$f":"COUNTIF(IF(ISERROR(INDIRECT(\"'B&U_\"&A299&\"'!$H$66\",TRUE)),\"\",INDIRECT(\"'B&U_\"&A299&\"'!$H$66\",TRUE)),1)","v":{"$error":"#VALUE!"}},{"$f":"COUNTIF(IF(ISERROR(INDIRECT(\"'B&U_\"&A299&\"'!$H$97\",TRUE)),\"\",INDIRECT(\"'B&U_\"&A299&\"'!$H$97\",TRUE)),1)","v":{"$error":"#VALUE!"}},{"$f":"COUNTIF(IF(ISERROR(INDIRECT(\"'B&U_\"&A299&\"'!$H$128\",TRUE)),\"\",INDIRECT(\"'B&U_\"&A299&\"'!$H$128\",TRUE)),1)","v":{"$error":"#VALUE!"}},{"$f":"COUNTIF(IF(ISERROR(INDIRECT(\"'B&U_\"&A299&\"'!$H$160\",TRUE)),\"\",INDIRECT(\"'B&U_\"&A299&\"'!$H$160\",TRUE)),1)","v":{"$error":"#VALUE!"}},{"$f":"COUNTIF(IF(ISERROR(INDIRECT(\"'B&U_\"&A299&\"'!$H$190\",TRUE)),\"\",INDIRECT(\"'B&U_\"&A299&\"'!$H$190\",TRUE)),1)","v":{"$error":"#VALUE!"}},{"$f":"COUNTIF(IF(ISERROR(INDIRECT(\"'B&U_\"&A299&\"'!$H$199\",TRUE)),\"\",INDIRECT(\"'B&U_\"&A299&\"'!$H$199\",TRUE)),1)","v":{"$error":"#VALUE!"}}]
["Tilsyn 80","Status:  gul",null,null,null,null,null,null,null,null,{"$f":"COUNTIF(IF(ISERROR(INDIRECT(\"'B&U_\"&A300&\"'!$H$33\",TRUE)),\"\",INDIRECT(\"'B&U_\"&A300&\"'!$H$33\",TRUE)),2)","v":{"$error":"#VALUE!"}},{"$f":"COUNTIF(IF(ISERROR(INDIRECT(\"'B&U_\"&A300&\"'!$h$42\",TRUE)),\"\",INDIRECT(\"'B&U_\"&A300&\"'!$h$42\",TRUE)),2)","v":{"$error":"#VALUE!"}},{"$f":"COUNTIF(IF(ISERROR(INDIRECT(\"'B&U_\"&A300&\"'!$H$66\",TRUE)),\"\",INDIRECT(\"'B&U_\"&A300&\"'!$H$66\",TRUE)),2)","v":{"$error":"#VALUE!"}},{"$f":"COUNTIF(IF(ISERROR(INDIRECT(\"'B&U_\"&A300&\"'!$H$97\",TRUE)),\"\",INDIRECT(\"'B&U_\"&A300&\"'!$H$97\",TRUE)),2)","v":{"$error":"#VALUE!"}},{"$f":"COUNTIF(IF(ISERROR(INDIRECT(\"'B&U_\"&A300&\"'!$H$128\",TRUE)),\"\",INDIRECT(\"'B&U_\"&A300&\"'!$H$128\",TRUE)),2)","v":{"$error":"#VALUE!"}},{"$f":"COUNTIF(IF(ISERROR(INDIRECT(\"'B&U_\"&A300&\"'!$H$160\",TRUE)),\"\",INDIRECT(\"'B&U_\"&A300&\"'!$H$160\",TRUE)),2)","v":{"$error":"#VALUE!"}},{"$f":"COUNTIF(IF(ISERROR(INDIRECT(\"'B&U_\"&A300&\"'!$H$190\",TRUE)),\"\",INDIRECT(\"'B&U_\"&A300&\"'!$H$190\",TRUE)),2)","v":{"$error":"#VALUE!"}},{"$f":"COUNTIF(IF(ISERROR(INDIRECT(\"'B&U_\"&A300&\"'!$H$199\",TRUE)),\"\",INDIRECT(\"'B&U_\"&A300&\"'!$H$199\",TRUE)),2)","v":{"$error":"#VALUE!"}}]
["Tilsyn 80","Status:  rød",null,null,null,null,null,null,null,null,{"$f":"COUNTIF(IF(ISERROR(INDIRECT(\"'B&U_\"&A301&\"'!$H$33\",TRUE)),\"\",INDIRECT(\"'B&U_\"&A301&\"'!$H$33\",TRUE)),3)","v":{"$error":"#VALUE!"}},{"$f":"COUNTIF(IF(ISERROR(INDIRECT(\"'B&U_\"&A301&\"'!$h$42\",TRUE)),\"\",INDIRECT(\"'B&U_\"&A301&\"'!$h$42\",TRUE)),3)","v":{"$error":"#VALUE!"}},{"$f":"COUNTIF(IF(ISERROR(INDIRECT(\"'B&U_\"&A301&\"'!$H$66\",TRUE)),\"\",INDIRECT(\"'B&U_\"&A301&\"'!$H$66\",TRUE)),3)","v":{"$error":"#VALUE!"}},{"$f":"COUNTIF(IF(ISERROR(INDIRECT(\"'B&U_\"&A301&\"'!$H$97\",TRUE)),\"\",INDIRECT(\"'B&U_\"&A301&\"'!$H$97\",TRUE)),3)","v":{"$error":"#VALUE!"}},{"$f":"COUNTIF(IF(ISERROR(INDIRECT(\"'B&U_\"&A301&\"'!$H$128\",TRUE)),\"\",INDIRECT(\"'B&U_\"&A301&\"'!$H$128\",TRUE)),3)","v":{"$error":"#VALUE!"}},{"$f":"COUNTIF(IF(ISERROR(INDIRECT(\"'B&U_\"&A301&\"'!$H$160\",TRUE)),\"\",INDIRECT(\"'B&U_\"&A301&\"'!$H$160\",TRUE)),3)","v":{"$error":"#VALUE!"}},{"$f":"COUNTIF(IF(ISERROR(INDIRECT(\"'B&U_\"&A301&\"'!$H$190\",TRUE)),\"\",INDIRECT(\"'B&U_\"&A301&\"'!$H$190\",TRUE)),3)","v":{"$error":"#VALUE!"}},{"$f":"COUNTIF(IF(ISERROR(INDIRECT(\"'B&U_\"&A301&\"'!$H$199\",TRUE)),\"\",INDIRECT(\"'B&U_\"&A301&\"'!$H$199\",TRUE)),3)","v":{"$error":"#VALUE!"}}]
["Tilsyn 81","Status:  grøn",null,null,null,null,null,null,null,null,{"$f":"COUNTIF(IF(ISERROR(INDIRECT(\"'B&U_\"&A302&\"'!$H$33\",TRUE)),\"\",INDIRECT(\"'B&U_\"&A302&\"'!$H$33\",TRUE)),1)","v":{"$error":"#VALUE!"}},{"$f":"COUNTIF(IF(ISERROR(INDIRECT(\"'B&U_\"&A302&\"'!$h$42\",TRUE)),\"\",INDIRECT(\"'B&U_\"&A302&\"'!$h$42\",TRUE)),1)","v":{"$error":"#VALUE!"}},{"$f":"COUNTIF(IF(ISERROR(INDIRECT(\"'B&U_\"&A302&\"'!$H$66\",TRUE)),\"\",INDIRECT(\"'B&U_\"&A302&\"'!$H$66\",TRUE)),1)","v":{"$error":"#VALUE!"}},{"$f":"COUNTIF(IF(ISERROR(INDIRECT(\"'B&U_\"&A302&\"'!$H$97\",TRUE)),\"\",INDIRECT(\"'B&U_\"&A302&\"'!$H$97\",TRUE)),1)","v":{"$error":"#VALUE!"}},{"$f":"COUNTIF(IF(ISERROR(INDIRECT(\"'B&U_\"&A302&\"'!$H$128\",TRUE)),\"\",INDIRECT(\"'B&U_\"&A302&\"'!$H$128\",TRUE)),1)","v":{"$error":"#VALUE!"}},{"$f":"COUNTIF(IF(ISERROR(INDIRECT(\"'B&U_\"&A302&\"'!$H$160\",TRUE)),\"\",INDIRECT(\"'B&U_\"&A302&\"'!$H$160\",TRUE)),1)","v":{"$error":"#VALUE!"}},{"$f":"COUNTIF(IF(ISERROR(INDIRECT(\"'B&U_\"&A302&\"'!$H$190\",TRUE)),\"\",INDIRECT(\"'B&U_\"&A302&\"'!$H$190\",TRUE)),1)","v":{"$error":"#VALUE!"}},{"$f":"COUNTIF(IF(ISERROR(INDIRECT(\"'B&U_\"&A302&\"'!$H$199\",TRUE)),\"\",INDIRECT(\"'B&U_\"&A302&\"'!$H$199\",TRUE)),1)","v":{"$error":"#VALUE!"}}]
["Tilsyn 81","Status:  gul",null,null,null,null,null,null,null,null,{"$f":"COUNTIF(IF(ISERROR(INDIRECT(\"'B&U_\"&A303&\"'!$H$33\",TRUE)),\"\",INDIRECT(\"'B&U_\"&A303&\"'!$H$33\",TRUE)),2)","v":{"$error":"#VALUE!"}},{"$f":"COUNTIF(IF(ISERROR(INDIRECT(\"'B&U_\"&A303&\"'!$h$42\",TRUE)),\"\",INDIRECT(\"'B&U_\"&A303&\"'!$h$42\",TRUE)),2)","v":{"$error":"#VALUE!"}},{"$f":"COUNTIF(IF(ISERROR(INDIRECT(\"'B&U_\"&A303&\"'!$H$66\",TRUE)),\"\",INDIRECT(\"'B&U_\"&A303&\"'!$H$66\",TRUE)),2)","v":{"$error":"#VALUE!"}},{"$f":"COUNTIF(IF(ISERROR(INDIRECT(\"'B&U_\"&A303&\"'!$H$97\",TRUE)),\"\",INDIRECT(\"'B&U_\"&A303&\"'!$H$97\",TRUE)),2)","v":{"$error":"#VALUE!"}},{"$f":"COUNTIF(IF(ISERROR(INDIRECT(\"'B&U_\"&A303&\"'!$H$128\",TRUE)),\"\",INDIRECT(\"'B&U_\"&A303&\"'!$H$128\",TRUE)),2)","v":{"$error":"#VALUE!"}},{"$f":"COUNTIF(IF(ISERROR(INDIRECT(\"'B&U_\"&A303&\"'!$H$160\",TRUE)),\"\",INDIRECT(\"'B&U_\"&A303&\"'!$H$160\",TRUE)),2)","v":{"$error":"#VALUE!"}},{"$f":"COUNTIF(IF(ISERROR(INDIRECT(\"'B&U_\"&A303&\"'!$H$190\",TRUE)),\"\",INDIRECT(\"'B&U_\"&A303&\"'!$H$190\",TRUE)),2)","v":{"$error":"#VALUE!"}},{"$f":"COUNTIF(IF(ISERROR(INDIRECT(\"'B&U_\"&A303&\"'!$H$199\",TRUE)),\"\",INDIRECT(\"'B&U_\"&A303&\"'!$H$199\",TRUE)),2)","v":{"$error":"#VALUE!"}}]
["Tilsyn 81","Status:  rød",null,null,null,null,null,null,null,null,{"$f":"COUNTIF(IF(ISERROR(INDIRECT(\"'B&U_\"&A304&\"'!$H$33\",TRUE)),\"\",INDIRECT(\"'B&U_\"&A304&\"'!$H$33\",TRUE)),3)","v":{"$error":"#VALUE!"}},{"$f":"COUNTIF(IF(ISERROR(INDIRECT(\"'B&U_\"&A304&\"'!$h$42\",TRUE)),\"\",INDIRECT(\"'B&U_\"&A304&\"'!$h$42\",TRUE)),3)","v":{"$error":"#VALUE!"}},{"$f":"COUNTIF(IF(ISERROR(INDIRECT(\"'B&U_\"&A304&\"'!$H$66\",TRUE)),\"\",INDIRECT(\"'B&U_\"&A304&\"'!$H$66\",TRUE)),3)","v":{"$error":"#VALUE!"}},{"$f":"COUNTIF(IF(ISERROR(INDIRECT(\"'B&U_\"&A304&\"'!$H$97\",TRUE)),\"\",INDIRECT(\"'B&U_\"&A304&\"'!$H$97\",TRUE)),3)","v":{"$error":"#VALUE!"}},{"$f":"COUNTIF(IF(ISERROR(INDIRECT(\"'B&U_\"&A304&\"'!$H$128\",TRUE)),\"\",INDIRECT(\"'B&U_\"&A304&\"'!$H$128\",TRUE)),3)","v":{"$error":"#VALUE!"}},{"$f":"COUNTIF(IF(ISERROR(INDIRECT(\"'B&U_\"&A304&\"'!$H$160\",TRUE)),\"\",INDIRECT(\"'B&U_\"&A304&\"'!$H$160\",TRUE)),3)","v":{"$error":"#VALUE!"}},{"$f":"COUNTIF(IF(ISERROR(INDIRECT(\"'B&U_\"&A304&\"'!$H$190\",TRUE)),\"\",INDIRECT(\"'B&U_\"&A304&\"'!$H$190\",TRUE)),3)","v":{"$error":"#VALUE!"}},{"$f":"COUNTIF(IF(ISERROR(INDIRECT(\"'B&U_\"&A304&\"'!$H$199\",TRUE)),\"\",INDIRECT(\"'B&U_\"&A304&\"'!$H$199\",TRUE)),3)","v":{"$error":"#VALUE!"}}]
["Tilsyn 82","Status:  grøn",null,null,null,null,null,null,null,null,{"$f":"COUNTIF(IF(ISERROR(INDIRECT(\"'B&U_\"&A305&\"'!$H$33\",TRUE)),\"\",INDIRECT(\"'B&U_\"&A305&\"'!$H$33\",TRUE)),1)","v":{"$error":"#VALUE!"}},{"$f":"COUNTIF(IF(ISERROR(INDIRECT(\"'B&U_\"&A305&\"'!$h$42\",TRUE)),\"\",INDIRECT(\"'B&U_\"&A305&\"'!$h$42\",TRUE)),1)","v":{"$error":"#VALUE!"}},{"$f":"COUNTIF(IF(ISERROR(INDIRECT(\"'B&U_\"&A305&\"'!$H$66\",TRUE)),\"\",INDIRECT(\"'B&U_\"&A305&\"'!$H$66\",TRUE)),1)","v":{"$error":"#VALUE!"}},{"$f":"COUNTIF(IF(ISERROR(INDIRECT(\"'B&U_\"&A305&\"'!$H$97\",TRUE)),\"\",INDIRECT(\"'B&U_\"&A305&\"'!$H$97\",TRUE)),1)","v":{"$error":"#VALUE!"}},{"$f":"COUNTIF(IF(ISERROR(INDIRECT(\"'B&U_\"&A305&\"'!$H$128\",TRUE)),\"\",INDIRECT(\"'B&U_\"&A305&\"'!$H$128\",TRUE)),1)","v":{"$error":"#VALUE!"}},{"$f":"COUNTIF(IF(ISERROR(INDIRECT(\"'B&U_\"&A305&\"'!$H$160\",TRUE)),\"\",INDIRECT(\"'B&U_\"&A305&\"'!$H$160\",TRUE)),1)","v":{"$error":"#VALUE!"}},{"$f":"COUNTIF(IF(ISERROR(INDIRECT(\"'B&U_\"&A305&\"'!$H$190\",TRUE)),\"\",INDIRECT(\"'B&U_\"&A305&\"'!$H$190\",TRUE)),1)","v":{"$error":"#VALUE!"}},{"$f":"COUNTIF(IF(ISERROR(INDIRECT(\"'B&U_\"&A305&\"'!$H$199\",TRUE)),\"\",INDIRECT(\"'B&U_\"&A305&\"'!$H$199\",TRUE)),1)","v":{"$error":"#VALUE!"}}]
["Tilsyn 82","Status:  gul",null,null,null,null,null,null,null,null,{"$f":"COUNTIF(IF(ISERROR(INDIRECT(\"'B&U_\"&A306&\"'!$H$33\",TRUE)),\"\",INDIRECT(\"'B&U_\"&A306&\"'!$H$33\",TRUE)),2)","v":{"$error":"#VALUE!"}},{"$f":"COUNTIF(IF(ISERROR(INDIRECT(\"'B&U_\"&A306&\"'!$h$42\",TRUE)),\"\",INDIRECT(\"'B&U_\"&A306&\"'!$h$42\",TRUE)),2)","v":{"$error":"#VALUE!"}},{"$f":"COUNTIF(IF(ISERROR(INDIRECT(\"'B&U_\"&A306&\"'!$H$66\",TRUE)),\"\",INDIRECT(\"'B&U_\"&A306&\"'!$H$66\",TRUE)),2)","v":{"$error":"#VALUE!"}},{"$f":"COUNTIF(IF(ISERROR(INDIRECT(\"'B&U_\"&A306&\"'!$H$97\",TRUE)),\"\",INDIRECT(\"'B&U_\"&A306&\"'!$H$97\",TRUE)),2)","v":{"$error":"#VALUE!"}},{"$f":"COUNTIF(IF(ISERROR(INDIRECT(\"'B&U_\"&A306&\"'!$H$128\",TRUE)),\"\",INDIRECT(\"'B&U_\"&A306&\"'!$H$128\",TRUE)),2)","v":{"$error":"#VALUE!"}},{"$f":"COUNTIF(IF(ISERROR(INDIRECT(\"'B&U_\"&A306&\"'!$H$160\",TRUE)),\"\",INDIRECT(\"'B&U_\"&A306&\"'!$H$160\",TRUE)),2)","v":{"$error":"#VALUE!"}},{"$f":"COUNTIF(IF(ISERROR(INDIRECT(\"'B&U_\"&A306&\"'!$H$190\",TRUE)),\"\",INDIRECT(\"'B&U_\"&A306&\"'!$H$190\",TRUE)),2)","v":{"$error":"#VALUE!"}},{"$f":"COUNTIF(IF(ISERROR(INDIRECT(\"'B&U_\"&A306&\"'!$H$199\",TRUE)),\"\",INDIRECT(\"'B&U_\"&A306&\"'!$H$199\",TRUE)),2)","v":{"$error":"#VALUE!"}}]
["Tilsyn 82","Status:  rød",null,null,null,null,null,null,null,null,{"$f":"COUNTIF(IF(ISERROR(INDIRECT(\"'B&U_\"&A307&\"'!$H$33\",TRUE)),\"\",INDIRECT(\"'B&U_\"&A307&\"'!$H$33\",TRUE)),3)","v":{"$error":"#VALUE!"}},{"$f":"COUNTIF(IF(ISERROR(INDIRECT(\"'B&U_\"&A307&\"'!$h$42\",TRUE)),\"\",INDIRECT(\"'B&U_\"&A307&\"'!$h$42\",TRUE)),3)","v":{"$error":"#VALUE!"}},{"$f":"COUNTIF(IF(ISERROR(INDIRECT(\"'B&U_\"&A307&\"'!$H$66\",TRUE)),\"\",INDIRECT(\"'B&U_\"&A307&\"'!$H$66\",TRUE)),3)","v":{"$error":"#VALUE!"}},{"$f":"COUNTIF(IF(ISERROR(INDIRECT(\"'B&U_\"&A307&\"'!$H$97\",TRUE)),\"\",INDIRECT(\"'B&U_\"&A307&\"'!$H$97\",TRUE)),3)","v":{"$error":"#VALUE!"}},{"$f":"COUNTIF(IF(ISERROR(INDIRECT(\"'B&U_\"&A307&\"'!$H$128\",TRUE)),\"\",INDIRECT(\"'B&U_\"&A307&\"'!$H$128\",TRUE)),3)","v":{"$error":"#VALUE!"}},{"$f":"COUNTIF(IF(ISERROR(INDIRECT(\"'B&U_\"&A307&\"'!$H$160\",TRUE)),\"\",INDIRECT(\"'B&U_\"&A307&\"'!$H$160\",TRUE)),3)","v":{"$error":"#VALUE!"}},{"$f":"COUNTIF(IF(ISERROR(INDIRECT(\"'B&U_\"&A307&\"'!$H$190\",TRUE)),\"\",INDIRECT(\"'B&U_\"&A307&\"'!$H$190\",TRUE)),3)","v":{"$error":"#VALUE!"}},{"$f":"COUNTIF(IF(ISERROR(INDIRECT(\"'B&U_\"&A307&\"'!$H$199\",TRUE)),\"\",INDIRECT(\"'B&U_\"&A307&\"'!$H$199\",TRUE)),3)","v":{"$error":"#VALUE!"}}]
["Tilsyn 83","Status:  grøn",null,null,null,null,null,null,null,null,{"$f":"COUNTIF(IF(ISERROR(INDIRECT(\"'B&U_\"&A308&\"'!$H$33\",TRUE)),\"\",INDIRECT(\"'B&U_\"&A308&\"'!$H$33\",TRUE)),1)","v":{"$error":"#VALUE!"}},{"$f":"COUNTIF(IF(ISERROR(INDIRECT(\"'B&U_\"&A308&\"'!$h$42\",TRUE)),\"\",INDIRECT(\"'B&U_\"&A308&\"'!$h$42\",TRUE)),1)","v":{"$error":"#VALUE!"}},{"$f":"COUNTIF(IF(ISERROR(INDIRECT(\"'B&U_\"&A308&\"'!$H$66\",TRUE)),\"\",INDIRECT(\"'B&U_\"&A308&\"'!$H$66\",TRUE)),1)","v":{"$error":"#VALUE!"}},{"$f":"COUNTIF(IF(ISERROR(INDIRECT(\"'B&U_\"&A308&\"'!$H$97\",TRUE)),\"\",INDIRECT(\"'B&U_\"&A308&\"'!$H$97\",TRUE)),1)","v":{"$error":"#VALUE!"}},{"$f":"COUNTIF(IF(ISERROR(INDIRECT(\"'B&U_\"&A308&\"'!$H$128\",TRUE)),\"\",INDIRECT(\"'B&U_\"&A308&\"'!$H$128\",TRUE)),1)","v":{"$error":"#VALUE!"}},{"$f":"COUNTIF(IF(ISERROR(INDIRECT(\"'B&U_\"&A308&\"'!$H$160\",TRUE)),\"\",INDIRECT(\"'B&U_\"&A308&\"'!$H$160\",TRUE)),1)","v":{"$error":"#VALUE!"}},{"$f":"COUNTIF(IF(ISERROR(INDIRECT(\"'B&U_\"&A308&\"'!$H$190\",TRUE)),\"\",INDIRECT(\"'B&U_\"&A308&\"'!$H$190\",TRUE)),1)","v":{"$error":"#VALUE!"}},{"$f":"COUNTIF(IF(ISERROR(INDIRECT(\"'B&U_\"&A308&\"'!$H$199\",TRUE)),\"\",INDIRECT(\"'B&U_\"&A308&\"'!$H$199\",TRUE)),1)","v":{"$error":"#VALUE!"}}]
["Tilsyn 83","Status:  gul",null,null,null,null,null,null,null,null,{"$f":"COUNTIF(IF(ISERROR(INDIRECT(\"'B&U_\"&A309&\"'!$H$33\",TRUE)),\"\",INDIRECT(\"'B&U_\"&A309&\"'!$H$33\",TRUE)),2)","v":{"$error":"#VALUE!"}},{"$f":"COUNTIF(IF(ISERROR(INDIRECT(\"'B&U_\"&A309&\"'!$h$42\",TRUE)),\"\",INDIRECT(\"'B&U_\"&A309&\"'!$h$42\",TRUE)),2)","v":{"$error":"#VALUE!"}},{"$f":"COUNTIF(IF(ISERROR(INDIRECT(\"'B&U_\"&A309&\"'!$H$66\",TRUE)),\"\",INDIRECT(\"'B&U_\"&A309&\"'!$H$66\",TRUE)),2)","v":{"$error":"#VALUE!"}},{"$f":"COUNTIF(IF(ISERROR(INDIRECT(\"'B&U_\"&A309&\"'!$H$97\",TRUE)),\"\",INDIRECT(\"'B&U_\"&A309&\"'!$H$97\",TRUE)),2)","v":{"$error":"#VALUE!"}},{"$f":"COUNTIF(IF(ISERROR(INDIRECT(\"'B&U_\"&A309&\"'!$H$128\",TRUE)),\"\",INDIRECT(\"'B&U_\"&A309&\"'!$H$128\",TRUE)),2)","v":{"$error":"#VALUE!"}},{"$f":"COUNTIF(IF(ISERROR(INDIRECT(\"'B&U_\"&A309&\"'!$H$160\",TRUE)),\"\",INDIRECT(\"'B&U_\"&A309&\"'!$H$160\",TRUE)),2)","v":{"$error":"#VALUE!"}},{"$f":"COUNTIF(IF(ISERROR(INDIRECT(\"'B&U_\"&A309&\"'!$H$190\",TRUE)),\"\",INDIRECT(\"'B&U_\"&A309&\"'!$H$190\",TRUE)),2)","v":{"$error":"#VALUE!"}},{"$f":"COUNTIF(IF(ISERROR(INDIRECT(\"'B&U_\"&A309&\"'!$H$199\",TRUE)),\"\",INDIRECT(\"'B&U_\"&A309&\"'!$H$199\",TRUE)),2)","v":{"$error":"#VALUE!"}}]
["Tilsyn 83","Status:  rød",null,null,null,null,null,null,null,null,{"$f":"COUNTIF(IF(ISERROR(INDIRECT(\"'B&U_\"&A310&\"'!$H$33\",TRUE)),\"\",INDIRECT(\"'B&U_\"&A310&\"'!$H$33\",TRUE)),3)","v":{"$error":"#VALUE!"}},{"$f":"COUNTIF(IF(ISERROR(INDIRECT(\"'B&U_\"&A310&\"'!$h$42\",TRUE)),\"\",INDIRECT(\"'B&U_\"&A310&\"'!$h$42\",TRUE)),3)","v":{"$error":"#VALUE!"}},{"$f":"COUNTIF(IF(ISERROR(INDIRECT(\"'B&U_\"&A310&\"'!$H$66\",TRUE)),\"\",INDIRECT(\"'B&U_\"&A310&\"'!$H$66\",TRUE)),3)","v":{"$error":"#VALUE!"}},{"$f":"COUNTIF(IF(ISERROR(INDIRECT(\"'B&U_\"&A310&\"'!$H$97\",TRUE)),\"\",INDIRECT(\"'B&U_\"&A310&\"'!$H$97\",TRUE)),3)","v":{"$error":"#VALUE!"}},{"$f":"COUNTIF(IF(ISERROR(INDIRECT(\"'B&U_\"&A310&\"'!$H$128\",TRUE)),\"\",INDIRECT(\"'B&U_\"&A310&\"'!$H$128\",TRUE)),3)","v":{"$error":"#VALUE!"}},{"$f":"COUNTIF(IF(ISERROR(INDIRECT(\"'B&U_\"&A310&\"'!$H$160\",TRUE)),\"\",INDIRECT(\"'B&U_\"&A310&\"'!$H$160\",TRUE)),3)","v":{"$error":"#VALUE!"}},{"$f":"COUNTIF(IF(ISERROR(INDIRECT(\"'B&U_\"&A310&\"'!$H$190\",TRUE)),\"\",INDIRECT(\"'B&U_\"&A310&\"'!$H$190\",TRUE)),3)","v":{"$error":"#VALUE!"}},{"$f":"COUNTIF(IF(ISERROR(INDIRECT(\"'B&U_\"&A310&\"'!$H$199\",TRUE)),\"\",INDIRECT(\"'B&U_\"&A310&\"'!$H$199\",TRUE)),3)","v":{"$error":"#VALUE!"}}]
["Tilsyn 84","Status:  grøn",null,null,null,null,null,null,null,null,{"$f":"COUNTIF(IF(ISERROR(INDIRECT(\"'B&U_\"&A311&\"'!$H$33\",TRUE)),\"\",INDIRECT(\"'B&U_\"&A311&\"'!$H$33\",TRUE)),1)","v":{"$error":"#VALUE!"}},{"$f":"COUNTIF(IF(ISERROR(INDIRECT(\"'B&U_\"&A311&\"'!$h$42\",TRUE)),\"\",INDIRECT(\"'B&U_\"&A311&\"'!$h$42\",TRUE)),1)","v":{"$error":"#VALUE!"}},{"$f":"COUNTIF(IF(ISERROR(INDIRECT(\"'B&U_\"&A311&\"'!$H$66\",TRUE)),\"\",INDIRECT(\"'B&U_\"&A311&\"'!$H$66\",TRUE)),1)","v":{"$error":"#VALUE!"}},{"$f":"COUNTIF(IF(ISERROR(INDIRECT(\"'B&U_\"&A311&\"'!$H$97\",TRUE)),\"\",INDIRECT(\"'B&U_\"&A311&\"'!$H$97\",TRUE)),1)","v":{"$error":"#VALUE!"}},{"$f":"COUNTIF(IF(ISERROR(INDIRECT(\"'B&U_\"&A311&\"'!$H$128\",TRUE)),\"\",INDIRECT(\"'B&U_\"&A311&\"'!$H$128\",TRUE)),1)","v":{"$error":"#VALUE!"}},{"$f":"COUNTIF(IF(ISERROR(INDIRECT(\"'B&U_\"&A311&\"'!$H$160\",TRUE)),\"\",INDIRECT(\"'B&U_\"&A311&\"'!$H$160\",TRUE)),1)","v":{"$error":"#VALUE!"}},{"$f":"COUNTIF(IF(ISERROR(INDIRECT(\"'B&U_\"&A311&\"'!$H$190\",TRUE)),\"\",INDIRECT(\"'B&U_\"&A311&\"'!$H$190\",TRUE)),1)","v":{"$error":"#VALUE!"}},{"$f":"COUNTIF(IF(ISERROR(INDIRECT(\"'B&U_\"&A311&\"'!$H$199\",TRUE)),\"\",INDIRECT(\"'B&U_\"&A311&\"'!$H$199\",TRUE)),1)","v":{"$error":"#VALUE!"}}]
["Tilsyn 84","Status:  gul",null,null,null,null,null,null,null,null,{"$f":"COUNTIF(IF(ISERROR(INDIRECT(\"'B&U_\"&A312&\"'!$H$33\",TRUE)),\"\",INDIRECT(\"'B&U_\"&A312&\"'!$H$33\",TRUE)),2)","v":{"$error":"#VALUE!"}},{"$f":"COUNTIF(IF(ISERROR(INDIRECT(\"'B&U_\"&A312&\"'!$h$42\",TRUE)),\"\",INDIRECT(\"'B&U_\"&A312&\"'!$h$42\",TRUE)),2)","v":{"$error":"#VALUE!"}},{"$f":"COUNTIF(IF(ISERROR(INDIRECT(\"'B&U_\"&A312&\"'!$H$66\",TRUE)),\"\",INDIRECT(\"'B&U_\"&A312&\"'!$H$66\",TRUE)),2)","v":{"$error":"#VALUE!"}},{"$f":"COUNTIF(IF(ISERROR(INDIRECT(\"'B&U_\"&A312&\"'!$H$97\",TRUE)),\"\",INDIRECT(\"'B&U_\"&A312&\"'!$H$97\",TRUE)),2)","v":{"$error":"#VALUE!"}},{"$f":"COUNTIF(IF(ISERROR(INDIRECT(\"'B&U_\"&A312&\"'!$H$128\",TRUE)),\"\",INDIRECT(\"'B&U_\"&A312&\"'!$H$128\",TRUE)),2)","v":{"$error":"#VALUE!"}},{"$f":"COUNTIF(IF(ISERROR(INDIRECT(\"'B&U_\"&A312&\"'!$H$160\",TRUE)),\"\",INDIRECT(\"'B&U_\"&A312&\"'!$H$160\",TRUE)),2)","v":{"$error":"#VALUE!"}},{"$f":"COUNTIF(IF(ISERROR(INDIRECT(\"'B&U_\"&A312&\"'!$H$190\",TRUE)),\"\",INDIRECT(\"'B&U_\"&A312&\"'!$H$190\",TRUE)),2)","v":{"$error":"#VALUE!"}},{"$f":"COUNTIF(IF(ISERROR(INDIRECT(\"'B&U_\"&A312&\"'!$H$199\",TRUE)),\"\",INDIRECT(\"'B&U_\"&A312&\"'!$H$199\",TRUE)),2)","v":{"$error":"#VALUE!"}}]
["Tilsyn 84","Status:  rød",null,null,null,null,null,null,null,null,{"$f":"COUNTIF(IF(ISERROR(INDIRECT(\"'B&U_\"&A313&\"'!$H$33\",TRUE)),\"\",INDIRECT(\"'B&U_\"&A313&\"'!$H$33\",TRUE)),3)","v":{"$error":"#VALUE!"}},{"$f":"COUNTIF(IF(ISERROR(INDIRECT(\"'B&U_\"&A313&\"'!$h$42\",TRUE)),\"\",INDIRECT(\"'B&U_\"&A313&\"'!$h$42\",TRUE)),3)","v":{"$error":"#VALUE!"}},{"$f":"COUNTIF(IF(ISERROR(INDIRECT(\"'B&U_\"&A313&\"'!$H$66\",TRUE)),\"\",INDIRECT(\"'B&U_\"&A313&\"'!$H$66\",TRUE)),3)","v":{"$error":"#VALUE!"}},{"$f":"COUNTIF(IF(ISERROR(INDIRECT(\"'B&U_\"&A313&\"'!$H$97\",TRUE)),\"\",INDIRECT(\"'B&U_\"&A313&\"'!$H$97\",TRUE)),3)","v":{"$error":"#VALUE!"}},{"$f":"COUNTIF(IF(ISERROR(INDIRECT(\"'B&U_\"&A313&\"'!$H$128\",TRUE)),\"\",INDIRECT(\"'B&U_\"&A313&\"'!$H$128\",TRUE)),3)","v":{"$error":"#VALUE!"}},{"$f":"COUNTIF(IF(ISERROR(INDIRECT(\"'B&U_\"&A313&\"'!$H$160\",TRUE)),\"\",INDIRECT(\"'B&U_\"&A313&\"'!$H$160\",TRUE)),3)","v":{"$error":"#VALUE!"}},{"$f":"COUNTIF(IF(ISERROR(INDIRECT(\"'B&U_\"&A313&\"'!$H$190\",TRUE)),\"\",INDIRECT(\"'B&U_\"&A313&\"'!$H$190\",TRUE)),3)","v":{"$error":"#VALUE!"}},{"$f":"COUNTIF(IF(ISERROR(INDIRECT(\"'B&U_\"&A313&\"'!$H$199\",TRUE)),\"\",INDIRECT(\"'B&U_\"&A313&\"'!$H$199\",TRUE)),3)","v":{"$error":"#VALUE!"}}]
["Tilsyn 85","Status:  grøn",null,null,null,null,null,null,null,null,{"$f":"COUNTIF(IF(ISERROR(INDIRECT(\"'B&U_\"&A314&\"'!$H$33\",TRUE)),\"\",INDIRECT(\"'B&U_\"&A314&\"'!$H$33\",TRUE)),1)","v":{"$error":"#VALUE!"}},{"$f":"COUNTIF(IF(ISERROR(INDIRECT(\"'B&U_\"&A314&\"'!$h$42\",TRUE)),\"\",INDIRECT(\"'B&U_\"&A314&\"'!$h$42\",TRUE)),1)","v":{"$error":"#VALUE!"}},{"$f":"COUNTIF(IF(ISERROR(INDIRECT(\"'B&U_\"&A314&\"'!$H$66\",TRUE)),\"\",INDIRECT(\"'B&U_\"&A314&\"'!$H$66\",TRUE)),1)","v":{"$error":"#VALUE!"}},{"$f":"COUNTIF(IF(ISERROR(INDIRECT(\"'B&U_\"&A314&\"'!$H$97\",TRUE)),\"\",INDIRECT(\"'B&U_\"&A314&\"'!$H$97\",TRUE)),1)","v":{"$error":"#VALUE!"}},{"$f":"COUNTIF(IF(ISERROR(INDIRECT(\"'B&U_\"&A314&\"'!$H$128\",TRUE)),\"\",INDIRECT(\"'B&U_\"&A314&\"'!$H$128\",TRUE)),1)","v":{"$error":"#VALUE!"}},{"$f":"COUNTIF(IF(ISERROR(INDIRECT(\"'B&U_\"&A314&\"'!$H$160\",TRUE)),\"\",INDIRECT(\"'B&U_\"&A314&\"'!$H$160\",TRUE)),1)","v":{"$error":"#VALUE!"}},{"$f":"COUNTIF(IF(ISERROR(INDIRECT(\"'B&U_\"&A314&\"'!$H$190\",TRUE)),\"\",INDIRECT(\"'B&U_\"&A314&\"'!$H$190\",TRUE)),1)","v":{"$error":"#VALUE!"}},{"$f":"COUNTIF(IF(ISERROR(INDIRECT(\"'B&U_\"&A314&\"'!$H$199\",TRUE)),\"\",INDIRECT(\"'B&U_\"&A314&\"'!$H$199\",TRUE)),1)","v":{"$error":"#VALUE!"}}]
["Tilsyn 85","Status:  gul",null,null,null,null,null,null,null,null,{"$f":"COUNTIF(IF(ISERROR(INDIRECT(\"'B&U_\"&A315&\"'!$H$33\",TRUE)),\"\",INDIRECT(\"'B&U_\"&A315&\"'!$H$33\",TRUE)),2)","v":{"$error":"#VALUE!"}},{"$f":"COUNTIF(IF(ISERROR(INDIRECT(\"'B&U_\"&A315&\"'!$h$42\",TRUE)),\"\",INDIRECT(\"'B&U_\"&A315&\"'!$h$42\",TRUE)),2)","v":{"$error":"#VALUE!"}},{"$f":"COUNTIF(IF(ISERROR(INDIRECT(\"'B&U_\"&A315&\"'!$H$66\",TRUE)),\"\",INDIRECT(\"'B&U_\"&A315&\"'!$H$66\",TRUE)),2)","v":{"$error":"#VALUE!"}},{"$f":"COUNTIF(IF(ISERROR(INDIRECT(\"'B&U_\"&A315&\"'!$H$97\",TRUE)),\"\",INDIRECT(\"'B&U_\"&A315&\"'!$H$97\",TRUE)),2)","v":{"$error":"#VALUE!"}},{"$f":"COUNTIF(IF(ISERROR(INDIRECT(\"'B&U_\"&A315&\"'!$H$128\",TRUE)),\"\",INDIRECT(\"'B&U_\"&A315&\"'!$H$128\",TRUE)),2)","v":{"$error":"#VALUE!"}},{"$f":"COUNTIF(IF(ISERROR(INDIRECT(\"'B&U_\"&A315&\"'!$H$160\",TRUE)),\"\",INDIRECT(\"'B&U_\"&A315&\"'!$H$160\",TRUE)),2)","v":{"$error":"#VALUE!"}},{"$f":"COUNTIF(IF(ISERROR(INDIRECT(\"'B&U_\"&A315&\"'!$H$190\",TRUE)),\"\",INDIRECT(\"'B&U_\"&A315&\"'!$H$190\",TRUE)),2)","v":{"$error":"#VALUE!"}},{"$f":"COUNTIF(IF(ISERROR(INDIRECT(\"'B&U_\"&A315&\"'!$H$199\",TRUE)),\"\",INDIRECT(\"'B&U_\"&A315&\"'!$H$199\",TRUE)),2)","v":{"$error":"#VALUE!"}}]
["Tilsyn 85","Status:  rød",null,null,null,null,null,null,null,null,{"$f":"COUNTIF(IF(ISERROR(INDIRECT(\"'B&U_\"&A316&\"'!$H$33\",TRUE)),\"\",INDIRECT(\"'B&U_\"&A316&\"'!$H$33\",TRUE)),3)","v":{"$error":"#VALUE!"}},{"$f":"COUNTIF(IF(ISERROR(INDIRECT(\"'B&U_\"&A316&\"'!$h$42\",TRUE)),\"\",INDIRECT(\"'B&U_\"&A316&\"'!$h$42\",TRUE)),3)","v":{"$error":"#VALUE!"}},{"$f":"COUNTIF(IF(ISERROR(INDIRECT(\"'B&U_\"&A316&\"'!$H$66\",TRUE)),\"\",INDIRECT(\"'B&U_\"&A316&\"'!$H$66\",TRUE)),3)","v":{"$error":"#VALUE!"}},{"$f":"COUNTIF(IF(ISERROR(INDIRECT(\"'B&U_\"&A316&\"'!$H$97\",TRUE)),\"\",INDIRECT(\"'B&U_\"&A316&\"'!$H$97\",TRUE)),3)","v":{"$error":"#VALUE!"}},{"$f":"COUNTIF(IF(ISERROR(INDIRECT(\"'B&U_\"&A316&\"'!$H$128\",TRUE)),\"\",INDIRECT(\"'B&U_\"&A316&\"'!$H$128\",TRUE)),3)","v":{"$error":"#VALUE!"}},{"$f":"COUNTIF(IF(ISERROR(INDIRECT(\"'B&U_\"&A316&\"'!$H$160\",TRUE)),\"\",INDIRECT(\"'B&U_\"&A316&\"'!$H$160\",TRUE)),3)","v":{"$error":"#VALUE!"}},{"$f":"COUNTIF(IF(ISERROR(INDIRECT(\"'B&U_\"&A316&\"'!$H$190\",TRUE)),\"\",INDIRECT(\"'B&U_\"&A316&\"'!$H$190\",TRUE)),3)","v":{"$error":"#VALUE!"}},{"$f":"COUNTIF(IF(ISERROR(INDIRECT(\"'B&U_\"&A316&\"'!$H$199\",TRUE)),\"\",INDIRECT(\"'B&U_\"&A316&\"'!$H$199\",TRUE)),3)","v":{"$error":"#VALUE!"}}]
["Tilsyn 86","Status:  grøn",null,null,null,null,null,null,null,null,{"$f":"COUNTIF(IF(ISERROR(INDIRECT(\"'B&U_\"&A317&\"'!$H$33\",TRUE)),\"\",INDIRECT(\"'B&U_\"&A317&\"'!$H$33\",TRUE)),1)","v":{"$error":"#VALUE!"}},{"$f":"COUNTIF(IF(ISERROR(INDIRECT(\"'B&U_\"&A317&\"'!$h$42\",TRUE)),\"\",INDIRECT(\"'B&U_\"&A317&\"'!$h$42\",TRUE)),1)","v":{"$error":"#VALUE!"}},{"$f":"COUNTIF(IF(ISERROR(INDIRECT(\"'B&U_\"&A317&\"'!$H$66\",TRUE)),\"\",INDIRECT(\"'B&U_\"&A317&\"'!$H$66\",TRUE)),1)","v":{"$error":"#VALUE!"}},{"$f":"COUNTIF(IF(ISERROR(INDIRECT(\"'B&U_\"&A317&\"'!$H$97\",TRUE)),\"\",INDIRECT(\"'B&U_\"&A317&\"'!$H$97\",TRUE)),1)","v":{"$error":"#VALUE!"}},{"$f":"COUNTIF(IF(ISERROR(INDIRECT(\"'B&U_\"&A317&\"'!$H$128\",TRUE)),\"\",INDIRECT(\"'B&U_\"&A317&\"'!$H$128\",TRUE)),1)","v":{"$error":"#VALUE!"}},{"$f":"COUNTIF(IF(ISERROR(INDIRECT(\"'B&U_\"&A317&\"'!$H$160\",TRUE)),\"\",INDIRECT(\"'B&U_\"&A317&\"'!$H$160\",TRUE)),1)","v":{"$error":"#VALUE!"}},{"$f":"COUNTIF(IF(ISERROR(INDIRECT(\"'B&U_\"&A317&\"'!$H$190\",TRUE)),\"\",INDIRECT(\"'B&U_\"&A317&\"'!$H$190\",TRUE)),1)","v":{"$error":"#VALUE!"}},{"$f":"COUNTIF(IF(ISERROR(INDIRECT(\"'B&U_\"&A317&\"'!$H$199\",TRUE)),\"\",INDIRECT(\"'B&U_\"&A317&\"'!$H$199\",TRUE)),1)","v":{"$error":"#VALUE!"}}]
["Tilsyn 86","Status:  gul",null,null,null,null,null,null,null,null,{"$f":"COUNTIF(IF(ISERROR(INDIRECT(\"'B&U_\"&A318&\"'!$H$33\",TRUE)),\"\",INDIRECT(\"'B&U_\"&A318&\"'!$H$33\",TRUE)),2)","v":{"$error":"#VALUE!"}},{"$f":"COUNTIF(IF(ISERROR(INDIRECT(\"'B&U_\"&A318&\"'!$h$42\",TRUE)),\"\",INDIRECT(\"'B&U_\"&A318&\"'!$h$42\",TRUE)),2)","v":{"$error":"#VALUE!"}},{"$f":"COUNTIF(IF(ISERROR(INDIRECT(\"'B&U_\"&A318&\"'!$H$66\",TRUE)),\"\",INDIRECT(\"'B&U_\"&A318&\"'!$H$66\",TRUE)),2)","v":{"$error":"#VALUE!"}},{"$f":"COUNTIF(IF(ISERROR(INDIRECT(\"'B&U_\"&A318&\"'!$H$97\",TRUE)),\"\",INDIRECT(\"'B&U_\"&A318&\"'!$H$97\",TRUE)),2)","v":{"$error":"#VALUE!"}},{"$f":"COUNTIF(IF(ISERROR(INDIRECT(\"'B&U_\"&A318&\"'!$H$128\",TRUE)),\"\",INDIRECT(\"'B&U_\"&A318&\"'!$H$128\",TRUE)),2)","v":{"$error":"#VALUE!"}},{"$f":"COUNTIF(IF(ISERROR(INDIRECT(\"'B&U_\"&A318&\"'!$H$160\",TRUE)),\"\",INDIRECT(\"'B&U_\"&A318&\"'!$H$160\",TRUE)),2)","v":{"$error":"#VALUE!"}},{"$f":"COUNTIF(IF(ISERROR(INDIRECT(\"'B&U_\"&A318&\"'!$H$190\",TRUE)),\"\",INDIRECT(\"'B&U_\"&A318&\"'!$H$190\",TRUE)),2)","v":{"$error":"#VALUE!"}},{"$f":"COUNTIF(IF(ISERROR(INDIRECT(\"'B&U_\"&A318&\"'!$H$199\",TRUE)),\"\",INDIRECT(\"'B&U_\"&A318&\"'!$H$199\",TRUE)),2)","v":{"$error":"#VALUE!"}}]
["Tilsyn 86","Status:  rød",null,null,null,null,null,null,null,null,{"$f":"COUNTIF(IF(ISERROR(INDIRECT(\"'B&U_\"&A319&\"'!$H$33\",TRUE)),\"\",INDIRECT(\"'B&U_\"&A319&\"'!$H$33\",TRUE)),3)","v":{"$error":"#VALUE!"}},{"$f":"COUNTIF(IF(ISERROR(INDIRECT(\"'B&U_\"&A319&\"'!$h$42\",TRUE)),\"\",INDIRECT(\"'B&U_\"&A319&\"'!$h$42\",TRUE)),3)","v":{"$error":"#VALUE!"}},{"$f":"COUNTIF(IF(ISERROR(INDIRECT(\"'B&U_\"&A319&\"'!$H$66\",TRUE)),\"\",INDIRECT(\"'B&U_\"&A319&\"'!$H$66\",TRUE)),3)","v":{"$error":"#VALUE!"}},{"$f":"COUNTIF(IF(ISERROR(INDIRECT(\"'B&U_\"&A319&\"'!$H$97\",TRUE)),\"\",INDIRECT(\"'B&U_\"&A319&\"'!$H$97\",TRUE)),3)","v":{"$error":"#VALUE!"}},{"$f":"COUNTIF(IF(ISERROR(INDIRECT(\"'B&U_\"&A319&\"'!$H$128\",TRUE)),\"\",INDIRECT(\"'B&U_\"&A319&\"'!$H$128\",TRUE)),3)","v":{"$error":"#VALUE!"}},{"$f":"COUNTIF(IF(ISERROR(INDIRECT(\"'B&U_\"&A319&\"'!$H$160\",TRUE)),\"\",INDIRECT(\"'B&U_\"&A319&\"'!$H$160\",TRUE)),3)","v":{"$error":"#VALUE!"}},{"$f":"COUNTIF(IF(ISERROR(INDIRECT(\"'B&U_\"&A319&\"'!$H$190\",TRUE)),\"\",INDIRECT(\"'B&U_\"&A319&\"'!$H$190\",TRUE)),3)","v":{"$error":"#VALUE!"}},{"$f":"COUNTIF(IF(ISERROR(INDIRECT(\"'B&U_\"&A319&\"'!$H$199\",TRUE)),\"\",INDIRECT(\"'B&U_\"&A319&\"'!$H$199\",TRUE)),3)","v":{"$error":"#VALUE!"}}]
["Tilsyn 87","Status:  grøn",null,null,null,null,null,null,null,null,{"$f":"COUNTIF(IF(ISERROR(INDIRECT(\"'B&U_\"&A320&\"'!$H$33\",TRUE)),\"\",INDIRECT(\"'B&U_\"&A320&\"'!$H$33\",TRUE)),1)","v":{"$error":"#VALUE!"}},{"$f":"COUNTIF(IF(ISERROR(INDIRECT(\"'B&U_\"&A320&\"'!$h$42\",TRUE)),\"\",INDIRECT(\"'B&U_\"&A320&\"'!$h$42\",TRUE)),1)","v":{"$error":"#VALUE!"}},{"$f":"COUNTIF(IF(ISERROR(INDIRECT(\"'B&U_\"&A320&\"'!$H$66\",TRUE)),\"\",INDIRECT(\"'B&U_\"&A320&\"'!$H$66\",TRUE)),1)","v":{"$error":"#VALUE!"}},{"$f":"COUNTIF(IF(ISERROR(INDIRECT(\"'B&U_\"&A320&\"'!$H$97\",TRUE)),\"\",INDIRECT(\"'B&U_\"&A320&\"'!$H$97\",TRUE)),1)","v":{"$error":"#VALUE!"}},{"$f":"COUNTIF(IF(ISERROR(INDIRECT(\"'B&U_\"&A320&\"'!$H$128\",TRUE)),\"\",INDIRECT(\"'B&U_\"&A320&\"'!$H$128\",TRUE)),1)","v":{"$error":"#VALUE!"}},{"$f":"COUNTIF(IF(ISERROR(INDIRECT(\"'B&U_\"&A320&\"'!$H$160\",TRUE)),\"\",INDIRECT(\"'B&U_\"&A320&\"'!$H$160\",TRUE)),1)","v":{"$error":"#VALUE!"}},{"$f":"COUNTIF(IF(ISERROR(INDIRECT(\"'B&U_\"&A320&\"'!$H$190\",TRUE)),\"\",INDIRECT(\"'B&U_\"&A320&\"'!$H$190\",TRUE)),1)","v":{"$error":"#VALUE!"}},{"$f":"COUNTIF(IF(ISERROR(INDIRECT(\"'B&U_\"&A320&\"'!$H$199\",TRUE)),\"\",INDIRECT(\"'B&U_\"&A320&\"'!$H$199\",TRUE)),1)","v":{"$error":"#VALUE!"}}]
["Tilsyn 87","Status:  gul",null,null,null,null,null,null,null,null,{"$f":"COUNTIF(IF(ISERROR(INDIRECT(\"'B&U_\"&A321&\"'!$H$33\",TRUE)),\"\",INDIRECT(\"'B&U_\"&A321&\"'!$H$33\",TRUE)),2)","v":{"$error":"#VALUE!"}},{"$f":"COUNTIF(IF(ISERROR(INDIRECT(\"'B&U_\"&A321&\"'!$h$42\",TRUE)),\"\",INDIRECT(\"'B&U_\"&A321&\"'!$h$42\",TRUE)),2)","v":{"$error":"#VALUE!"}},{"$f":"COUNTIF(IF(ISERROR(INDIRECT(\"'B&U_\"&A321&\"'!$H$66\",TRUE)),\"\",INDIRECT(\"'B&U_\"&A321&\"'!$H$66\",TRUE)),2)","v":{"$error":"#VALUE!"}},{"$f":"COUNTIF(IF(ISERROR(INDIRECT(\"'B&U_\"&A321&\"'!$H$97\",TRUE)),\"\",INDIRECT(\"'B&U_\"&A321&\"'!$H$97\",TRUE)),2)","v":{"$error":"#VALUE!"}},{"$f":"COUNTIF(IF(ISERROR(INDIRECT(\"'B&U_\"&A321&\"'!$H$128\",TRUE)),\"\",INDIRECT(\"'B&U_\"&A321&\"'!$H$128\",TRUE)),2)","v":{"$error":"#VALUE!"}},{"$f":"COUNTIF(IF(ISERROR(INDIRECT(\"'B&U_\"&A321&\"'!$H$160\",TRUE)),\"\",INDIRECT(\"'B&U_\"&A321&\"'!$H$160\",TRUE)),2)","v":{"$error":"#VALUE!"}},{"$f":"COUNTIF(IF(ISERROR(INDIRECT(\"'B&U_\"&A321&\"'!$H$190\",TRUE)),\"\",INDIRECT(\"'B&U_\"&A321&\"'!$H$190\",TRUE)),2)","v":{"$error":"#VALUE!"}},{"$f":"COUNTIF(IF(ISERROR(INDIRECT(\"'B&U_\"&A321&\"'!$H$199\",TRUE)),\"\",INDIRECT(\"'B&U_\"&A321&\"'!$H$199\",TRUE)),2)","v":{"$error":"#VALUE!"}}]
["Tilsyn 87","Status:  rød",null,null,null,null,null,null,null,null,{"$f":"COUNTIF(IF(ISERROR(INDIRECT(\"'B&U_\"&A322&\"'!$H$33\",TRUE)),\"\",INDIRECT(\"'B&U_\"&A322&\"'!$H$33\",TRUE)),3)","v":{"$error":"#VALUE!"}},{"$f":"COUNTIF(IF(ISERROR(INDIRECT(\"'B&U_\"&A322&\"'!$h$42\",TRUE)),\"\",INDIRECT(\"'B&U_\"&A322&\"'!$h$42\",TRUE)),3)","v":{"$error":"#VALUE!"}},{"$f":"COUNTIF(IF(ISERROR(INDIRECT(\"'B&U_\"&A322&\"'!$H$66\",TRUE)),\"\",INDIRECT(\"'B&U_\"&A322&\"'!$H$66\",TRUE)),3)","v":{"$error":"#VALUE!"}},{"$f":"COUNTIF(IF(ISERROR(INDIRECT(\"'B&U_\"&A322&\"'!$H$97\",TRUE)),\"\",INDIRECT(\"'B&U_\"&A322&\"'!$H$97\",TRUE)),3)","v":{"$error":"#VALUE!"}},{"$f":"COUNTIF(IF(ISERROR(INDIRECT(\"'B&U_\"&A322&\"'!$H$128\",TRUE)),\"\",INDIRECT(\"'B&U_\"&A322&\"'!$H$128\",TRUE)),3)","v":{"$error":"#VALUE!"}},{"$f":"COUNTIF(IF(ISERROR(INDIRECT(\"'B&U_\"&A322&\"'!$H$160\",TRUE)),\"\",INDIRECT(\"'B&U_\"&A322&\"'!$H$160\",TRUE)),3)","v":{"$error":"#VALUE!"}},{"$f":"COUNTIF(IF(ISERROR(INDIRECT(\"'B&U_\"&A322&\"'!$H$190\",TRUE)),\"\",INDIRECT(\"'B&U_\"&A322&\"'!$H$190\",TRUE)),3)","v":{"$error":"#VALUE!"}},{"$f":"COUNTIF(IF(ISERROR(INDIRECT(\"'B&U_\"&A322&\"'!$H$199\",TRUE)),\"\",INDIRECT(\"'B&U_\"&A322&\"'!$H$199\",TRUE)),3)","v":{"$error":"#VALUE!"}}]
["Tilsyn 88","Status:  grøn",null,null,null,null,null,null,null,null,{"$f":"COUNTIF(IF(ISERROR(INDIRECT(\"'B&U_\"&A323&\"'!$H$33\",TRUE)),\"\",INDIRECT(\"'B&U_\"&A323&\"'!$H$33\",TRUE)),1)","v":{"$error":"#VALUE!"}},{"$f":"COUNTIF(IF(ISERROR(INDIRECT(\"'B&U_\"&A323&\"'!$h$42\",TRUE)),\"\",INDIRECT(\"'B&U_\"&A323&\"'!$h$42\",TRUE)),1)","v":{"$error":"#VALUE!"}},{"$f":"COUNTIF(IF(ISERROR(INDIRECT(\"'B&U_\"&A323&\"'!$H$66\",TRUE)),\"\",INDIRECT(\"'B&U_\"&A323&\"'!$H$66\",TRUE)),1)","v":{"$error":"#VALUE!"}},{"$f":"COUNTIF(IF(ISERROR(INDIRECT(\"'B&U_\"&A323&\"'!$H$97\",TRUE)),\"\",INDIRECT(\"'B&U_\"&A323&\"'!$H$97\",TRUE)),1)","v":{"$error":"#VALUE!"}},{"$f":"COUNTIF(IF(ISERROR(INDIRECT(\"'B&U_\"&A323&\"'!$H$128\",TRUE)),\"\",INDIRECT(\"'B&U_\"&A323&\"'!$H$128\",TRUE)),1)","v":{"$error":"#VALUE!"}},{"$f":"COUNTIF(IF(ISERROR(INDIRECT(\"'B&U_\"&A323&\"'!$H$160\",TRUE)),\"\",INDIRECT(\"'B&U_\"&A323&\"'!$H$160\",TRUE)),1)","v":{"$error":"#VALUE!"}},{"$f":"COUNTIF(IF(ISERROR(INDIRECT(\"'B&U_\"&A323&\"'!$H$190\",TRUE)),\"\",INDIRECT(\"'B&U_\"&A323&\"'!$H$190\",TRUE)),1)","v":{"$error":"#VALUE!"}},{"$f":"COUNTIF(IF(ISERROR(INDIRECT(\"'B&U_\"&A323&\"'!$H$199\",TRUE)),\"\",INDIRECT(\"'B&U_\"&A323&\"'!$H$199\",TRUE)),1)","v":{"$error":"#VALUE!"}}]
["Tilsyn 88","Status:  gul",null,null,null,null,null,null,null,null,{"$f":"COUNTIF(IF(ISERROR(INDIRECT(\"'B&U_\"&A324&\"'!$H$33\",TRUE)),\"\",INDIRECT(\"'B&U_\"&A324&\"'!$H$33\",TRUE)),2)","v":{"$error":"#VALUE!"}},{"$f":"COUNTIF(IF(ISERROR(INDIRECT(\"'B&U_\"&A324&\"'!$h$42\",TRUE)),\"\",INDIRECT(\"'B&U_\"&A324&\"'!$h$42\",TRUE)),2)","v":{"$error":"#VALUE!"}},{"$f":"COUNTIF(IF(ISERROR(INDIRECT(\"'B&U_\"&A324&\"'!$H$66\",TRUE)),\"\",INDIRECT(\"'B&U_\"&A324&\"'!$H$66\",TRUE)),2)","v":{"$error":"#VALUE!"}},{"$f":"COUNTIF(IF(ISERROR(INDIRECT(\"'B&U_\"&A324&\"'!$H$97\",TRUE)),\"\",INDIRECT(\"'B&U_\"&A324&\"'!$H$97\",TRUE)),2)","v":{"$error":"#VALUE!"}},{"$f":"COUNTIF(IF(ISERROR(INDIRECT(\"'B&U_\"&A324&\"'!$H$128\",TRUE)),\"\",INDIRECT(\"'B&U_\"&A324&\"'!$H$128\",TRUE)),2)","v":{"$error":"#VALUE!"}},{"$f":"COUNTIF(IF(ISERROR(INDIRECT(\"'B&U_\"&A324&\"'!$H$160\",TRUE)),\"\",INDIRECT(\"'B&U_\"&A324&\"'!$H$160\",TRUE)),2)","v":{"$error":"#VALUE!"}},{"$f":"COUNTIF(IF(ISERROR(INDIRECT(\"'B&U_\"&A324&\"'!$H$190\",TRUE)),\"\",INDIRECT(\"'B&U_\"&A324&\"'!$H$190\",TRUE)),2)","v":{"$error":"#VALUE!"}},{"$f":"COUNTIF(IF(ISERROR(INDIRECT(\"'B&U_\"&A324&\"'!$H$199\",TRUE)),\"\",INDIRECT(\"'B&U_\"&A324&\"'!$H$199\",TRUE)),2)","v":{"$error":"#VALUE!"}}]
["Tilsyn 88","Status:  rød",null,null,null,null,null,null,null,null,{"$f":"COUNTIF(IF(ISERROR(INDIRECT(\"'B&U_\"&A325&\"'!$H$33\",TRUE)),\"\",INDIRECT(\"'B&U_\"&A325&\"'!$H$33\",TRUE)),3)","v":{"$error":"#VALUE!"}},{"$f":"COUNTIF(IF(ISERROR(INDIRECT(\"'B&U_\"&A325&\"'!$h$42\",TRUE)),\"\",INDIRECT(\"'B&U_\"&A325&\"'!$h$42\",TRUE)),3)","v":{"$error":"#VALUE!"}},{"$f":"COUNTIF(IF(ISERROR(INDIRECT(\"'B&U_\"&A325&\"'!$H$66\",TRUE)),\"\",INDIRECT(\"'B&U_\"&A325&\"'!$H$66\",TRUE)),3)","v":{"$error":"#VALUE!"}},{"$f":"COUNTIF(IF(ISERROR(INDIRECT(\"'B&U_\"&A325&\"'!$H$97\",TRUE)),\"\",INDIRECT(\"'B&U_\"&A325&\"'!$H$97\",TRUE)),3)","v":{"$error":"#VALUE!"}},{"$f":"COUNTIF(IF(ISERROR(INDIRECT(\"'B&U_\"&A325&\"'!$H$128\",TRUE)),\"\",INDIRECT(\"'B&U_\"&A325&\"'!$H$128\",TRUE)),3)","v":{"$error":"#VALUE!"}},{"$f":"COUNTIF(IF(ISERROR(INDIRECT(\"'B&U_\"&A325&\"'!$H$160\",TRUE)),\"\",INDIRECT(\"'B&U_\"&A325&\"'!$H$160\",TRUE)),3)","v":{"$error":"#VALUE!"}},{"$f":"COUNTIF(IF(ISERROR(INDIRECT(\"'B&U_\"&A325&\"'!$H$190\",TRUE)),\"\",INDIRECT(\"'B&U_\"&A325&\"'!$H$190\",TRUE)),3)","v":{"$error":"#VALUE!"}},{"$f":"COUNTIF(IF(ISERROR(INDIRECT(\"'B&U_\"&A325&\"'!$H$199\",TRUE)),\"\",INDIRECT(\"'B&U_\"&A325&\"'!$H$199\",TRUE)),3)","v":{"$error":"#VALUE!"}}]
["Tilsyn 89","Status:  grøn",null,null,null,null,null,null,null,null,{"$f":"COUNTIF(IF(ISERROR(INDIRECT(\"'B&U_\"&A326&\"'!$H$33\",TRUE)),\"\",INDIRECT(\"'B&U_\"&A326&\"'!$H$33\",TRUE)),1)","v":{"$error":"#VALUE!"}},{"$f":"COUNTIF(IF(ISERROR(INDIRECT(\"'B&U_\"&A326&\"'!$h$42\",TRUE)),\"\",INDIRECT(\"'B&U_\"&A326&\"'!$h$42\",TRUE)),1)","v":{"$error":"#VALUE!"}},{"$f":"COUNTIF(IF(ISERROR(INDIRECT(\"'B&U_\"&A326&\"'!$H$66\",TRUE)),\"\",INDIRECT(\"'B&U_\"&A326&\"'!$H$66\",TRUE)),1)","v":{"$error":"#VALUE!"}},{"$f":"COUNTIF(IF(ISERROR(INDIRECT(\"'B&U_\"&A326&\"'!$H$97\",TRUE)),\"\",INDIRECT(\"'B&U_\"&A326&\"'!$H$97\",TRUE)),1)","v":{"$error":"#VALUE!"}},{"$f":"COUNTIF(IF(ISERROR(INDIRECT(\"'B&U_\"&A326&\"'!$H$128\",TRUE)),\"\",INDIRECT(\"'B&U_\"&A326&\"'!$H$128\",TRUE)),1)","v":{"$error":"#VALUE!"}},{"$f":"COUNTIF(IF(ISERROR(INDIRECT(\"'B&U_\"&A326&\"'!$H$160\",TRUE)),\"\",INDIRECT(\"'B&U_\"&A326&\"'!$H$160\",TRUE)),1)","v":{"$error":"#VALUE!"}},{"$f":"COUNTIF(IF(ISERROR(INDIRECT(\"'B&U_\"&A326&\"'!$H$190\",TRUE)),\"\",INDIRECT(\"'B&U_\"&A326&\"'!$H$190\",TRUE)),1)","v":{"$error":"#VALUE!"}},{"$f":"COUNTIF(IF(ISERROR(INDIRECT(\"'B&U_\"&A326&\"'!$H$199\",TRUE)),\"\",INDIRECT(\"'B&U_\"&A326&\"'!$H$199\",TRUE)),1)","v":{"$error":"#VALUE!"}}]
["Tilsyn 89","Status:  gul",null,null,null,null,null,null,null,null,{"$f":"COUNTIF(IF(ISERROR(INDIRECT(\"'B&U_\"&A327&\"'!$H$33\",TRUE)),\"\",INDIRECT(\"'B&U_\"&A327&\"'!$H$33\",TRUE)),2)","v":{"$error":"#VALUE!"}},{"$f":"COUNTIF(IF(ISERROR(INDIRECT(\"'B&U_\"&A327&\"'!$h$42\",TRUE)),\"\",INDIRECT(\"'B&U_\"&A327&\"'!$h$42\",TRUE)),2)","v":{"$error":"#VALUE!"}},{"$f":"COUNTIF(IF(ISERROR(INDIRECT(\"'B&U_\"&A327&\"'!$H$66\",TRUE)),\"\",INDIRECT(\"'B&U_\"&A327&\"'!$H$66\",TRUE)),2)","v":{"$error":"#VALUE!"}},{"$f":"COUNTIF(IF(ISERROR(INDIRECT(\"'B&U_\"&A327&\"'!$H$97\",TRUE)),\"\",INDIRECT(\"'B&U_\"&A327&\"'!$H$97\",TRUE)),2)","v":{"$error":"#VALUE!"}},{"$f":"COUNTIF(IF(ISERROR(INDIRECT(\"'B&U_\"&A327&\"'!$H$128\",TRUE)),\"\",INDIRECT(\"'B&U_\"&A327&\"'!$H$128\",TRUE)),2)","v":{"$error":"#VALUE!"}},{"$f":"COUNTIF(IF(ISERROR(INDIRECT(\"'B&U_\"&A327&\"'!$H$160\",TRUE)),\"\",INDIRECT(\"'B&U_\"&A327&\"'!$H$160\",TRUE)),2)","v":{"$error":"#VALUE!"}},{"$f":"COUNTIF(IF(ISERROR(INDIRECT(\"'B&U_\"&A327&\"'!$H$190\",TRUE)),\"\",INDIRECT(\"'B&U_\"&A327&\"'!$H$190\",TRUE)),2)","v":{"$error":"#VALUE!"}},{"$f":"COUNTIF(IF(ISERROR(INDIRECT(\"'B&U_\"&A327&\"'!$H$199\",TRUE)),\"\",INDIRECT(\"'B&U_\"&A327&\"'!$H$199\",TRUE)),2)","v":{"$error":"#VALUE!"}}]
["Tilsyn 89","Status:  rød",null,null,null,null,null,null,null,null,{"$f":"COUNTIF(IF(ISERROR(INDIRECT(\"'B&U_\"&A328&\"'!$H$33\",TRUE)),\"\",INDIRECT(\"'B&U_\"&A328&\"'!$H$33\",TRUE)),3)","v":{"$error":"#VALUE!"}},{"$f":"COUNTIF(IF(ISERROR(INDIRECT(\"'B&U_\"&A328&\"'!$h$42\",TRUE)),\"\",INDIRECT(\"'B&U_\"&A328&\"'!$h$42\",TRUE)),3)","v":{"$error":"#VALUE!"}},{"$f":"COUNTIF(IF(ISERROR(INDIRECT(\"'B&U_\"&A328&\"'!$H$66\",TRUE)),\"\",INDIRECT(\"'B&U_\"&A328&\"'!$H$66\",TRUE)),3)","v":{"$error":"#VALUE!"}},{"$f":"COUNTIF(IF(ISERROR(INDIRECT(\"'B&U_\"&A328&\"'!$H$97\",TRUE)),\"\",INDIRECT(\"'B&U_\"&A328&\"'!$H$97\",TRUE)),3)","v":{"$error":"#VALUE!"}},{"$f":"COUNTIF(IF(ISERROR(INDIRECT(\"'B&U_\"&A328&\"'!$H$128\",TRUE)),\"\",INDIRECT(\"'B&U_\"&A328&\"'!$H$128\",TRUE)),3)","v":{"$error":"#VALUE!"}},{"$f":"COUNTIF(IF(ISERROR(INDIRECT(\"'B&U_\"&A328&\"'!$H$160\",TRUE)),\"\",INDIRECT(\"'B&U_\"&A328&\"'!$H$160\",TRUE)),3)","v":{"$error":"#VALUE!"}},{"$f":"COUNTIF(IF(ISERROR(INDIRECT(\"'B&U_\"&A328&\"'!$H$190\",TRUE)),\"\",INDIRECT(\"'B&U_\"&A328&\"'!$H$190\",TRUE)),3)","v":{"$error":"#VALUE!"}},{"$f":"COUNTIF(IF(ISERROR(INDIRECT(\"'B&U_\"&A328&\"'!$H$199\",TRUE)),\"\",INDIRECT(\"'B&U_\"&A328&\"'!$H$199\",TRUE)),3)","v":{"$error":"#VALUE!"}}]
["Tilsyn 90","Status:  grøn",null,null,null,null,null,null,null,null,{"$f":"COUNTIF(IF(ISERROR(INDIRECT(\"'B&U_\"&A329&\"'!$H$33\",TRUE)),\"\",INDIRECT(\"'B&U_\"&A329&\"'!$H$33\",TRUE)),1)","v":{"$error":"#VALUE!"}},{"$f":"COUNTIF(IF(ISERROR(INDIRECT(\"'B&U_\"&A329&\"'!$h$42\",TRUE)),\"\",INDIRECT(\"'B&U_\"&A329&\"'!$h$42\",TRUE)),1)","v":{"$error":"#VALUE!"}},{"$f":"COUNTIF(IF(ISERROR(INDIRECT(\"'B&U_\"&A329&\"'!$H$66\",TRUE)),\"\",INDIRECT(\"'B&U_\"&A329&\"'!$H$66\",TRUE)),1)","v":{"$error":"#VALUE!"}},{"$f":"COUNTIF(IF(ISERROR(INDIRECT(\"'B&U_\"&A329&\"'!$H$97\",TRUE)),\"\",INDIRECT(\"'B&U_\"&A329&\"'!$H$97\",TRUE)),1)","v":{"$error":"#VALUE!"}},{"$f":"COUNTIF(IF(ISERROR(INDIRECT(\"'B&U_\"&A329&\"'!$H$128\",TRUE)),\"\",INDIRECT(\"'B&U_\"&A329&\"'!$H$128\",TRUE)),1)","v":{"$error":"#VALUE!"}},{"$f":"COUNTIF(IF(ISERROR(INDIRECT(\"'B&U_\"&A329&\"'!$H$160\",TRUE)),\"\",INDIRECT(\"'B&U_\"&A329&\"'!$H$160\",TRUE)),1)","v":{"$error":"#VALUE!"}},{"$f":"COUNTIF(IF(ISERROR(INDIRECT(\"'B&U_\"&A329&\"'!$H$190\",TRUE)),\"\",INDIRECT(\"'B&U_\"&A329&\"'!$H$190\",TRUE)),1)","v":{"$error":"#VALUE!"}},{"$f":"COUNTIF(IF(ISERROR(INDIRECT(\"'B&U_\"&A329&\"'!$H$199\",TRUE)),\"\",INDIRECT(\"'B&U_\"&A329&\"'!$H$199\",TRUE)),1)","v":{"$error":"#VALUE!"}}]
["Tilsyn 90","Status:  gul",null,null,null,null,null,null,null,null,{"$f":"COUNTIF(IF(ISERROR(INDIRECT(\"'B&U_\"&A330&\"'!$H$33\",TRUE)),\"\",INDIRECT(\"'B&U_\"&A330&\"'!$H$33\",TRUE)),2)","v":{"$error":"#VALUE!"}},{"$f":"COUNTIF(IF(ISERROR(INDIRECT(\"'B&U_\"&A330&\"'!$h$42\",TRUE)),\"\",INDIRECT(\"'B&U_\"&A330&\"'!$h$42\",TRUE)),2)","v":{"$error":"#VALUE!"}},{"$f":"COUNTIF(IF(ISERROR(INDIRECT(\"'B&U_\"&A330&\"'!$H$66\",TRUE)),\"\",INDIRECT(\"'B&U_\"&A330&\"'!$H$66\",TRUE)),2)","v":{"$error":"#VALUE!"}},{"$f":"COUNTIF(IF(ISERROR(INDIRECT(\"'B&U_\"&A330&\"'!$H$97\",TRUE)),\"\",INDIRECT(\"'B&U_\"&A330&\"'!$H$97\",TRUE)),2)","v":{"$error":"#VALUE!"}},{"$f":"COUNTIF(IF(ISERROR(INDIRECT(\"'B&U_\"&A330&\"'!$H$128\",TRUE)),\"\",INDIRECT(\"'B&U_\"&A330&\"'!$H$128\",TRUE)),2)","v":{"$error":"#VALUE!"}},{"$f":"COUNTIF(IF(ISERROR(INDIRECT(\"'B&U_\"&A330&\"'!$H$160\",TRUE)),\"\",INDIRECT(\"'B&U_\"&A330&\"'!$H$160\",TRUE)),2)","v":{"$error":"#VALUE!"}},{"$f":"COUNTIF(IF(ISERROR(INDIRECT(\"'B&U_\"&A330&\"'!$H$190\",TRUE)),\"\",INDIRECT(\"'B&U_\"&A330&\"'!$H$190\",TRUE)),2)","v":{"$error":"#VALUE!"}},{"$f":"COUNTIF(IF(ISERROR(INDIRECT(\"'B&U_\"&A330&\"'!$H$199\",TRUE)),\"\",INDIRECT(\"'B&U_\"&A330&\"'!$H$199\",TRUE)),2)","v":{"$error":"#VALUE!"}}]
["Tilsyn 90","Status:  rød",null,null,null,null,null,null,null,null,{"$f":"COUNTIF(IF(ISERROR(INDIRECT(\"'B&U_\"&A331&\"'!$H$33\",TRUE)),\"\",INDIRECT(\"'B&U_\"&A331&\"'!$H$33\",TRUE)),3)","v":{"$error":"#VALUE!"}},{"$f":"COUNTIF(IF(ISERROR(INDIRECT(\"'B&U_\"&A331&\"'!$h$42\",TRUE)),\"\",INDIRECT(\"'B&U_\"&A331&\"'!$h$42\",TRUE)),3)","v":{"$error":"#VALUE!"}},{"$f":"COUNTIF(IF(ISERROR(INDIRECT(\"'B&U_\"&A331&\"'!$H$66\",TRUE)),\"\",INDIRECT(\"'B&U_\"&A331&\"'!$H$66\",TRUE)),3)","v":{"$error":"#VALUE!"}},{"$f":"COUNTIF(IF(ISERROR(INDIRECT(\"'B&U_\"&A331&\"'!$H$97\",TRUE)),\"\",INDIRECT(\"'B&U_\"&A331&\"'!$H$97\",TRUE)),3)","v":{"$error":"#VALUE!"}},{"$f":"COUNTIF(IF(ISERROR(INDIRECT(\"'B&U_\"&A331&\"'!$H$128\",TRUE)),\"\",INDIRECT(\"'B&U_\"&A331&\"'!$H$128\",TRUE)),3)","v":{"$error":"#VALUE!"}},{"$f":"COUNTIF(IF(ISERROR(INDIRECT(\"'B&U_\"&A331&\"'!$H$160\",TRUE)),\"\",INDIRECT(\"'B&U_\"&A331&\"'!$H$160\",TRUE)),3)","v":{"$error":"#VALUE!"}},{"$f":"COUNTIF(IF(ISERROR(INDIRECT(\"'B&U_\"&A331&\"'!$H$190\",TRUE)),\"\",INDIRECT(\"'B&U_\"&A331&\"'!$H$190\",TRUE)),3)","v":{"$error":"#VALUE!"}},{"$f":"COUNTIF(IF(ISERROR(INDIRECT(\"'B&U_\"&A331&\"'!$H$199\",TRUE)),\"\",INDIRECT(\"'B&U_\"&A331&\"'!$H$199\",TRUE)),3)","v":{"$error":"#VALUE!"}}]
["Tilsyn 91","Status:  grøn",null,null,null,null,null,null,null,null,{"$f":"COUNTIF(IF(ISERROR(INDIRECT(\"'B&U_\"&A332&\"'!$H$33\",TRUE)),\"\",INDIRECT(\"'B&U_\"&A332&\"'!$H$33\",TRUE)),1)","v":{"$error":"#VALUE!"}},{"$f":"COUNTIF(IF(ISERROR(INDIRECT(\"'B&U_\"&A332&\"'!$h$42\",TRUE)),\"\",INDIRECT(\"'B&U_\"&A332&\"'!$h$42\",TRUE)),1)","v":{"$error":"#VALUE!"}},{"$f":"COUNTIF(IF(ISERROR(INDIRECT(\"'B&U_\"&A332&\"'!$H$66\",TRUE)),\"\",INDIRECT(\"'B&U_\"&A332&\"'!$H$66\",TRUE)),1)","v":{"$error":"#VALUE!"}},{"$f":"COUNTIF(IF(ISERROR(INDIRECT(\"'B&U_\"&A332&\"'!$H$97\",TRUE)),\"\",INDIRECT(\"'B&U_\"&A332&\"'!$H$97\",TRUE)),1)","v":{"$error":"#VALUE!"}},{"$f":"COUNTIF(IF(ISERROR(INDIRECT(\"'B&U_\"&A332&\"'!$H$128\",TRUE)),\"\",INDIRECT(\"'B&U_\"&A332&\"'!$H$128\",TRUE)),1)","v":{"$error":"#VALUE!"}},{"$f":"COUNTIF(IF(ISERROR(INDIRECT(\"'B&U_\"&A332&\"'!$H$160\",TRUE)),\"\",INDIRECT(\"'B&U_\"&A332&\"'!$H$160\",TRUE)),1)","v":{"$error":"#VALUE!"}},{"$f":"COUNTIF(IF(ISERROR(INDIRECT(\"'B&U_\"&A332&\"'!$H$190\",TRUE)),\"\",INDIRECT(\"'B&U_\"&A332&\"'!$H$190\",TRUE)),1)","v":{"$error":"#VALUE!"}},{"$f":"COUNTIF(IF(ISERROR(INDIRECT(\"'B&U_\"&A332&\"'!$H$199\",TRUE)),\"\",INDIRECT(\"'B&U_\"&A332&\"'!$H$199\",TRUE)),1)","v":{"$error":"#VALUE!"}}]
["Tilsyn 91","Status:  gul",null,null,null,null,null,null,null,null,{"$f":"COUNTIF(IF(ISERROR(INDIRECT(\"'B&U_\"&A333&\"'!$H$33\",TRUE)),\"\",INDIRECT(\"'B&U_\"&A333&\"'!$H$33\",TRUE)),2)","v":{"$error":"#VALUE!"}},{"$f":"COUNTIF(IF(ISERROR(INDIRECT(\"'B&U_\"&A333&\"'!$h$42\",TRUE)),\"\",INDIRECT(\"'B&U_\"&A333&\"'!$h$42\",TRUE)),2)","v":{"$error":"#VALUE!"}},{"$f":"COUNTIF(IF(ISERROR(INDIRECT(\"'B&U_\"&A333&\"'!$H$66\",TRUE)),\"\",INDIRECT(\"'B&U_\"&A333&\"'!$H$66\",TRUE)),2)","v":{"$error":"#VALUE!"}},{"$f":"COUNTIF(IF(ISERROR(INDIRECT(\"'B&U_\"&A333&\"'!$H$97\",TRUE)),\"\",INDIRECT(\"'B&U_\"&A333&\"'!$H$97\",TRUE)),2)","v":{"$error":"#VALUE!"}},{"$f":"COUNTIF(IF(ISERROR(INDIRECT(\"'B&U_\"&A333&\"'!$H$128\",TRUE)),\"\",INDIRECT(\"'B&U_\"&A333&\"'!$H$128\",TRUE)),2)","v":{"$error":"#VALUE!"}},{"$f":"COUNTIF(IF(ISERROR(INDIRECT(\"'B&U_\"&A333&\"'!$H$160\",TRUE)),\"\",INDIRECT(\"'B&U_\"&A333&\"'!$H$160\",TRUE)),2)","v":{"$error":"#VALUE!"}},{"$f":"COUNTIF(IF(ISERROR(INDIRECT(\"'B&U_\"&A333&\"'!$H$190\",TRUE)),\"\",INDIRECT(\"'B&U_\"&A333&\"'!$H$190\",TRUE)),2)","v":{"$error":"#VALUE!"}},{"$f":"COUNTIF(IF(ISERROR(INDIRECT(\"'B&U_\"&A333&\"'!$H$199\",TRUE)),\"\",INDIRECT(\"'B&U_\"&A333&\"'!$H$199\",TRUE)),2)","v":{"$error":"#VALUE!"}}]
["Tilsyn 91","Status:  rød",null,null,null,null,null,null,null,null,{"$f":"COUNTIF(IF(ISERROR(INDIRECT(\"'B&U_\"&A334&\"'!$H$33\",TRUE)),\"\",INDIRECT(\"'B&U_\"&A334&\"'!$H$33\",TRUE)),3)","v":{"$error":"#VALUE!"}},{"$f":"COUNTIF(IF(ISERROR(INDIRECT(\"'B&U_\"&A334&\"'!$h$42\",TRUE)),\"\",INDIRECT(\"'B&U_\"&A334&\"'!$h$42\",TRUE)),3)","v":{"$error":"#VALUE!"}},{"$f":"COUNTIF(IF(ISERROR(INDIRECT(\"'B&U_\"&A334&\"'!$H$66\",TRUE)),\"\",INDIRECT(\"'B&U_\"&A334&\"'!$H$66\",TRUE)),3)","v":{"$error":"#VALUE!"}},{"$f":"COUNTIF(IF(ISERROR(INDIRECT(\"'B&U_\"&A334&\"'!$H$97\",TRUE)),\"\",INDIRECT(\"'B&U_\"&A334&\"'!$H$97\",TRUE)),3)","v":{"$error":"#VALUE!"}},{"$f":"COUNTIF(IF(ISERROR(INDIRECT(\"'B&U_\"&A334&\"'!$H$128\",TRUE)),\"\",INDIRECT(\"'B&U_\"&A334&\"'!$H$128\",TRUE)),3)","v":{"$error":"#VALUE!"}},{"$f":"COUNTIF(IF(ISERROR(INDIRECT(\"'B&U_\"&A334&\"'!$H$160\",TRUE)),\"\",INDIRECT(\"'B&U_\"&A334&\"'!$H$160\",TRUE)),3)","v":{"$error":"#VALUE!"}},{"$f":"COUNTIF(IF(ISERROR(INDIRECT(\"'B&U_\"&A334&\"'!$H$190\",TRUE)),\"\",INDIRECT(\"'B&U_\"&A334&\"'!$H$190\",TRUE)),3)","v":{"$error":"#VALUE!"}},{"$f":"COUNTIF(IF(ISERROR(INDIRECT(\"'B&U_\"&A334&\"'!$H$199\",TRUE)),\"\",INDIRECT(\"'B&U_\"&A334&\"'!$H$199\",TRUE)),3)","v":{"$error":"#VALUE!"}}]
["Tilsyn 92","Status:  grøn",null,null,null,null,null,null,null,null,{"$f":"COUNTIF(IF(ISERROR(INDIRECT(\"'B&U_\"&A335&\"'!$H$33\",TRUE)),\"\",INDIRECT(\"'B&U_\"&A335&\"'!$H$33\",TRUE)),1)","v":{"$error":"#VALUE!"}},{"$f":"COUNTIF(IF(ISERROR(INDIRECT(\"'B&U_\"&A335&\"'!$h$42\",TRUE)),\"\",INDIRECT(\"'B&U_\"&A335&\"'!$h$42\",TRUE)),1)","v":{"$error":"#VALUE!"}},{"$f":"COUNTIF(IF(ISERROR(INDIRECT(\"'B&U_\"&A335&\"'!$H$66\",TRUE)),\"\",INDIRECT(\"'B&U_\"&A335&\"'!$H$66\",TRUE)),1)","v":{"$error":"#VALUE!"}},{"$f":"COUNTIF(IF(ISERROR(INDIRECT(\"'B&U_\"&A335&\"'!$H$97\",TRUE)),\"\",INDIRECT(\"'B&U_\"&A335&\"'!$H$97\",TRUE)),1)","v":{"$error":"#VALUE!"}},{"$f":"COUNTIF(IF(ISERROR(INDIRECT(\"'B&U_\"&A335&\"'!$H$128\",TRUE)),\"\",INDIRECT(\"'B&U_\"&A335&\"'!$H$128\",TRUE)),1)","v":{"$error":"#VALUE!"}},{"$f":"COUNTIF(IF(ISERROR(INDIRECT(\"'B&U_\"&A335&\"'!$H$160\",TRUE)),\"\",INDIRECT(\"'B&U_\"&A335&\"'!$H$160\",TRUE)),1)","v":{"$error":"#VALUE!"}},{"$f":"COUNTIF(IF(ISERROR(INDIRECT(\"'B&U_\"&A335&\"'!$H$190\",TRUE)),\"\",INDIRECT(\"'B&U_\"&A335&\"'!$H$190\",TRUE)),1)","v":{"$error":"#VALUE!"}},{"$f":"COUNTIF(IF(ISERROR(INDIRECT(\"'B&U_\"&A335&\"'!$H$199\",TRUE)),\"\",INDIRECT(\"'B&U_\"&A335&\"'!$H$199\",TRUE)),1)","v":{"$error":"#VALUE!"}}]
["Tilsyn 92","Status:  gul",null,null,null,null,null,null,null,null,{"$f":"COUNTIF(IF(ISERROR(INDIRECT(\"'B&U_\"&A336&\"'!$H$33\",TRUE)),\"\",INDIRECT(\"'B&U_\"&A336&\"'!$H$33\",TRUE)),2)","v":{"$error":"#VALUE!"}},{"$f":"COUNTIF(IF(ISERROR(INDIRECT(\"'B&U_\"&A336&\"'!$h$42\",TRUE)),\"\",INDIRECT(\"'B&U_\"&A336&\"'!$h$42\",TRUE)),2)","v":{"$error":"#VALUE!"}},{"$f":"COUNTIF(IF(ISERROR(INDIRECT(\"'B&U_\"&A336&\"'!$H$66\",TRUE)),\"\",INDIRECT(\"'B&U_\"&A336&\"'!$H$66\",TRUE)),2)","v":{"$error":"#VALUE!"}},{"$f":"COUNTIF(IF(ISERROR(INDIRECT(\"'B&U_\"&A336&\"'!$H$97\",TRUE)),\"\",INDIRECT(\"'B&U_\"&A336&\"'!$H$97\",TRUE)),2)","v":{"$error":"#VALUE!"}},{"$f":"COUNTIF(IF(ISERROR(INDIRECT(\"'B&U_\"&A336&\"'!$H$128\",TRUE)),\"\",INDIRECT(\"'B&U_\"&A336&\"'!$H$128\",TRUE)),2)","v":{"$error":"#VALUE!"}},{"$f":"COUNTIF(IF(ISERROR(INDIRECT(\"'B&U_\"&A336&\"'!$H$160\",TRUE)),\"\",INDIRECT(\"'B&U_\"&A336&\"'!$H$160\",TRUE)),2)","v":{"$error":"#VALUE!"}},{"$f":"COUNTIF(IF(ISERROR(INDIRECT(\"'B&U_\"&A336&\"'!$H$190\",TRUE)),\"\",INDIRECT(\"'B&U_\"&A336&\"'!$H$190\",TRUE)),2)","v":{"$error":"#VALUE!"}},{"$f":"COUNTIF(IF(ISERROR(INDIRECT(\"'B&U_\"&A336&\"'!$H$199\",TRUE)),\"\",INDIRECT(\"'B&U_\"&A336&\"'!$H$199\",TRUE)),2)","v":{"$error":"#VALUE!"}}]
["Tilsyn 92","Status:  rød",null,null,null,null,null,null,null,null,{"$f":"COUNTIF(IF(ISERROR(INDIRECT(\"'B&U_\"&A337&\"'!$H$33\",TRUE)),\"\",INDIRECT(\"'B&U_\"&A337&\"'!$H$33\",TRUE)),3)","v":{"$error":"#VALUE!"}},{"$f":"COUNTIF(IF(ISERROR(INDIRECT(\"'B&U_\"&A337&\"'!$h$42\",TRUE)),\"\",INDIRECT(\"'B&U_\"&A337&\"'!$h$42\",TRUE)),3)","v":{"$error":"#VALUE!"}},{"$f":"COUNTIF(IF(ISERROR(INDIRECT(\"'B&U_\"&A337&\"'!$H$66\",TRUE)),\"\",INDIRECT(\"'B&U_\"&A337&\"'!$H$66\",TRUE)),3)","v":{"$error":"#VALUE!"}},{"$f":"COUNTIF(IF(ISERROR(INDIRECT(\"'B&U_\"&A337&\"'!$H$97\",TRUE)),\"\",INDIRECT(\"'B&U_\"&A337&\"'!$H$97\",TRUE)),3)","v":{"$error":"#VALUE!"}},{"$f":"COUNTIF(IF(ISERROR(INDIRECT(\"'B&U_\"&A337&\"'!$H$128\",TRUE)),\"\",INDIRECT(\"'B&U_\"&A337&\"'!$H$128\",TRUE)),3)","v":{"$error":"#VALUE!"}},{"$f":"COUNTIF(IF(ISERROR(INDIRECT(\"'B&U_\"&A337&\"'!$H$160\",TRUE)),\"\",INDIRECT(\"'B&U_\"&A337&\"'!$H$160\",TRUE)),3)","v":{"$error":"#VALUE!"}},{"$f":"COUNTIF(IF(ISERROR(INDIRECT(\"'B&U_\"&A337&\"'!$H$190\",TRUE)),\"\",INDIRECT(\"'B&U_\"&A337&\"'!$H$190\",TRUE)),3)","v":{"$error":"#VALUE!"}},{"$f":"COUNTIF(IF(ISERROR(INDIRECT(\"'B&U_\"&A337&\"'!$H$199\",TRUE)),\"\",INDIRECT(\"'B&U_\"&A337&\"'!$H$199\",TRUE)),3)","v":{"$error":"#VALUE!"}}]
["Tilsyn 93","Status:  grøn",null,null,null,null,null,null,null,null,{"$f":"COUNTIF(IF(ISERROR(INDIRECT(\"'B&U_\"&A338&\"'!$H$33\",TRUE)),\"\",INDIRECT(\"'B&U_\"&A338&\"'!$H$33\",TRUE)),1)","v":{"$error":"#VALUE!"}},{"$f":"COUNTIF(IF(ISERROR(INDIRECT(\"'B&U_\"&A338&\"'!$h$42\",TRUE)),\"\",INDIRECT(\"'B&U_\"&A338&\"'!$h$42\",TRUE)),1)","v":{"$error":"#VALUE!"}},{"$f":"COUNTIF(IF(ISERROR(INDIRECT(\"'B&U_\"&A338&\"'!$H$66\",TRUE)),\"\",INDIRECT(\"'B&U_\"&A338&\"'!$H$66\",TRUE)),1)","v":{"$error":"#VALUE!"}},{"$f":"COUNTIF(IF(ISERROR(INDIRECT(\"'B&U_\"&A338&\"'!$H$97\",TRUE)),\"\",INDIRECT(\"'B&U_\"&A338&\"'!$H$97\",TRUE)),1)","v":{"$error":"#VALUE!"}},{"$f":"COUNTIF(IF(ISERROR(INDIRECT(\"'B&U_\"&A338&\"'!$H$128\",TRUE)),\"\",INDIRECT(\"'B&U_\"&A338&\"'!$H$128\",TRUE)),1)","v":{"$error":"#VALUE!"}},{"$f":"COUNTIF(IF(ISERROR(INDIRECT(\"'B&U_\"&A338&\"'!$H$160\",TRUE)),\"\",INDIRECT(\"'B&U_\"&A338&\"'!$H$160\",TRUE)),1)","v":{"$error":"#VALUE!"}},{"$f":"COUNTIF(IF(ISERROR(INDIRECT(\"'B&U_\"&A338&\"'!$H$190\",TRUE)),\"\",INDIRECT(\"'B&U_\"&A338&\"'!$H$190\",TRUE)),1)","v":{"$error":"#VALUE!"}},{"$f":"COUNTIF(IF(ISERROR(INDIRECT(\"'B&U_\"&A338&\"'!$H$199\",TRUE)),\"\",INDIRECT(\"'B&U_\"&A338&\"'!$H$199\",TRUE)),1)","v":{"$error":"#VALUE!"}}]
["Tilsyn 93","Status:  gul",null,null,null,null,null,null,null,null,{"$f":"COUNTIF(IF(ISERROR(INDIRECT(\"'B&U_\"&A339&\"'!$H$33\",TRUE)),\"\",INDIRECT(\"'B&U_\"&A339&\"'!$H$33\",TRUE)),2)","v":{"$error":"#VALUE!"}},{"$f":"COUNTIF(IF(ISERROR(INDIRECT(\"'B&U_\"&A339&\"'!$h$42\",TRUE)),\"\",INDIRECT(\"'B&U_\"&A339&\"'!$h$42\",TRUE)),2)","v":{"$error":"#VALUE!"}},{"$f":"COUNTIF(IF(ISERROR(INDIRECT(\"'B&U_\"&A339&\"'!$H$66\",TRUE)),\"\",INDIRECT(\"'B&U_\"&A339&\"'!$H$66\",TRUE)),2)","v":{"$error":"#VALUE!"}},{"$f":"COUNTIF(IF(ISERROR(INDIRECT(\"'B&U_\"&A339&\"'!$H$97\",TRUE)),\"\",INDIRECT(\"'B&U_\"&A339&\"'!$H$97\",TRUE)),2)","v":{"$error":"#VALUE!"}},{"$f":"COUNTIF(IF(ISERROR(INDIRECT(\"'B&U_\"&A339&\"'!$H$128\",TRUE)),\"\",INDIRECT(\"'B&U_\"&A339&\"'!$H$128\",TRUE)),2)","v":{"$error":"#VALUE!"}},{"$f":"COUNTIF(IF(ISERROR(INDIRECT(\"'B&U_\"&A339&\"'!$H$160\",TRUE)),\"\",INDIRECT(\"'B&U_\"&A339&\"'!$H$160\",TRUE)),2)","v":{"$error":"#VALUE!"}},{"$f":"COUNTIF(IF(ISERROR(INDIRECT(\"'B&U_\"&A339&\"'!$H$190\",TRUE)),\"\",INDIRECT(\"'B&U_\"&A339&\"'!$H$190\",TRUE)),2)","v":{"$error":"#VALUE!"}},{"$f":"COUNTIF(IF(ISERROR(INDIRECT(\"'B&U_\"&A339&\"'!$H$199\",TRUE)),\"\",INDIRECT(\"'B&U_\"&A339&\"'!$H$199\",TRUE)),2)","v":{"$error":"#VALUE!"}}]
["Tilsyn 93","Status:  rød",null,null,null,null,null,null,null,null,{"$f":"COUNTIF(IF(ISERROR(INDIRECT(\"'B&U_\"&A340&\"'!$H$33\",TRUE)),\"\",INDIRECT(\"'B&U_\"&A340&\"'!$H$33\",TRUE)),3)","v":{"$error":"#VALUE!"}},{"$f":"COUNTIF(IF(ISERROR(INDIRECT(\"'B&U_\"&A340&\"'!$h$42\",TRUE)),\"\",INDIRECT(\"'B&U_\"&A340&\"'!$h$42\",TRUE)),3)","v":{"$error":"#VALUE!"}},{"$f":"COUNTIF(IF(ISERROR(INDIRECT(\"'B&U_\"&A340&\"'!$H$66\",TRUE)),\"\",INDIRECT(\"'B&U_\"&A340&\"'!$H$66\",TRUE)),3)","v":{"$error":"#VALUE!"}},{"$f":"COUNTIF(IF(ISERROR(INDIRECT(\"'B&U_\"&A340&\"'!$H$97\",TRUE)),\"\",INDIRECT(\"'B&U_\"&A340&\"'!$H$97\",TRUE)),3)","v":{"$error":"#VALUE!"}},{"$f":"COUNTIF(IF(ISERROR(INDIRECT(\"'B&U_\"&A340&\"'!$H$128\",TRUE)),\"\",INDIRECT(\"'B&U_\"&A340&\"'!$H$128\",TRUE)),3)","v":{"$error":"#VALUE!"}},{"$f":"COUNTIF(IF(ISERROR(INDIRECT(\"'B&U_\"&A340&\"'!$H$160\",TRUE)),\"\",INDIRECT(\"'B&U_\"&A340&\"'!$H$160\",TRUE)),3)","v":{"$error":"#VALUE!"}},{"$f":"COUNTIF(IF(ISERROR(INDIRECT(\"'B&U_\"&A340&\"'!$H$190\",TRUE)),\"\",INDIRECT(\"'B&U_\"&A340&\"'!$H$190\",TRUE)),3)","v":{"$error":"#VALUE!"}},{"$f":"COUNTIF(IF(ISERROR(INDIRECT(\"'B&U_\"&A340&\"'!$H$199\",TRUE)),\"\",INDIRECT(\"'B&U_\"&A340&\"'!$H$199\",TRUE)),3)","v":{"$error":"#VALUE!"}}]
["Tilsyn 94","Status:  grøn",null,null,null,null,null,null,null,null,{"$f":"COUNTIF(IF(ISERROR(INDIRECT(\"'B&U_\"&A341&\"'!$H$33\",TRUE)),\"\",INDIRECT(\"'B&U_\"&A341&\"'!$H$33\",TRUE)),1)","v":{"$error":"#VALUE!"}},{"$f":"COUNTIF(IF(ISERROR(INDIRECT(\"'B&U_\"&A341&\"'!$h$42\",TRUE)),\"\",INDIRECT(\"'B&U_\"&A341&\"'!$h$42\",TRUE)),1)","v":{"$error":"#VALUE!"}},{"$f":"COUNTIF(IF(ISERROR(INDIRECT(\"'B&U_\"&A341&\"'!$H$66\",TRUE)),\"\",INDIRECT(\"'B&U_\"&A341&\"'!$H$66\",TRUE)),1)","v":{"$error":"#VALUE!"}},{"$f":"COUNTIF(IF(ISERROR(INDIRECT(\"'B&U_\"&A341&\"'!$H$97\",TRUE)),\"\",INDIRECT(\"'B&U_\"&A341&\"'!$H$97\",TRUE)),1)","v":{"$error":"#VALUE!"}},{"$f":"COUNTIF(IF(ISERROR(INDIRECT(\"'B&U_\"&A341&\"'!$H$128\",TRUE)),\"\",INDIRECT(\"'B&U_\"&A341&\"'!$H$128\",TRUE)),1)","v":{"$error":"#VALUE!"}},{"$f":"COUNTIF(IF(ISERROR(INDIRECT(\"'B&U_\"&A341&\"'!$H$160\",TRUE)),\"\",INDIRECT(\"'B&U_\"&A341&\"'!$H$160\",TRUE)),1)","v":{"$error":"#VALUE!"}},{"$f":"COUNTIF(IF(ISERROR(INDIRECT(\"'B&U_\"&A341&\"'!$H$190\",TRUE)),\"\",INDIRECT(\"'B&U_\"&A341&\"'!$H$190\",TRUE)),1)","v":{"$error":"#VALUE!"}},{"$f":"COUNTIF(IF(ISERROR(INDIRECT(\"'B&U_\"&A341&\"'!$H$199\",TRUE)),\"\",INDIRECT(\"'B&U_\"&A341&\"'!$H$199\",TRUE)),1)","v":{"$error":"#VALUE!"}}]
["Tilsyn 94","Status:  gul",null,null,null,null,null,null,null,null,{"$f":"COUNTIF(IF(ISERROR(INDIRECT(\"'B&U_\"&A342&\"'!$H$33\",TRUE)),\"\",INDIRECT(\"'B&U_\"&A342&\"'!$H$33\",TRUE)),2)","v":{"$error":"#VALUE!"}},{"$f":"COUNTIF(IF(ISERROR(INDIRECT(\"'B&U_\"&A342&\"'!$h$42\",TRUE)),\"\",INDIRECT(\"'B&U_\"&A342&\"'!$h$42\",TRUE)),2)","v":{"$error":"#VALUE!"}},{"$f":"COUNTIF(IF(ISERROR(INDIRECT(\"'B&U_\"&A342&\"'!$H$66\",TRUE)),\"\",INDIRECT(\"'B&U_\"&A342&\"'!$H$66\",TRUE)),2)","v":{"$error":"#VALUE!"}},{"$f":"COUNTIF(IF(ISERROR(INDIRECT(\"'B&U_\"&A342&\"'!$H$97\",TRUE)),\"\",INDIRECT(\"'B&U_\"&A342&\"'!$H$97\",TRUE)),2)","v":{"$error":"#VALUE!"}},{"$f":"COUNTIF(IF(ISERROR(INDIRECT(\"'B&U_\"&A342&\"'!$H$128\",TRUE)),\"\",INDIRECT(\"'B&U_\"&A342&\"'!$H$128\",TRUE)),2)","v":{"$error":"#VALUE!"}},{"$f":"COUNTIF(IF(ISERROR(INDIRECT(\"'B&U_\"&A342&\"'!$H$160\",TRUE)),\"\",INDIRECT(\"'B&U_\"&A342&\"'!$H$160\",TRUE)),2)","v":{"$error":"#VALUE!"}},{"$f":"COUNTIF(IF(ISERROR(INDIRECT(\"'B&U_\"&A342&\"'!$H$190\",TRUE)),\"\",INDIRECT(\"'B&U_\"&A342&\"'!$H$190\",TRUE)),2)","v":{"$error":"#VALUE!"}},{"$f":"COUNTIF(IF(ISERROR(INDIRECT(\"'B&U_\"&A342&\"'!$H$199\",TRUE)),\"\",INDIRECT(\"'B&U_\"&A342&\"'!$H$199\",TRUE)),2)","v":{"$error":"#VALUE!"}}]
["Tilsyn 94","Status:  rød",null,null,null,null,null,null,null,null,{"$f":"COUNTIF(IF(ISERROR(INDIRECT(\"'B&U_\"&A343&\"'!$H$33\",TRUE)),\"\",INDIRECT(\"'B&U_\"&A343&\"'!$H$33\",TRUE)),3)","v":{"$error":"#VALUE!"}},{"$f":"COUNTIF(IF(ISERROR(INDIRECT(\"'B&U_\"&A343&\"'!$h$42\",TRUE)),\"\",INDIRECT(\"'B&U_\"&A343&\"'!$h$42\",TRUE)),3)","v":{"$error":"#VALUE!"}},{"$f":"COUNTIF(IF(ISERROR(INDIRECT(\"'B&U_\"&A343&\"'!$H$66\",TRUE)),\"\",INDIRECT(\"'B&U_\"&A343&\"'!$H$66\",TRUE)),3)","v":{"$error":"#VALUE!"}},{"$f":"COUNTIF(IF(ISERROR(INDIRECT(\"'B&U_\"&A343&\"'!$H$97\",TRUE)),\"\",INDIRECT(\"'B&U_\"&A343&\"'!$H$97\",TRUE)),3)","v":{"$error":"#VALUE!"}},{"$f":"COUNTIF(IF(ISERROR(INDIRECT(\"'B&U_\"&A343&\"'!$H$128\",TRUE)),\"\",INDIRECT(\"'B&U_\"&A343&\"'!$H$128\",TRUE)),3)","v":{"$error":"#VALUE!"}},{"$f":"COUNTIF(IF(ISERROR(INDIRECT(\"'B&U_\"&A343&\"'!$H$160\",TRUE)),\"\",INDIRECT(\"'B&U_\"&A343&\"'!$H$160\",TRUE)),3)","v":{"$error":"#VALUE!"}},{"$f":"COUNTIF(IF(ISERROR(INDIRECT(\"'B&U_\"&A343&\"'!$H$190\",TRUE)),\"\",INDIRECT(\"'B&U_\"&A343&\"'!$H$190\",TRUE)),3)","v":{"$error":"#VALUE!"}},{"$f":"COUNTIF(IF(ISERROR(INDIRECT(\"'B&U_\"&A343&\"'!$H$199\",TRUE)),\"\",INDIRECT(\"'B&U_\"&A343&\"'!$H$199\",TRUE)),3)","v":{"$error":"#VALUE!"}}]
["Tilsyn 95","Status:  grøn",null,null,null,null,null,null,null,null,{"$f":"COUNTIF(IF(ISERROR(INDIRECT(\"'B&U_\"&A344&\"'!$H$33\",TRUE)),\"\",INDIRECT(\"'B&U_\"&A344&\"'!$H$33\",TRUE)),1)","v":{"$error":"#VALUE!"}},{"$f":"COUNTIF(IF(ISERROR(INDIRECT(\"'B&U_\"&A344&\"'!$h$42\",TRUE)),\"\",INDIRECT(\"'B&U_\"&A344&\"'!$h$42\",TRUE)),1)","v":{"$error":"#VALUE!"}},{"$f":"COUNTIF(IF(ISERROR(INDIRECT(\"'B&U_\"&A344&\"'!$H$66\",TRUE)),\"\",INDIRECT(\"'B&U_\"&A344&\"'!$H$66\",TRUE)),1)","v":{"$error":"#VALUE!"}},{"$f":"COUNTIF(IF(ISERROR(INDIRECT(\"'B&U_\"&A344&\"'!$H$97\",TRUE)),\"\",INDIRECT(\"'B&U_\"&A344&\"'!$H$97\",TRUE)),1)","v":{"$error":"#VALUE!"}},{"$f":"COUNTIF(IF(ISERROR(INDIRECT(\"'B&U_\"&A344&\"'!$H$128\",TRUE)),\"\",INDIRECT(\"'B&U_\"&A344&\"'!$H$128\",TRUE)),1)","v":{"$error":"#VALUE!"}},{"$f":"COUNTIF(IF(ISERROR(INDIRECT(\"'B&U_\"&A344&\"'!$H$160\",TRUE)),\"\",INDIRECT(\"'B&U_\"&A344&\"'!$H$160\",TRUE)),1)","v":{"$error":"#VALUE!"}},{"$f":"COUNTIF(IF(ISERROR(INDIRECT(\"'B&U_\"&A344&\"'!$H$190\",TRUE)),\"\",INDIRECT(\"'B&U_\"&A344&\"'!$H$190\",TRUE)),1)","v":{"$error":"#VALUE!"}},{"$f":"COUNTIF(IF(ISERROR(INDIRECT(\"'B&U_\"&A344&\"'!$H$199\",TRUE)),\"\",INDIRECT(\"'B&U_\"&A344&\"'!$H$199\",TRUE)),1)","v":{"$error":"#VALUE!"}}]
["Tilsyn 95","Status:  gul",null,null,null,null,null,null,null,null,{"$f":"COUNTIF(IF(ISERROR(INDIRECT(\"'B&U_\"&A345&\"'!$H$33\",TRUE)),\"\",INDIRECT(\"'B&U_\"&A345&\"'!$H$33\",TRUE)),2)","v":{"$error":"#VALUE!"}},{"$f":"COUNTIF(IF(ISERROR(INDIRECT(\"'B&U_\"&A345&\"'!$h$42\",TRUE)),\"\",INDIRECT(\"'B&U_\"&A345&\"'!$h$42\",TRUE)),2)","v":{"$error":"#VALUE!"}},{"$f":"COUNTIF(IF(ISERROR(INDIRECT(\"'B&U_\"&A345&\"'!$H$66\",TRUE)),\"\",INDIRECT(\"'B&U_\"&A345&\"'!$H$66\",TRUE)),2)","v":{"$error":"#VALUE!"}},{"$f":"COUNTIF(IF(ISERROR(INDIRECT(\"'B&U_\"&A345&\"'!$H$97\",TRUE)),\"\",INDIRECT(\"'B&U_\"&A345&\"'!$H$97\",TRUE)),2)","v":{"$error":"#VALUE!"}},{"$f":"COUNTIF(IF(ISERROR(INDIRECT(\"'B&U_\"&A345&\"'!$H$128\",TRUE)),\"\",INDIRECT(\"'B&U_\"&A345&\"'!$H$128\",TRUE)),2)","v":{"$error":"#VALUE!"}},{"$f":"COUNTIF(IF(ISERROR(INDIRECT(\"'B&U_\"&A345&\"'!$H$160\",TRUE)),\"\",INDIRECT(\"'B&U_\"&A345&\"'!$H$160\",TRUE)),2)","v":{"$error":"#VALUE!"}},{"$f":"COUNTIF(IF(ISERROR(INDIRECT(\"'B&U_\"&A345&\"'!$H$190\",TRUE)),\"\",INDIRECT(\"'B&U_\"&A345&\"'!$H$190\",TRUE)),2)","v":{"$error":"#VALUE!"}},{"$f":"COUNTIF(IF(ISERROR(INDIRECT(\"'B&U_\"&A345&\"'!$H$199\",TRUE)),\"\",INDIRECT(\"'B&U_\"&A345&\"'!$H$199\",TRUE)),2)","v":{"$error":"#VALUE!"}}]
["Tilsyn 95","Status:  rød",null,null,null,null,null,null,null,null,{"$f":"COUNTIF(IF(ISERROR(INDIRECT(\"'B&U_\"&A346&\"'!$H$33\",TRUE)),\"\",INDIRECT(\"'B&U_\"&A346&\"'!$H$33\",TRUE)),3)","v":{"$error":"#VALUE!"}},{"$f":"COUNTIF(IF(ISERROR(INDIRECT(\"'B&U_\"&A346&\"'!$h$42\",TRUE)),\"\",INDIRECT(\"'B&U_\"&A346&\"'!$h$42\",TRUE)),3)","v":{"$error":"#VALUE!"}},{"$f":"COUNTIF(IF(ISERROR(INDIRECT(\"'B&U_\"&A346&\"'!$H$66\",TRUE)),\"\",INDIRECT(\"'B&U_\"&A346&\"'!$H$66\",TRUE)),3)","v":{"$error":"#VALUE!"}},{"$f":"COUNTIF(IF(ISERROR(INDIRECT(\"'B&U_\"&A346&\"'!$H$97\",TRUE)),\"\",INDIRECT(\"'B&U_\"&A346&\"'!$H$97\",TRUE)),3)","v":{"$error":"#VALUE!"}},{"$f":"COUNTIF(IF(ISERROR(INDIRECT(\"'B&U_\"&A346&\"'!$H$128\",TRUE)),\"\",INDIRECT(\"'B&U_\"&A346&\"'!$H$128\",TRUE)),3)","v":{"$error":"#VALUE!"}},{"$f":"COUNTIF(IF(ISERROR(INDIRECT(\"'B&U_\"&A346&\"'!$H$160\",TRUE)),\"\",INDIRECT(\"'B&U_\"&A346&\"'!$H$160\",TRUE)),3)","v":{"$error":"#VALUE!"}},{"$f":"COUNTIF(IF(ISERROR(INDIRECT(\"'B&U_\"&A346&\"'!$H$190\",TRUE)),\"\",INDIRECT(\"'B&U_\"&A346&\"'!$H$190\",TRUE)),3)","v":{"$error":"#VALUE!"}},{"$f":"COUNTIF(IF(ISERROR(INDIRECT(\"'B&U_\"&A346&\"'!$H$199\",TRUE)),\"\",INDIRECT(\"'B&U_\"&A346&\"'!$H$199\",TRUE)),3)","v":{"$error":"#VALUE!"}}]
["Tilsyn 96","Status:  grøn",null,null,null,null,null,null,null,null,{"$f":"COUNTIF(IF(ISERROR(INDIRECT(\"'B&U_\"&A347&\"'!$H$33\",TRUE)),\"\",INDIRECT(\"'B&U_\"&A347&\"'!$H$33\",TRUE)),1)","v":{"$error":"#VALUE!"}},{"$f":"COUNTIF(IF(ISERROR(INDIRECT(\"'B&U_\"&A347&\"'!$h$42\",TRUE)),\"\",INDIRECT(\"'B&U_\"&A347&\"'!$h$42\",TRUE)),1)","v":{"$error":"#VALUE!"}},{"$f":"COUNTIF(IF(ISERROR(INDIRECT(\"'B&U_\"&A347&\"'!$H$66\",TRUE)),\"\",INDIRECT(\"'B&U_\"&A347&\"'!$H$66\",TRUE)),1)","v":{"$error":"#VALUE!"}},{"$f":"COUNTIF(IF(ISERROR(INDIRECT(\"'B&U_\"&A347&\"'!$H$97\",TRUE)),\"\",INDIRECT(\"'B&U_\"&A347&\"'!$H$97\",TRUE)),1)","v":{"$error":"#VALUE!"}},{"$f":"COUNTIF(IF(ISERROR(INDIRECT(\"'B&U_\"&A347&\"'!$H$128\",TRUE)),\"\",INDIRECT(\"'B&U_\"&A347&\"'!$H$128\",TRUE)),1)","v":{"$error":"#VALUE!"}},{"$f":"COUNTIF(IF(ISERROR(INDIRECT(\"'B&U_\"&A347&\"'!$H$160\",TRUE)),\"\",INDIRECT(\"'B&U_\"&A347&\"'!$H$160\",TRUE)),1)","v":{"$error":"#VALUE!"}},{"$f":"COUNTIF(IF(ISERROR(INDIRECT(\"'B&U_\"&A347&\"'!$H$190\",TRUE)),\"\",INDIRECT(\"'B&U_\"&A347&\"'!$H$190\",TRUE)),1)","v":{"$error":"#VALUE!"}},{"$f":"COUNTIF(IF(ISERROR(INDIRECT(\"'B&U_\"&A347&\"'!$H$199\",TRUE)),\"\",INDIRECT(\"'B&U_\"&A347&\"'!$H$199\",TRUE)),1)","v":{"$error":"#VALUE!"}}]
["Tilsyn 96","Status:  gul",null,null,null,null,null,null,null,null,{"$f":"COUNTIF(IF(ISERROR(INDIRECT(\"'B&U_\"&A348&\"'!$H$33\",TRUE)),\"\",INDIRECT(\"'B&U_\"&A348&\"'!$H$33\",TRUE)),2)","v":{"$error":"#VALUE!"}},{"$f":"COUNTIF(IF(ISERROR(INDIRECT(\"'B&U_\"&A348&\"'!$h$42\",TRUE)),\"\",INDIRECT(\"'B&U_\"&A348&\"'!$h$42\",TRUE)),2)","v":{"$error":"#VALUE!"}},{"$f":"COUNTIF(IF(ISERROR(INDIRECT(\"'B&U_\"&A348&\"'!$H$66\",TRUE)),\"\",INDIRECT(\"'B&U_\"&A348&\"'!$H$66\",TRUE)),2)","v":{"$error":"#VALUE!"}},{"$f":"COUNTIF(IF(ISERROR(INDIRECT(\"'B&U_\"&A348&\"'!$H$97\",TRUE)),\"\",INDIRECT(\"'B&U_\"&A348&\"'!$H$97\",TRUE)),2)","v":{"$error":"#VALUE!"}},{"$f":"COUNTIF(IF(ISERROR(INDIRECT(\"'B&U_\"&A348&\"'!$H$128\",TRUE)),\"\",INDIRECT(\"'B&U_\"&A348&\"'!$H$128\",TRUE)),2)","v":{"$error":"#VALUE!"}},{"$f":"COUNTIF(IF(ISERROR(INDIRECT(\"'B&U_\"&A348&\"'!$H$160\",TRUE)),\"\",INDIRECT(\"'B&U_\"&A348&\"'!$H$160\",TRUE)),2)","v":{"$error":"#VALUE!"}},{"$f":"COUNTIF(IF(ISERROR(INDIRECT(\"'B&U_\"&A348&\"'!$H$190\",TRUE)),\"\",INDIRECT(\"'B&U_\"&A348&\"'!$H$190\",TRUE)),2)","v":{"$error":"#VALUE!"}},{"$f":"COUNTIF(IF(ISERROR(INDIRECT(\"'B&U_\"&A348&\"'!$H$199\",TRUE)),\"\",INDIRECT(\"'B&U_\"&A348&\"'!$H$199\",TRUE)),2)","v":{"$error":"#VALUE!"}}]
["Tilsyn 96","Status:  rød",null,null,null,null,null,null,null,null,{"$f":"COUNTIF(IF(ISERROR(INDIRECT(\"'B&U_\"&A349&\"'!$H$33\",TRUE)),\"\",INDIRECT(\"'B&U_\"&A349&\"'!$H$33\",TRUE)),3)","v":{"$error":"#VALUE!"}},{"$f":"COUNTIF(IF(ISERROR(INDIRECT(\"'B&U_\"&A349&\"'!$h$42\",TRUE)),\"\",INDIRECT(\"'B&U_\"&A349&\"'!$h$42\",TRUE)),3)","v":{"$error":"#VALUE!"}},{"$f":"COUNTIF(IF(ISERROR(INDIRECT(\"'B&U_\"&A349&\"'!$H$66\",TRUE)),\"\",INDIRECT(\"'B&U_\"&A349&\"'!$H$66\",TRUE)),3)","v":{"$error":"#VALUE!"}},{"$f":"COUNTIF(IF(ISERROR(INDIRECT(\"'B&U_\"&A349&\"'!$H$97\",TRUE)),\"\",INDIRECT(\"'B&U_\"&A349&\"'!$H$97\",TRUE)),3)","v":{"$error":"#VALUE!"}},{"$f":"COUNTIF(IF(ISERROR(INDIRECT(\"'B&U_\"&A349&\"'!$H$128\",TRUE)),\"\",INDIRECT(\"'B&U_\"&A349&\"'!$H$128\",TRUE)),3)","v":{"$error":"#VALUE!"}},{"$f":"COUNTIF(IF(ISERROR(INDIRECT(\"'B&U_\"&A349&\"'!$H$160\",TRUE)),\"\",INDIRECT(\"'B&U_\"&A349&\"'!$H$160\",TRUE)),3)","v":{"$error":"#VALUE!"}},{"$f":"COUNTIF(IF(ISERROR(INDIRECT(\"'B&U_\"&A349&\"'!$H$190\",TRUE)),\"\",INDIRECT(\"'B&U_\"&A349&\"'!$H$190\",TRUE)),3)","v":{"$error":"#VALUE!"}},{"$f":"COUNTIF(IF(ISERROR(INDIRECT(\"'B&U_\"&A349&\"'!$H$199\",TRUE)),\"\",INDIRECT(\"'B&U_\"&A349&\"'!$H$199\",TRUE)),3)","v":{"$error":"#VALUE!"}}]
["Tilsyn 97","Status:  grøn",null,null,null,null,null,null,null,null,{"$f":"COUNTIF(IF(ISERROR(INDIRECT(\"'B&U_\"&A350&\"'!$H$33\",TRUE)),\"\",INDIRECT(\"'B&U_\"&A350&\"'!$H$33\",TRUE)),1)","v":{"$error":"#VALUE!"}},{"$f":"COUNTIF(IF(ISERROR(INDIRECT(\"'B&U_\"&A350&\"'!$h$42\",TRUE)),\"\",INDIRECT(\"'B&U_\"&A350&\"'!$h$42\",TRUE)),1)","v":{"$error":"#VALUE!"}},{"$f":"COUNTIF(IF(ISERROR(INDIRECT(\"'B&U_\"&A350&\"'!$H$66\",TRUE)),\"\",INDIRECT(\"'B&U_\"&A350&\"'!$H$66\",TRUE)),1)","v":{"$error":"#VALUE!"}},{"$f":"COUNTIF(IF(ISERROR(INDIRECT(\"'B&U_\"&A350&\"'!$H$97\",TRUE)),\"\",INDIRECT(\"'B&U_\"&A350&\"'!$H$97\",TRUE)),1)","v":{"$error":"#VALUE!"}},{"$f":"COUNTIF(IF(ISERROR(INDIRECT(\"'B&U_\"&A350&\"'!$H$128\",TRUE)),\"\",INDIRECT(\"'B&U_\"&A350&\"'!$H$128\",TRUE)),1)","v":{"$error":"#VALUE!"}},{"$f":"COUNTIF(IF(ISERROR(INDIRECT(\"'B&U_\"&A350&\"'!$H$160\",TRUE)),\"\",INDIRECT(\"'B&U_\"&A350&\"'!$H$160\",TRUE)),1)","v":{"$error":"#VALUE!"}},{"$f":"COUNTIF(IF(ISERROR(INDIRECT(\"'B&U_\"&A350&\"'!$H$190\",TRUE)),\"\",INDIRECT(\"'B&U_\"&A350&\"'!$H$190\",TRUE)),1)","v":{"$error":"#VALUE!"}},{"$f":"COUNTIF(IF(ISERROR(INDIRECT(\"'B&U_\"&A350&\"'!$H$199\",TRUE)),\"\",INDIRECT(\"'B&U_\"&A350&\"'!$H$199\",TRUE)),1)","v":{"$error":"#VALUE!"}}]
["Tilsyn 97","Status:  gul",null,null,null,null,null,null,null,null,{"$f":"COUNTIF(IF(ISERROR(INDIRECT(\"'B&U_\"&A351&\"'!$H$33\",TRUE)),\"\",INDIRECT(\"'B&U_\"&A351&\"'!$H$33\",TRUE)),2)","v":{"$error":"#VALUE!"}},{"$f":"COUNTIF(IF(ISERROR(INDIRECT(\"'B&U_\"&A351&\"'!$h$42\",TRUE)),\"\",INDIRECT(\"'B&U_\"&A351&\"'!$h$42\",TRUE)),2)","v":{"$error":"#VALUE!"}},{"$f":"COUNTIF(IF(ISERROR(INDIRECT(\"'B&U_\"&A351&\"'!$H$66\",TRUE)),\"\",INDIRECT(\"'B&U_\"&A351&\"'!$H$66\",TRUE)),2)","v":{"$error":"#VALUE!"}},{"$f":"COUNTIF(IF(ISERROR(INDIRECT(\"'B&U_\"&A351&\"'!$H$97\",TRUE)),\"\",INDIRECT(\"'B&U_\"&A351&\"'!$H$97\",TRUE)),2)","v":{"$error":"#VALUE!"}},{"$f":"COUNTIF(IF(ISERROR(INDIRECT(\"'B&U_\"&A351&\"'!$H$128\",TRUE)),\"\",INDIRECT(\"'B&U_\"&A351&\"'!$H$128\",TRUE)),2)","v":{"$error":"#VALUE!"}},{"$f":"COUNTIF(IF(ISERROR(INDIRECT(\"'B&U_\"&A351&\"'!$H$160\",TRUE)),\"\",INDIRECT(\"'B&U_\"&A351&\"'!$H$160\",TRUE)),2)","v":{"$error":"#VALUE!"}},{"$f":"COUNTIF(IF(ISERROR(INDIRECT(\"'B&U_\"&A351&\"'!$H$190\",TRUE)),\"\",INDIRECT(\"'B&U_\"&A351&\"'!$H$190\",TRUE)),2)","v":{"$error":"#VALUE!"}},{"$f":"COUNTIF(IF(ISERROR(INDIRECT(\"'B&U_\"&A351&\"'!$H$199\",TRUE)),\"\",INDIRECT(\"'B&U_\"&A351&\"'!$H$199\",TRUE)),2)","v":{"$error":"#VALUE!"}}]
["Tilsyn 97","Status:  rød",null,null,null,null,null,null,null,null,{"$f":"COUNTIF(IF(ISERROR(INDIRECT(\"'B&U_\"&A352&\"'!$H$33\",TRUE)),\"\",INDIRECT(\"'B&U_\"&A352&\"'!$H$33\",TRUE)),3)","v":{"$error":"#VALUE!"}},{"$f":"COUNTIF(IF(ISERROR(INDIRECT(\"'B&U_\"&A352&\"'!$h$42\",TRUE)),\"\",INDIRECT(\"'B&U_\"&A352&\"'!$h$42\",TRUE)),3)","v":{"$error":"#VALUE!"}},{"$f":"COUNTIF(IF(ISERROR(INDIRECT(\"'B&U_\"&A352&\"'!$H$66\",TRUE)),\"\",INDIRECT(\"'B&U_\"&A352&\"'!$H$66\",TRUE)),3)","v":{"$error":"#VALUE!"}},{"$f":"COUNTIF(IF(ISERROR(INDIRECT(\"'B&U_\"&A352&\"'!$H$97\",TRUE)),\"\",INDIRECT(\"'B&U_\"&A352&\"'!$H$97\",TRUE)),3)","v":{"$error":"#VALUE!"}},{"$f":"COUNTIF(IF(ISERROR(INDIRECT(\"'B&U_\"&A352&\"'!$H$128\",TRUE)),\"\",INDIRECT(\"'B&U_\"&A352&\"'!$H$128\",TRUE)),3)","v":{"$error":"#VALUE!"}},{"$f":"COUNTIF(IF(ISERROR(INDIRECT(\"'B&U_\"&A352&\"'!$H$160\",TRUE)),\"\",INDIRECT(\"'B&U_\"&A352&\"'!$H$160\",TRUE)),3)","v":{"$error":"#VALUE!"}},{"$f":"COUNTIF(IF(ISERROR(INDIRECT(\"'B&U_\"&A352&\"'!$H$190\",TRUE)),\"\",INDIRECT(\"'B&U_\"&A352&\"'!$H$190\",TRUE)),3)","v":{"$error":"#VALUE!"}},{"$f":"COUNTIF(IF(ISERROR(INDIRECT(\"'B&U_\"&A352&\"'!$H$199\",TRUE)),\"\",INDIRECT(\"'B&U_\"&A352&\"'!$H$199\",TRUE)),3)","v":{"$error":"#VALUE!"}}]
["Tilsyn 98","Status:  grøn",null,null,null,null,null,null,null,null,{"$f":"COUNTIF(IF(ISERROR(INDIRECT(\"'B&U_\"&A353&\"'!$H$33\",TRUE)),\"\",INDIRECT(\"'B&U_\"&A353&\"'!$H$33\",TRUE)),1)","v":{"$error":"#VALUE!"}},{"$f":"COUNTIF(IF(ISERROR(INDIRECT(\"'B&U_\"&A353&\"'!$h$42\",TRUE)),\"\",INDIRECT(\"'B&U_\"&A353&\"'!$h$42\",TRUE)),1)","v":{"$error":"#VALUE!"}},{"$f":"COUNTIF(IF(ISERROR(INDIRECT(\"'B&U_\"&A353&\"'!$H$66\",TRUE)),\"\",INDIRECT(\"'B&U_\"&A353&\"'!$H$66\",TRUE)),1)","v":{"$error":"#VALUE!"}},{"$f":"COUNTIF(IF(ISERROR(INDIRECT(\"'B&U_\"&A353&\"'!$H$97\",TRUE)),\"\",INDIRECT(\"'B&U_\"&A353&\"'!$H$97\",TRUE)),1)","v":{"$error":"#VALUE!"}},{"$f":"COUNTIF(IF(ISERROR(INDIRECT(\"'B&U_\"&A353&\"'!$H$128\",TRUE)),\"\",INDIRECT(\"'B&U_\"&A353&\"'!$H$128\",TRUE)),1)","v":{"$error":"#VALUE!"}},{"$f":"COUNTIF(IF(ISERROR(INDIRECT(\"'B&U_\"&A353&\"'!$H$160\",TRUE)),\"\",INDIRECT(\"'B&U_\"&A353&\"'!$H$160\",TRUE)),1)","v":{"$error":"#VALUE!"}},{"$f":"COUNTIF(IF(ISERROR(INDIRECT(\"'B&U_\"&A353&\"'!$H$190\",TRUE)),\"\",INDIRECT(\"'B&U_\"&A353&\"'!$H$190\",TRUE)),1)","v":{"$error":"#VALUE!"}},{"$f":"COUNTIF(IF(ISERROR(INDIRECT(\"'B&U_\"&A353&\"'!$H$199\",TRUE)),\"\",INDIRECT(\"'B&U_\"&A353&\"'!$H$199\",TRUE)),1)","v":{"$error":"#VALUE!"}}]
["Tilsyn 98","Status:  gul",null,null,null,null,null,null,null,null,{"$f":"COUNTIF(IF(ISERROR(INDIRECT(\"'B&U_\"&A354&\"'!$H$33\",TRUE)),\"\",INDIRECT(\"'B&U_\"&A354&\"'!$H$33\",TRUE)),2)","v":{"$error":"#VALUE!"}},{"$f":"COUNTIF(IF(ISERROR(INDIRECT(\"'B&U_\"&A354&\"'!$h$42\",TRUE)),\"\",INDIRECT(\"'B&U_\"&A354&\"'!$h$42\",TRUE)),2)","v":{"$error":"#VALUE!"}},{"$f":"COUNTIF(IF(ISERROR(INDIRECT(\"'B&U_\"&A354&\"'!$H$66\",TRUE)),\"\",INDIRECT(\"'B&U_\"&A354&\"'!$H$66\",TRUE)),2)","v":{"$error":"#VALUE!"}},{"$f":"COUNTIF(IF(ISERROR(INDIRECT(\"'B&U_\"&A354&\"'!$H$97\",TRUE)),\"\",INDIRECT(\"'B&U_\"&A354&\"'!$H$97\",TRUE)),2)","v":{"$error":"#VALUE!"}},{"$f":"COUNTIF(IF(ISERROR(INDIRECT(\"'B&U_\"&A354&\"'!$H$128\",TRUE)),\"\",INDIRECT(\"'B&U_\"&A354&\"'!$H$128\",TRUE)),2)","v":{"$error":"#VALUE!"}},{"$f":"COUNTIF(IF(ISERROR(INDIRECT(\"'B&U_\"&A354&\"'!$H$160\",TRUE)),\"\",INDIRECT(\"'B&U_\"&A354&\"'!$H$160\",TRUE)),2)","v":{"$error":"#VALUE!"}},{"$f":"COUNTIF(IF(ISERROR(INDIRECT(\"'B&U_\"&A354&\"'!$H$190\",TRUE)),\"\",INDIRECT(\"'B&U_\"&A354&\"'!$H$190\",TRUE)),2)","v":{"$error":"#VALUE!"}},{"$f":"COUNTIF(IF(ISERROR(INDIRECT(\"'B&U_\"&A354&\"'!$H$199\",TRUE)),\"\",INDIRECT(\"'B&U_\"&A354&\"'!$H$199\",TRUE)),2)","v":{"$error":"#VALUE!"}}]
["Tilsyn 98","Status:  rød",null,null,null,null,null,null,null,null,{"$f":"COUNTIF(IF(ISERROR(INDIRECT(\"'B&U_\"&A355&\"'!$H$33\",TRUE)),\"\",INDIRECT(\"'B&U_\"&A355&\"'!$H$33\",TRUE)),3)","v":{"$error":"#VALUE!"}},{"$f":"COUNTIF(IF(ISERROR(INDIRECT(\"'B&U_\"&A355&\"'!$h$42\",TRUE)),\"\",INDIRECT(\"'B&U_\"&A355&\"'!$h$42\",TRUE)),3)","v":{"$error":"#VALUE!"}},{"$f":"COUNTIF(IF(ISERROR(INDIRECT(\"'B&U_\"&A355&\"'!$H$66\",TRUE)),\"\",INDIRECT(\"'B&U_\"&A355&\"'!$H$66\",TRUE)),3)","v":{"$error":"#VALUE!"}},{"$f":"COUNTIF(IF(ISERROR(INDIRECT(\"'B&U_\"&A355&\"'!$H$97\",TRUE)),\"\",INDIRECT(\"'B&U_\"&A355&\"'!$H$97\",TRUE)),3)","v":{"$error":"#VALUE!"}},{"$f":"COUNTIF(IF(ISERROR(INDIRECT(\"'B&U_\"&A355&\"'!$H$128\",TRUE)),\"\",INDIRECT(\"'B&U_\"&A355&\"'!$H$128\",TRUE)),3)","v":{"$error":"#VALUE!"}},{"$f":"COUNTIF(IF(ISERROR(INDIRECT(\"'B&U_\"&A355&\"'!$H$160\",TRUE)),\"\",INDIRECT(\"'B&U_\"&A355&\"'!$H$160\",TRUE)),3)","v":{"$error":"#VALUE!"}},{"$f":"COUNTIF(IF(ISERROR(INDIRECT(\"'B&U_\"&A355&\"'!$H$190\",TRUE)),\"\",INDIRECT(\"'B&U_\"&A355&\"'!$H$190\",TRUE)),3)","v":{"$error":"#VALUE!"}},{"$f":"COUNTIF(IF(ISERROR(INDIRECT(\"'B&U_\"&A355&\"'!$H$199\",TRUE)),\"\",INDIRECT(\"'B&U_\"&A355&\"'!$H$199\",TRUE)),3)","v":{"$error":"#VALUE!"}}]
["Tilsyn 99","Status:  grøn",null,null,null,null,null,null,null,null,{"$f":"COUNTIF(IF(ISERROR(INDIRECT(\"'B&U_\"&A356&\"'!$H$33\",TRUE)),\"\",INDIRECT(\"'B&U_\"&A356&\"'!$H$33\",TRUE)),1)","v":{"$error":"#VALUE!"}},{"$f":"COUNTIF(IF(ISERROR(INDIRECT(\"'B&U_\"&A356&\"'!$h$42\",TRUE)),\"\",INDIRECT(\"'B&U_\"&A356&\"'!$h$42\",TRUE)),1)","v":{"$error":"#VALUE!"}},{"$f":"COUNTIF(IF(ISERROR(INDIRECT(\"'B&U_\"&A356&\"'!$H$66\",TRUE)),\"\",INDIRECT(\"'B&U_\"&A356&\"'!$H$66\",TRUE)),1)","v":{"$error":"#VALUE!"}},{"$f":"COUNTIF(IF(ISERROR(INDIRECT(\"'B&U_\"&A356&\"'!$H$97\",TRUE)),\"\",INDIRECT(\"'B&U_\"&A356&\"'!$H$97\",TRUE)),1)","v":{"$error":"#VALUE!"}},{"$f":"COUNTIF(IF(ISERROR(INDIRECT(\"'B&U_\"&A356&\"'!$H$128\",TRUE)),\"\",INDIRECT(\"'B&U_\"&A356&\"'!$H$128\",TRUE)),1)","v":{"$error":"#VALUE!"}},{"$f":"COUNTIF(IF(ISERROR(INDIRECT(\"'B&U_\"&A356&\"'!$H$160\",TRUE)),\"\",INDIRECT(\"'B&U_\"&A356&\"'!$H$160\",TRUE)),1)","v":{"$error":"#VALUE!"}},{"$f":"COUNTIF(IF(ISERROR(INDIRECT(\"'B&U_\"&A356&\"'!$H$190\",TRUE)),\"\",INDIRECT(\"'B&U_\"&A356&\"'!$H$190\",TRUE)),1)","v":{"$error":"#VALUE!"}},{"$f":"COUNTIF(IF(ISERROR(INDIRECT(\"'B&U_\"&A356&\"'!$H$199\",TRUE)),\"\",INDIRECT(\"'B&U_\"&A356&\"'!$H$199\",TRUE)),1)","v":{"$error":"#VALUE!"}}]
["Tilsyn 99","Status:  gul",null,null,null,null,null,null,null,null,{"$f":"COUNTIF(IF(ISERROR(INDIRECT(\"'B&U_\"&A357&\"'!$H$33\",TRUE)),\"\",INDIRECT(\"'B&U_\"&A357&\"'!$H$33\",TRUE)),2)","v":{"$error":"#VALUE!"}},{"$f":"COUNTIF(IF(ISERROR(INDIRECT(\"'B&U_\"&A357&\"'!$h$42\",TRUE)),\"\",INDIRECT(\"'B&U_\"&A357&\"'!$h$42\",TRUE)),2)","v":{"$error":"#VALUE!"}},{"$f":"COUNTIF(IF(ISERROR(INDIRECT(\"'B&U_\"&A357&\"'!$H$66\",TRUE)),\"\",INDIRECT(\"'B&U_\"&A357&\"'!$H$66\",TRUE)),2)","v":{"$error":"#VALUE!"}},{"$f":"COUNTIF(IF(ISERROR(INDIRECT(\"'B&U_\"&A357&\"'!$H$97\",TRUE)),\"\",INDIRECT(\"'B&U_\"&A357&\"'!$H$97\",TRUE)),2)","v":{"$error":"#VALUE!"}},{"$f":"COUNTIF(IF(ISERROR(INDIRECT(\"'B&U_\"&A357&\"'!$H$128\",TRUE)),\"\",INDIRECT(\"'B&U_\"&A357&\"'!$H$128\",TRUE)),2)","v":{"$error":"#VALUE!"}},{"$f":"COUNTIF(IF(ISERROR(INDIRECT(\"'B&U_\"&A357&\"'!$H$160\",TRUE)),\"\",INDIRECT(\"'B&U_\"&A357&\"'!$H$160\",TRUE)),2)","v":{"$error":"#VALUE!"}},{"$f":"COUNTIF(IF(ISERROR(INDIRECT(\"'B&U_\"&A357&\"'!$H$190\",TRUE)),\"\",INDIRECT(\"'B&U_\"&A357&\"'!$H$190\",TRUE)),2)","v":{"$error":"#VALUE!"}},{"$f":"COUNTIF(IF(ISERROR(INDIRECT(\"'B&U_\"&A357&\"'!$H$199\",TRUE)),\"\",INDIRECT(\"'B&U_\"&A357&\"'!$H$199\",TRUE)),2)","v":{"$error":"#VALUE!"}}]
["Tilsyn 99","Status:  rød",null,null,null,null,null,null,null,null,{"$f":"COUNTIF(IF(ISERROR(INDIRECT(\"'B&U_\"&A358&\"'!$H$33\",TRUE)),\"\",INDIRECT(\"'B&U_\"&A358&\"'!$H$33\",TRUE)),3)","v":{"$error":"#VALUE!"}},{"$f":"COUNTIF(IF(ISERROR(INDIRECT(\"'B&U_\"&A358&\"'!$h$42\",TRUE)),\"\",INDIRECT(\"'B&U_\"&A358&\"'!$h$42\",TRUE)),3)","v":{"$error":"#VALUE!"}},{"$f":"COUNTIF(IF(ISERROR(INDIRECT(\"'B&U_\"&A358&\"'!$H$66\",TRUE)),\"\",INDIRECT(\"'B&U_\"&A358&\"'!$H$66\",TRUE)),3)","v":{"$error":"#VALUE!"}},{"$f":"COUNTIF(IF(ISERROR(INDIRECT(\"'B&U_\"&A358&\"'!$H$97\",TRUE)),\"\",INDIRECT(\"'B&U_\"&A358&\"'!$H$97\",TRUE)),3)","v":{"$error":"#VALUE!"}},{"$f":"COUNTIF(IF(ISERROR(INDIRECT(\"'B&U_\"&A358&\"'!$H$128\",TRUE)),\"\",INDIRECT(\"'B&U_\"&A358&\"'!$H$128\",TRUE)),3)","v":{"$error":"#VALUE!"}},{"$f":"COUNTIF(IF(ISERROR(INDIRECT(\"'B&U_\"&A358&\"'!$H$160\",TRUE)),\"\",INDIRECT(\"'B&U_\"&A358&\"'!$H$160\",TRUE)),3)","v":{"$error":"#VALUE!"}},{"$f":"COUNTIF(IF(ISERROR(INDIRECT(\"'B&U_\"&A358&\"'!$H$190\",TRUE)),\"\",INDIRECT(\"'B&U_\"&A358&\"'!$H$190\",TRUE)),3)","v":{"$error":"#VALUE!"}},{"$f":"COUNTIF(IF(ISERROR(INDIRECT(\"'B&U_\"&A358&\"'!$H$199\",TRUE)),\"\",INDIRECT(\"'B&U_\"&A358&\"'!$H$199\",TRUE)),3)","v":{"$error":"#VALUE!"}}]
["Tilsyn 100","Status:  grøn",null,null,null,null,null,null,null,null,{"$f":"COUNTIF(IF(ISERROR(INDIRECT(\"'B&U_\"&A359&\"'!$H$33\",TRUE)),\"\",INDIRECT(\"'B&U_\"&A359&\"'!$H$33\",TRUE)),1)","v":{"$error":"#VALUE!"}},{"$f":"COUNTIF(IF(ISERROR(INDIRECT(\"'B&U_\"&A359&\"'!$h$42\",TRUE)),\"\",INDIRECT(\"'B&U_\"&A359&\"'!$h$42\",TRUE)),1)","v":{"$error":"#VALUE!"}},{"$f":"COUNTIF(IF(ISERROR(INDIRECT(\"'B&U_\"&A359&\"'!$H$66\",TRUE)),\"\",INDIRECT(\"'B&U_\"&A359&\"'!$H$66\",TRUE)),1)","v":{"$error":"#VALUE!"}},{"$f":"COUNTIF(IF(ISERROR(INDIRECT(\"'B&U_\"&A359&\"'!$H$97\",TRUE)),\"\",INDIRECT(\"'B&U_\"&A359&\"'!$H$97\",TRUE)),1)","v":{"$error":"#VALUE!"}},{"$f":"COUNTIF(IF(ISERROR(INDIRECT(\"'B&U_\"&A359&\"'!$H$128\",TRUE)),\"\",INDIRECT(\"'B&U_\"&A359&\"'!$H$128\",TRUE)),1)","v":{"$error":"#VALUE!"}},{"$f":"COUNTIF(IF(ISERROR(INDIRECT(\"'B&U_\"&A359&\"'!$H$160\",TRUE)),\"\",INDIRECT(\"'B&U_\"&A359&\"'!$H$160\",TRUE)),1)","v":{"$error":"#VALUE!"}},{"$f":"COUNTIF(IF(ISERROR(INDIRECT(\"'B&U_\"&A359&\"'!$H$190\",TRUE)),\"\",INDIRECT(\"'B&U_\"&A359&\"'!$H$190\",TRUE)),1)","v":{"$error":"#VALUE!"}},{"$f":"COUNTIF(IF(ISERROR(INDIRECT(\"'B&U_\"&A359&\"'!$H$199\",TRUE)),\"\",INDIRECT(\"'B&U_\"&A359&\"'!$H$199\",TRUE)),1)","v":{"$error":"#VALUE!"}}]
["Tilsyn 100","Status:  gul",null,null,null,null,null,null,null,null,{"$f":"COUNTIF(IF(ISERROR(INDIRECT(\"'B&U_\"&A360&\"'!$H$33\",TRUE)),\"\",INDIRECT(\"'B&U_\"&A360&\"'!$H$33\",TRUE)),2)","v":{"$error":"#VALUE!"}},{"$f":"COUNTIF(IF(ISERROR(INDIRECT(\"'B&U_\"&A360&\"'!$h$42\",TRUE)),\"\",INDIRECT(\"'B&U_\"&A360&\"'!$h$42\",TRUE)),2)","v":{"$error":"#VALUE!"}},{"$f":"COUNTIF(IF(ISERROR(INDIRECT(\"'B&U_\"&A360&\"'!$H$66\",TRUE)),\"\",INDIRECT(\"'B&U_\"&A360&\"'!$H$66\",TRUE)),2)","v":{"$error":"#VALUE!"}},{"$f":"COUNTIF(IF(ISERROR(INDIRECT(\"'B&U_\"&A360&\"'!$H$97\",TRUE)),\"\",INDIRECT(\"'B&U_\"&A360&\"'!$H$97\",TRUE)),2)","v":{"$error":"#VALUE!"}},{"$f":"COUNTIF(IF(ISERROR(INDIRECT(\"'B&U_\"&A360&\"'!$H$128\",TRUE)),\"\",INDIRECT(\"'B&U_\"&A360&\"'!$H$128\",TRUE)),2)","v":{"$error":"#VALUE!"}},{"$f":"COUNTIF(IF(ISERROR(INDIRECT(\"'B&U_\"&A360&\"'!$H$160\",TRUE)),\"\",INDIRECT(\"'B&U_\"&A360&\"'!$H$160\",TRUE)),2)","v":{"$error":"#VALUE!"}},{"$f":"COUNTIF(IF(ISERROR(INDIRECT(\"'B&U_\"&A360&\"'!$H$190\",TRUE)),\"\",INDIRECT(\"'B&U_\"&A360&\"'!$H$190\",TRUE)),2)","v":{"$error":"#VALUE!"}},{"$f":"COUNTIF(IF(ISERROR(INDIRECT(\"'B&U_\"&A360&\"'!$H$199\",TRUE)),\"\",INDIRECT(\"'B&U_\"&A360&\"'!$H$199\",TRUE)),2)","v":{"$error":"#VALUE!"}}]
["Tilsyn 100","Status:  rød",null,null,null,null,null,null,null,null,{"$f":"COUNTIF(IF(ISERROR(INDIRECT(\"'B&U_\"&A361&\"'!$H$33\",TRUE)),\"\",INDIRECT(\"'B&U_\"&A361&\"'!$H$33\",TRUE)),3)","v":{"$error":"#VALUE!"}},{"$f":"COUNTIF(IF(ISERROR(INDIRECT(\"'B&U_\"&A361&\"'!$h$42\",TRUE)),\"\",INDIRECT(\"'B&U_\"&A361&\"'!$h$42\",TRUE)),3)","v":{"$error":"#VALUE!"}},{"$f":"COUNTIF(IF(ISERROR(INDIRECT(\"'B&U_\"&A361&\"'!$H$66\",TRUE)),\"\",INDIRECT(\"'B&U_\"&A361&\"'!$H$66\",TRUE)),3)","v":{"$error":"#VALUE!"}},{"$f":"COUNTIF(IF(ISERROR(INDIRECT(\"'B&U_\"&A361&\"'!$H$97\",TRUE)),\"\",INDIRECT(\"'B&U_\"&A361&\"'!$H$97\",TRUE)),3)","v":{"$error":"#VALUE!"}},{"$f":"COUNTIF(IF(ISERROR(INDIRECT(\"'B&U_\"&A361&\"'!$H$128\",TRUE)),\"\",INDIRECT(\"'B&U_\"&A361&\"'!$H$128\",TRUE)),3)","v":{"$error":"#VALUE!"}},{"$f":"COUNTIF(IF(ISERROR(INDIRECT(\"'B&U_\"&A361&\"'!$H$160\",TRUE)),\"\",INDIRECT(\"'B&U_\"&A361&\"'!$H$160\",TRUE)),3)","v":{"$error":"#VALUE!"}},{"$f":"COUNTIF(IF(ISERROR(INDIRECT(\"'B&U_\"&A361&\"'!$H$190\",TRUE)),\"\",INDIRECT(\"'B&U_\"&A361&\"'!$H$190\",TRUE)),3)","v":{"$error":"#VALUE!"}},{"$f":"COUNTIF(IF(ISERROR(INDIRECT(\"'B&U_\"&A361&\"'!$H$199\",TRUE)),\"\",INDIRECT(\"'B&U_\"&A361&\"'!$H$199\",TRUE)),3)","v":{"$error":"#VALUE!"}}]
[]
[]
[]
["<Vælg et tilsyn>",null,null,null,null,null,null,null,"<Vælg et tilsyn>"]

{"sheet":"Infobokse","index":6,"n_rows":247,"n_cols":5,"rows_kept":247,"cut":false,"hidden":true,"merged":[]}
[]
["Infoboks navn","Fane","Spørgsmål","Tekst"]
["Info_spm_1","Overordnet tilsyn  - Faglig udredning - Underretninger","Spm 1","Jf. barnets lov, § 136, stk. 2.\nVurderingen skal være begrundet med udgangspunkt i den konkrete underretning og sagens øvrige oplysninger.  "]
["Info_spm_2","Overordnet tilsyn  - Faglig udredning - Underretninger","Spm 3","Jf. barnets lov, § 137, stk.2."]
["Info_spm_3","Overordnet tilsyn  - Faglig udredning - Underretninger","Spm 4","Jf. barnets lov, § 137, stk. 4."]
["Info_spm_4","Overordnet tilsyn  - Faglig udredning - Underretninger","Spm 5","Jf. barnets lov, § 137, stk.1."]
["Info_spm_5","Overordnet tilsyn  - Faglig udredning - Underretninger","Spm 6","Jf. barnets lov, § 138, stk. 2."]
["Info_spm_6","Overordnet tilsyn  - Faglig udredning - Underretninger","Spm 7","Jf. barnets lov, § 138, stk. 3."]
["Info_spm_7","Overordnet tilsyn  - Faglig udredning - Screening efter §18","Spm 1","Jf. barnets lov, § 18.\nScreeningen skal indeholde en socialfaglig vurdering, der beskri-ver, hvad der skal ske i den videre sagsbehandling. "]
["Info_spm_8","Overordnet tilsyn  - Faglig udredning - Afdækning efter §19","Spm 1","Jf. barnets lov, § 19."]
["Info_spm_9","Overordnet tilsyn  - Faglig udredning - Afdækning efter §19","Spm 4","Jf. barnets lov, § 32, stk. 4."]
["Info_spm_10","Overordnet tilsyn  - Faglig udredning - Afdækning efter §19","Spm 5","Jf. barnets lov, § 32, stk. 4."]
["Info_spm_11","Overordnet tilsyn  - Faglig udredning - Afdækning efter §19","Spm 8","Jf. barnets lov, § 19."]
["Info_spm_12","Overordnet tilsyn  - Faglig udredning - Afdækning efter §19","Spm 9","Jf. barnets lov, § 5, stk. 3."]
["Info_spm_13","Overordnet tilsyn  - Faglig udredning - Afdækning efter §19","Spm 10","Jf. barnets lov, § 5, stk. 4."]
["Info_spm_14","Overordnet tilsyn  - Faglig udredning - Afdækning efter §19","Spm 11","Jf. barnets lov, § 5, stk. 4."]
["Info_spm_15","Overordnet tilsyn  - Faglig udredning - Afdækning efter §19","Spm 12","Jf. barnets lov, § 19, stk. 2."]
["Info_spm_16","Overordnet tilsyn  - Faglig udredning - Afdækning efter §19","Spm 13","Jf. barnets lov, § 5, stk. 3."]
["Info_spm_17","Overordnet tilsyn  - Faglig udredning - Afdækning efter §19","Spm 14","Jf. barnets lov, § 19, stk. 2."]
["Info_spm_18","Overordnet tilsyn  - Faglig udredning - Afdækning efter §19","Spm 15","Jf. barnets lov, § 19, stk. 1."]
["Info_spm_19","Overordnet tilsyn  - Faglig udredning - Afdækning efter §19","Spm 16","Jf. barnets lov, § 19, stk. 3."]
["Info_spm_20","Overordnet tilsyn  - Faglig udredning - Afdækning efter §19","spm 17","Jf. barnets lov, § 19, stk. 1."]
["Info_spm_21","Overordnet tilsyn  - Faglig udredning - Afdækning efter §19","Spm 18","Jf. barnets lov, § 5, stk. 3."]
["Info_spm_22","Overordnet tilsyn  - Faglig udredning - Afdækning efter §19","Spm 19","Jf. barnets lov, § 19."]
["Info_spm_23","Overordnet tilsyn  - Faglig udredning - Børnefaglig undersøgelse efter § 20","Spm 1","Jf. barnets lov, § 20"]
["Info_spm_24","Overordnet tilsyn  - Faglig udredning - Børnefaglig undersøgelse efter § 20","Spm 4","Jf. barnets lov, § 32, stk. 4."]
["Info_spm_25","Overordnet tilsyn  - Faglig udredning - Børnefaglig undersøgelse efter § 20","Spm 5","Jf. barnets lov, § 32, stk. 4."]
["Info_spm_26","Overordnet tilsyn  - Faglig udredning - Børnefaglig undersøgelse efter § 20","Spm 8","Jf. barnets lov § 20, stk. 3. "]
["Info_spm_27","Overordnet tilsyn  - Faglig udredning - Børnefaglig undersøgelse efter § 20","Spm 9","Jf. barnets lov, § 20, stk. 3."]
["Info_spm_28","Overordnet tilsyn  - Faglig udredning - Børnefaglig undersøgelse efter § 20","Spm 10","Jf. barnets lov, § 20, stk. 3."]
["Info_spm_29","Overordnet tilsyn  - Faglig udredning - Børnefaglig undersøgelse efter § 20","Spm 11","Jf. barnets lov, § 5, stk. 3."]
["Info_spm_30","Overordnet tilsyn  - Faglig udredning - Børnefaglig undersøgelse efter § 20","Spm 12","Jf. barnets lov, § 5, stk. 4."]
["Info_spm_31","Overordnet tilsyn  - Faglig udredning - Børnefaglig undersøgelse efter § 20","Spm 13","Jf. barnets lov, § 5, stk. 4."]
["Info_spm_32","Overordnet tilsyn  - Faglig udredning - Børnefaglig undersøgelse efter § 20","Spm 14","Jf. barnets lov, § 21, stk. 5."]
["Info_spm_33","Overordnet tilsyn  - Faglig udredning - Børnefaglig undersøgelse efter § 20","Spm 15","Jf. barnets lov, § 22, stk. 2."]
["Info_spm_34","Overordnet tilsyn  - Faglig udredning - Børnefaglig undersøgelse efter § 20","Spm 16","Jf. barnets lov, §  22, stk. 2."]
["Info_spm_35","Overordnet tilsyn  - Faglig udredning - Børnefaglig undersøgelse efter § 20","Spm 17"," Jf. barnets lov, § 22, stk. 1."]
["Info_spm_36","Overordnet tilsyn  - Faglig udredning - Børnefaglig undersøgelse efter § 20","Spm 18","Jf. barnets lov, § 5, stk. 3."]
["Info_spm_37","Overordnet tilsyn  - Faglig udredning - Børnefaglig undersøgelse efter § 20","Spm 19","Jf. barnets lov, § 22, stk. 1."]
["Info_spm_38","Overordnet tilsyn  - Faglig udredning - Børnefaglig undersøgelse efter § 20","Spm 20","Jf. barnets lov, § 21, stk. 1."]
["Info_spm_39","Overordnet tilsyn  - Faglig udredning - Børnefaglig undersøgelse efter § 20","Spm 21","Jf. barnets lov, § 22, stk. 6."]
["Info_spm_40","Overordnet tilsyn  - Faglig udredning - Børnefaglig undersøgelse efter § 20","Spm 22","Jf. barnets lov, § 22, stk. 6."]
["Info_spm_41","Overordnet tilsyn  - Faglig udredning - Børnefaglig undersøgelse efter § 20","Spm 23","Jf. barnets lov, § 22, stk. 6."]
["Info_spm_42","Overordnet tilsyn  - Faglig udredning - Børnefaglig undersøgelse efter § 20","Spm 24","Jf. barnets lov, § 22, stk. 6."]
["Info_spm_43","Overordnet tilsyn  - Faglig udredning - Børnefaglig undersøgelse efter § 20","Spm 25","Jf. barnets lov, § 22, stk. 6."]
["Info_spm_44","Overordnet tilsyn - Valg af indsats - Støttende indsats efter § 32","Spm 2","Jf. barnets lov, § 32, stk. 3."]
["Info_spm_45","Overordnet tilsyn - Valg af indsats - Støttende indsats efter § 32","Spm 3","Jf. barnets lov, § 5, stk. 3."]
["Info_spm_46","Overordnet tilsyn - Valg af indsats - Støttende indsats efter § 32","Spm 4","Jf. barnets lov, § 5, stk. 4."]
["Info_spm_47","Overordnet tilsyn - Valg af indsats - Støttende indsats efter § 32","Spm 5","Jf. barnets lov, § 5, stk. 4."]
["Info_spm_48","Overordnet tilsyn - Valg af indsats - Støttende indsats efter § 32","Spm 8","Jf. barnets lov, § 32, stk. 3."]
["Info_spm_49","Overordnet tilsyn - Valg af indsats - Støttende indsats efter § 32","Spm 9","Jf. barnets lov, § 5, stk. 2."]
["Info_spm_50","Overordnet tilsyn - Valg af indsats - Støttende indsats efter § 32","Spm 10","Jf. barnets lov, § 2, stk. 2, nr. 3."]
["Info_spm_51","Overordnet tilsyn - Valg af indsats - Støttende indsats efter § 32","Spm 11","Jf. barnets lov, § 91, stk.1."]
["Info_spm_52","Overordnet tilsyn - Valg af indsats - Støttende indsats efter § 32","Spm 12","Jf. barnets lov, § 5, stk. 2."]
["Info_spm_53","Overordnet tilsyn - Valg af indsats - Støttende indsats efter § 32","Spm 13","Jf. barnets lov, § 92, stk. 1."]
["Info_spm_54","Overordnet tilsyn - Valg af indsats - Støttende indsats efter § 32","Spm 14","Jf. barnets lov, § 92, stk. 1."]
["Info_spm_55","Overordnet tilsyn - Valg af indsats - Støttende indsats efter § 32","Spm 15","Jf. barnets lov, § 92, stk. 2."]
["Info_spm_56","Overordnet tilsyn - Valg af indsats - Støttende indsats efter § 32","Spm 16","Jf. barnets lov, § 91, stk. 1."]
["Info_spm_57","Overordnet tilsyn - Valg af indsats - Støttende indsats efter § 32","Spm 17","Jf. barnets lov, § 108, stk. 1."]
["Info_spm_58","Overordnet tilsyn - Valg af indsats - Støttende indsats efter § 32","Spm 18","Jf. barnets lov, § 5, stk. 2."]
["Info_spm_59","Overordnet tilsyn - Valg af indsats - Støttende indsats efter § 32","Spm 19","Jf. barnets lov, § 109, stk. 1. "]
["Info_spm_60","Overordnet tilsyn - Valg af indsats - Støttende indsats efter § 32","Spm 20","Jf. barnets lov, § 109 stk. 1."]
["Info_spm_61","Overordnet tilsyn - Valg af indsats - Støttende indsats efter § 32","Spm 21","Jf. barnets lov, § 92, stk. 1 eller § 109, stk. 1."]
["Info_spm_62","Overordnet tilsyn - Valg af indsats - Støttende indsats efter § 32","Spm 22","Jf. barnets lov, § 109, stk.1."]
["Info_spm_63","Overordnet tilsyn - Valg af indsats - Støttende indsats efter § 32","Spm 23","Jf. barnets lov, § 108, stk. 3."]
["Info_spm_64","Overordnet tilsyn  - Valg af indsats - Anbringelse med samtykke efter § 46","Spm 1","Jf. barnets lov, § 20."]
["Info_spm_65","Overordnet tilsyn  - Valg af indsats - Anbringelse med samtykke efter § 46","Spm 2","Jf. barnets lov, § 46."]
["Info_spm_66","Overordnet tilsyn  - Valg af indsats - Anbringelse med samtykke efter § 46","Spm 3","Jf. barnets lov, § 46, stk. 1."]
["Info_spm_67","Overordnet tilsyn  - Valg af indsats - Anbringelse med samtykke efter § 46","Spm 4","Jf. barnets lov, § 46, stk. 2."]
["Info_spm_68","Overordnet tilsyn  - Valg af indsats - Anbringelse med samtykke efter § 46","Spm 5","Jf. barnets lov, § 46, stk. 2."]
["Info_spm_69","Overordnet tilsyn  - Valg af indsats - Anbringelse med samtykke efter § 46","Spm 6","Jf. barnets lov, § 5, stk. 3."]
["Info_spm_70","Overordnet tilsyn  - Valg af indsats - Anbringelse med samtykke efter § 46","Spm 7","Jf. barnets lov, § 5, stk. 4."]
["Info_spm_71","Overordnet tilsyn  - Valg af indsats - Anbringelse med samtykke efter § 46","Spm 8","Jf. barnets lov, § 5, stk. 4."]
["Info_spm_72","Overordnet tilsyn  - Valg af indsats - Anbringelse med samtykke efter § 46","Spm 9","Jf. barnets lov, § 5 stk. 2."]
["Info_spm_73","Overordnet tilsyn  - Valg af indsats - Anbringelse med samtykke efter § 46","Spm 10","Jf. barnets lov, § 2, stk. 2, nr. 3."]
["Info_spm_74","Overordnet tilsyn  - Valg af indsats - Anbringelse med samtykke efter § 46","Spm 11","Jf. barnets lov, § 91 stk. 2."]
["Info_spm_75","Overordnet tilsyn  - Valg af indsats - Anbringelse med samtykke efter § 46","Spm 12","Jf. barnets lov, § 92, stk. 2."]
["Info_spm_76","Overordnet tilsyn  - Valg af indsats - Anbringelse med samtykke efter § 46","Spm 13","Jf. barnets lov, § 91, skt. 2."]
["Info_spm_77","Overordnet tilsyn  - Valg af indsats - Anbringelse med samtykke efter § 46","Spm 14","Jf. barnets lov, § 92, stk. 1."]
["Info_spm_78","Overordnet tilsyn  - Valg af indsats - Anbringelse med samtykke efter § 46","Spm 15","Jf. barnets lov, § 92 stk. 1."]
["Info_spm_79","Overordnet tilsyn  - Valg af indsats - Anbringelse med samtykke efter § 46","Spm 16","Jf. barnets lov, § 108, stk. 3."]
["Info_spm_80","Overordnet tilsyn  - Valg af indsats - Anbringelse med samtykke efter § 46","Spm 17","Jf. barnets lov, § 92 og § 109."]
["Info_spm_81","Overordnet tilsyn  - Valg af indsats - Anbringelse med samtykke efter § 46","Spm 18","Jf. barnets lov, § 109, stk. 2."]
["Info_spm_82","Overordnet tilsyn  - Valg af indsats - Anbringelse med samtykke efter § 46","Spm 19","Jf. barnets lov, § 109, stk. 2."]
["Info_spm_83","Overordnet tilsyn  - Valg af indsats - Anbringelse med samtykke efter § 46","Spm 20","Jf. barnets lov, § 109, stk. 1. "]
["Info_spm_84","Overordnet tilsyn  - Valg af indsats - Anbringelse med samtykke efter § 46","Spm 21","Jf. barnets lov,  § 111."]
["Info_spm_85","Overordnet tilsyn  - Valg af indsats - Anbringelse med samtykke efter § 46","Spm 23","Jf. barnets lov, § 77."]
["Info_spm_86","Overordnet tilsyn  - Opfølgning - Løbende opfølgning","Spm 24","Jf. barnets lov, § 95 stk. 2.  "]
["Info_spm_87","Overordnet tilsyn  - Opfølgning - Løbende opfølgning","Spm 25","Jf. barnets lov, § 5, stk. 3."]
["Info_spm_88","Overordnet tilsyn  - Opfølgning - Løbende opfølgning","Spm 26","Jf. barnets lov, § 5, stk. 4."]
["Info_spm_89","Overordnet tilsyn  - Opfølgning - Løbende opfølgning","Spm 27","Jf. barnets lov, § 5, stk. 4."]
["Info_spm_90","Overordnet tilsyn  - Opfølgning - Løbende opfølgning","Spm 28"," Jf. barnets lov, § 5, stk. 3."]
["Info_spm_91","Overordnet tilsyn  - Opfølgning - Løbende opfølgning","Spm 30","Jf. barnets lov, § 95, stk. 3."]
["Info_spm_92","Overordnet tilsyn  - Opfølgning - Løbende opfølgning","Spm 31","Jf. barnets lov, § 95, stk. 3."]
["Info_spm_93","Overordnet tilsyn  - Opfølgning - Løbende opfølgning","Spm 32","Jf. barnets lov, § 95, stk. 3."]
["Info_spm_94","Overordnet tilsyn  - Opfølgning - Løbende opfølgning","Spm 35","Jf. barnets lov, § 95 stk. 4."]
["Info_spm_95","Overordnet tilsyn  - Opfølgning - Løbende opfølgning","Spm36","Jf. barnets lov, § 95 stk. 4."]
["Info_spm_96","Overordnet tilsyn  - Opfølgning - Løbende opfølgning","Spm 38","Jf. barnets lov, § 95, stk. 3."]
["Info_spm_97","Overordnet tilsyn  - Opfølgning - Løbende opfølgning","Spm 39"," Jf. barnets lov, § 95, stk. 3."]
["Info_spm_98","Overordnet tilsyn  - Opfølgning - Løbende opfølgning","Spm 41","Jf. barnets lov, § 95, stk. 3."]
["Info_spm_99","Overordnet tilsyn  - Opfølgning - Løbende opfølgning","Spm 43","Jf. barnets lov, § 95 stk. 6."]
["Info_spm_100","Overordnet tilsyn  - Opfølgning - Løbende opfølgning","Spm 44","Jf. barnets lov, § 95 stk. 6."]
["Info_spm_101","Overordnet tilsyn  - Opfølgning - Personrettet tilsyn ved anbringelse efter § 46","Spm 1","Jf. barnets lov, § 156, stk. 1 og 5."]
["Info_spm_102","Overordnet tilsyn  - Opfølgning - Personrettet tilsyn ved anbringelse efter § 46","Spm 2","Jf. barnets lov, § 156, stk. 5."]
["Info_spm_103","Overordnet tilsyn  - Opfølgning - Personrettet tilsyn ved anbringelse efter § 46","Spm 3","Jf. barnets lov, § 156, stk. 6."]
["Info_spm_104","Overordnet tilsyn  - Opsamling","Spm 2","Her kan du notere den tilbagemelding, som du ønsker at give til børne- og ungerådgiverne om opmærksomhedspunkter og ressource i sagsbehandlingen."]
["Info_spm_105","Overordnet tilsyn  - Opsamling","Spm 3"]
["Info_spm_106","Overordnet tilsyn  - Opsamling","Spm 4","Her kan du notere dine generelle overvejelser om tilbagemelding på gruppeniveau i forhold til opmærksomhedspunkter og ressourcer i sagsbehandlingen."]
["Info_spm_107","Tematiserede tilsyn - Faglig udredning - Underretning efter barnets lov kapitel 16","Spm 1","I sagen skal fremgå:\n• En socialfaglig vurdering af de væsentligste forhold i underretning og hvordan de forhold er tillagt vægt.\n• En socialfaglig vurdering af, om der skal handles akut eller ej, samt hvorfor underretningen vurderes akut eller ikke akut."]
["Info_spm_108","Tematiserede tilsyn - Faglig udredning - Underretning efter barnets lov kapitel 16","Spm 2","I sagen skal fremgå: \n• Hvad der er talt med barnet eller den unge om.\n• At der er talt med barnet eller den unge om underretningens indhold.\n•  Hvad barnets eller den unges holdning og synspunkter til indholdet i underretningen er.\n• En beskrivelse af, hvordan der er talt med barnet eller den unge (fx med afsæt i en faglig metode).\n•  En socialfaglig vurdering af, hvordan barnet eller den unge fremstår under samtalen."]
["Info_spm_109","Tematiserede tilsyn - Faglig udredning - Underretning efter barnets lov kapitel 16","Spm 3","I sagen skal fremgå:\n•  Hvordan barnets eller den unges perspektiv er forsøgt tilvejebragt på anden vis, eksempelvis ved observation, eller samtale med voksne, der er omkring barnet.\n•  En socialfaglig vurdering af, hvordan barnet eller den unge fremstår under en eventuel observation."]
["Info_spm_110","Tematiserede tilsyn - Faglig udredning - Underretning efter barnets lov kapitel 16","Spm 4","I sagen skal fremgå:\n• Hvordan barnet eller den unge er orienteret om sine rettigheder, fx ret til bisidder mv."]
["Info_spm_111","Tematiserede tilsyn - Faglig udredning - Underretning efter barnets lov kapitel 16","Spm 5","I sagen skal fremgå: \n• Hvordan barnet eller den unge er orienteret om sagsprocesser og rettigheder, fx om sagsskridt, bisidder m.v."]
["Info_spm_112","Tematiserede tilsyn - Faglig udredning - Underretning efter barnets lov kapitel 16","Spm 6","I sagen skal fremgå:\n• Hvordan barnet eller den unge forberedes til samtalen om underretningen, herunder hvor samtalen afholdes, hvem samtalen afholdes sammen med, og hvad der skal tales med barnet eller den unge om."]
["Info_spm_113","Tematiserede tilsyn - Faglig udredning - Underretning efter barnets lov kapitel 16","Spm 7","I sagen skal fremgå: \n• Hvad der er talt med forældrene om.\n• At der er talt med forældrene om underretningens indhold.\n• Hvordan forældrene forholder sig til oplysningerne i underretningen.\n• Hvordan forældrene forstår barnets eller den unges situation og behov.\n• En beskrivelse af, hvordan der er talt med forældrene (fx med afsæt i en faglig metode).\n•  En socialfaglig vurdering af, hvordan forældrene fremstår under samtalen."]
["Info_spm_114","Tematiserede tilsyn - Faglig udredning - Underretning efter barnets lov kapitel 16","Spm 8","I sagen skal fremgå:\n• Hvordan forældrene er forberedt til samtalen om underretningen, herunder hvor samtalen afholdes, hvem samtalen afholdes sammen med, og hvad der skal tales med forældrene om."]
["Info_spm_115","Tematiserede tilsyn - Faglig udredning - Underretning efter barnets lov kapitel 16","Spm 9","I sagen skal fremgå: \n• Hvordan forældrene er orienteret om rettigheder fx ret til bisidder."]
["Info_spm_116","Tematiserede tilsyn - Faglig udredning - Underretning efter barnets lov kapitel 16","Spm 10","I sagen skal fremgå:\n• Hvordan forældrenet er orienteret om sagsprocesser, fx om sagsskridt mv."]
["Info_spm_117","Tematiserede tilsyn - Faglig udredning - Underretning efter barnets lov kapitel 16","Spm 11","I sagen skal fremgå: \n• En vurdering ud fra bekymringsgrad af hvor hurtigt, der skal handles på oplysningerne i underretningen."]
["Info_spm_118","Tematiserede tilsyn - Faglig udredning - Underretning efter barnets lov kapitel 16","Spm 12","I sagen skal fremgå: \n• Hvor lang tid der er gået efter, at underretningen er modtaget, til der er blevet talt med barnet eller den unge.\n• En vurdering af bekymringsgraden, i forhold til hvor hurtigt der skal tales med barnet eller den unge."]
["Info_spm_119","Tematiserede tilsyn - Faglig udredning - Underretning efter barnets lov kapitel 16","Spm 13","I sagen skal fremgå: \n• Hvor lang tid der er gået efter, at underretningen er modtaget, til der er blevet talt med forældrene.\n• En vurdering af bekymringsgraden, i forhold til hvor hurtigt der skal tales med barnet eller den unge."]
["Info_spm_120","Tematiseret tilsyn - Faglig udredning - Faglig udredning - Screening efter barnets lov § 18","Spm 14","I sagen skal fremgå:\n• En socialfaglig vurdering af de forelæggende oplysninger, fx underretningen, samtale med barnet eller den unge og forældrene samt eventuel eksisterende viden om barnet eller den unge og forældrene, samt hvilke forhold der er tillagt vægt i den socialfaglige vurdering af, hvad der skal ske på baggrund af screeningen."]
["Info_spm_121","Tematiseret tilsyn - Faglig udredning - Faglig udredning - Screening efter barnets lov § 18","Spm 15","I sagen skal fremgå:\n• En socialfaglig vurdering af hvordan de oplysninger, som barnet eller den unge har oplyst, forstås i forhold til sagens øvrige oplysninger.\n• Hvordan barnets eller den unges perspektiver indgår i screeningen."]
["Info_spm_122","Tematiseret tilsyn - Faglig udredning - Faglig udredning - Screening efter barnets lov § 18","Spm 16","I sagen skal fremgå:\n• En socialfaglig vurdering af hvordan de oplysninger, som forældrene har oplyst, forstås i forhold til sagens øvrige oplysninger.\n• Hvordan forældrenes perspektiver indgår i screeningen."]
["Info_spm_123","Tematiseret tilsyn - Faglig udredning - Faglig udredning - Screening efter barnets lov § 18","Spm 17","I sagen skal fremgå:\n• En begrundet socialfaglig vurdering af, hvad, der skal ske på baggrund af screeningen, det vil sige om sagen enten skal lukkes, der skal træffes beslutning om en forebyggende indsats, træffes beslutning om en afdækning eller træffes afgørelse børnefaglig undersøgelse."]
["Info_spm_124","Tematiseret tilsyn - Faglig udredning - Faglig udredning - Screening efter barnets lov § 18","Spm 18","I sagen skal fremgå:\n• Hvordan resultatet af screening vurderes at modsvare de kendte problemstillinger, fx hvordan en afdækning vurderes tilstrækkelig til at belyse barnets, den unges eller familiens støttebehov."]
["Info_spm_125","Tematiseret tilsyn - Faglig udredning - Faglig udredning - Screening efter barnets lov § 18","Spm 19","I sagen skal fremgå:\n• Hvordan barnet eller den unge er orienteret om, hvad der sker på baggrund af screeningen.\n• Hvordan barnet eller den unge forholder sig til resultatet af screeningen."]
["Info_spm_126","Tematiseret tilsyn - Faglig udredning - Faglig udredning - Screening efter barnets lov § 18","Spm 20","I sagen skal fremgå:\n• Hvordan forældrene er orienteret om, hvad der sker på baggrund af screeningen.\n• Hvordan forældrene forholder sig til resultatet af screeningen."]
["Info_spm_127","Tematiseret tilsyn - Faglig udredning - Faglig udredning - afdækning efter barnets lov § 19","Spm 21","I sagen skal fremgå:\n• En socialfaglig vurdering af, hvordan en afdækning er tilstrækkelig til at vurdere barnets eller den unges støttebehov."]
["Info_spm_128","Tematiseret tilsyn - Faglig udredning - Faglig udredning - afdækning efter barnets lov § 19","Spm 22","I sagen skal fremgå:\n• En socialfaglig vurdering af, hvilke fokuspunkter der er relevante at afdække nærmere, og hvilke oplysninger der er lagt vægt i valget af fokuspunker.\n• Hvilke fokuspunkter barnet eller den unge selv ønsker skal afdækkes nærmere.\n• Hvordan barnet eller den unge er inddraget i valg af fokuspunkter.\n• Hvordan barnets eller unges valg af fokuspunkter indgår eller er fravalgt i den socialfaglige vurdering."]
["Info_spm_129","Tematiseret tilsyn - Faglig udredning - Faglig udredning - afdækning efter barnets lov § 19","Spm 23","I sagen skal fremgå:\n• Hvordan barnet eller den unge er inddraget i afdækningen.\n• Hvad der er talt med barnet eller den unge om.\n• At der er talt med barnet eller den unge om de valgte fokusområder\n• Hvad barnets eller den unges holdning og synspunkter er til de valgte fokusområder.\n• En beskrivelse af, hvordan der er talt med barnet eller den unge (fx med afsæt i en faglig metode).\n• En socialfaglig vurdering af, hvordan barnet eller den unge fremstår under samtalen."]
["Info_spm_130","Tematiseret tilsyn - Faglig udredning - Faglig udredning - afdækning efter barnets lov § 19","Spm 24","I sagen skal fremgå:\n• Hvordan barnets eller den unges perspektiv er forsøgt tilvejebragt på anden vis, eksempelvis ved observation, eller samtale med voksne, der er omkring barnet.\n• En socialfaglig vurdering af, hvordan barnet eller den unge fremstår under en eventuel observation.","x"]
["Info_spm_131","Tematiseret tilsyn - Faglig udredning - Faglig udredning - afdækning efter barnets lov § 19","Spm 25","I sagen skal fremgå:\n• Hvordan barnet er orienteret om sine rettigheder, fx ret til bisidder m.v."]
["Info_spm_132","Tematiseret tilsyn - Faglig udredning - Faglig udredning - afdækning efter barnets lov § 19","Spm 26","I sagen skal fremgå:\n• Hvordan barnet eller den unge er orienteret om sagsprocesser og rettigheder, fx om sagsskridt, bisidder m.v."]
["Info_spm_133","Tematiseret tilsyn - Faglig udredning - Faglig udredning - afdækning efter barnets lov § 19","Spm 27","I sagen skal fremgå:\n• Hvordan barnet eller den unge forberedes til samarbejdet om afdækningen, herunder hvor samtaler afholdes, hvem samtalen afholdes sammen med, og hvad der skal tales med barnet eller den unge om."]
["Info_spm_134","Tematiseret tilsyn - Faglig udredning - Faglig udredning - afdækning efter barnets lov § 19","Spm 28","I sagen skal fremgå:\n• Hvordan forældrene stiller sig til at samarbejde om afdækningen.\n• Hvad der er talt med forældrene om.\n• At der er talt med forældrene om afdækningens fokuspunkter.\n• Hvordan forældrene forholder sig til fokuspunkterne.\n• Hvordan forældrene ud fra fokuspunkterne forstår barnets eller den unges situation og behov.\n• En beskrivelse af, hvordan der er talt med forældrene (fx med afsæt i en faglig metode).\n• En socialfaglig vurdering af, hvordan forældrene fremstår under samtalen."]
["Info_spm_135","Tematiseret tilsyn - Faglig udredning - Faglig udredning - afdækning efter barnets lov § 19","Spm 29","I sagen skal fremgå:\n• Hvordan forældrene er forberedt på at samarbejde om afdækningen, herunder hvor samtaler afholdes, hvem samtaler afholdes sammen med, og hvad der skal tales med forældrene om."]
["Info_spm_136","Tematiseret tilsyn - Faglig udredning - Faglig udredning - afdækning efter barnets lov § 19","Spm 30","I sagen skal fremgå:\n• Hvordan forældrene er orienteret om rettigheder fx ret til bisidder."]
["Info_spm_137","Tematiseret tilsyn - Faglig udredning - Faglig udredning - afdækning efter barnets lov § 19","Spm 31","I sagen skal fremgå:\n• Hvordan forældrenet er orienteret om sagsprocesser, fx om sagsskridt m.v."]
["Info_spm_138","Tematiseret tilsyn - Faglig udredning - Faglig udredning - afdækning efter barnets lov § 19","Spm 32","I sagen skal fremgå:\n• Hvem barnet eller den unge peger på, som kan være relevant at inddrage fra barnets eller den unges netværk og hverdagsliv.\n• Hvem forældrene peger på, som kan være relevante at indrage fra deres eller barnets eller den unges netværk og hverdagsliv."]
["Info_spm_139","Tematiseret tilsyn - Faglig udredning - Faglig udredning - afdækning efter barnets lov § 19","Spm 33","Eksempelvis bedsteforældre, samlevende mv.\n\nI sagen skal fremgå:\n• Hvem der er inddraget fra det private netværk, og hvordan deres relation er til barnet eller den unge og forældrene.\n• En vurdering af, hvordan barnets eller den unges og familiens private netværk kan bidrage til at belyse barnets, den unges og familiens situation."]
["Info_spm_140","Tematiseret tilsyn - Faglig udredning - Faglig udredning - afdækning efter barnets lov § 19","Spm 34","I sagen skal fremgå:\n• Hvilke ressourcer og eventuelle udfordringer der er i det private netværk. \n• Hvem fra netværket der eventuelt har tilbudt støtte.\n• En vurdering af, hvordan barnets, den unges og familiens private netværk evt. kan bidrage med støtte."]
["Info_spm_141","Tematiseret tilsyn - Faglig udredning - Faglig udredning - afdækning efter barnets lov § 19","Spm 35","I sagen skal fremgå:\n• Hvem i det professionelle netværk der allerede har viden om barnet eller den unge og familien.\n• Hvem i det professionelle netværk der er indhentet viden fra og specifikt om hvad."]
["Info_spm_142","Tematiseret tilsyn - Faglig udredning - Faglig udredning - afdækning efter barnets lov § 19","Spm 36","I sagen skal fremgå:\n• At afdækningen er dokumenteret i sagen fx via et afdækningsnotat.\n• En socialfaglig vurdering i sammenhæng med en socialfaglig analyse af de oplysninger, der er tilvejebragt via afdækningen.\n• At afdækningen er tilstrækkelig til, at der kan træffes korrekte og velbegrundede beslutninger om barnets eller den unges støttebehov."]
["Info_spm_143","Tematiseret tilsyn - Faglig udredning - Faglig udredning - afdækning efter barnets lov § 19","Spm 37","I sagen skal fremgå:\n• En begrundet socialfaglig vurdering af, omfanget af barnets, den unges eller familiens støttebehov.\n• En vurdering af hvordan barnets, den unges og familiens støttebehov bedst imødekommes. Vurderingen skal være så konkret og præcis som muligt, så det er tydeligt for barnet eller den unge og familien, hvad der er resultatet af afdækningen."]
["Info_spm_144","Tematiseret tilsyn - Faglig udredning - Faglig udredning - afdækning efter barnets lov § 19","Spm 38","I sagen skal fremgå:\n• En socialfaglig vurdering af, hvordan de oplysninger, som barnet eller den unge har oplyst, forstås i forhold til sagens øvrige oplysninger.\n• Hvordan barnets eller den unges perspektiver indgår i afdækningen."]
["Info_spm_145","Tematiseret tilsyn - Faglig udredning - Faglig udredning - afdækning efter barnets lov § 19","Spm 39","I sagen skal fremgå:\n• En socialfaglig vurdering af, hvordan de oplysninger, som forældrene har oplyst, forstås i forhold til sagens øvrige oplysninger.\n• Hvordan forældrenes perspektiver indgår i afdækningen."]
["Info_spm_146","Tematiseret tilsyn - Faglig udredning - Faglig udredning - afdækning efter barnets lov § 19","Spm 40","I sagen skal fremgå:\n• Hvordan barnet eller den unge er orienteret om, hvad der skal ske på baggrund af afdækningen."]
["Info_spm_147","Tematiseret tilsyn - Faglig udredning - Faglig udredning - afdækning efter barnets lov § 19","Spm 41","I sagen skal fremgå:\n• Hvordan barnet eller den unge forholder sig til mulige indsatser og støtte."]
["Info_spm_148","Tematiseret tilsyn - Faglig udredning - Faglig udredning - afdækning efter barnets lov § 19","Spm 42","I sagen skal fremgå:\n• Hvilken vægt barnets eller unges holdning og synspunkter til en mulig indsats er tillagt ved valg af indsats og hvorfor."]
["Info_spm_149","Tematiseret tilsyn - Faglig udredning - Faglig udredning - afdækning efter barnets lov § 19","Spm 43","I sagen skal fremgå:\n• Hvordan forældremyndighedsindehaveren er orienteret om, hvad der skal ske på baggrund af afdækningen."]
["Info_spm_150","Tematiseret tilsyn - Faglig udredning - Faglig udredning - afdækning efter barnets lov § 19","Spm 44","I sagen skal fremgå:\n• Hvordan forældrene forholder sig til mulige indsatser."]
["Info_spm_151","Tematiseret tilsyn - Faglig udredning - Faglig udredning - afdækning efter barnets lov § 19","Spm 45","I sagen skal fremgå:\n• Hvilken vægt forældrenes holdning og synspunkter til en mulig indsats er tillagt ved valg af indsats og hvorfor."]
["Info_spm_152","Tematiseret tilsyn - Faglig udredning - Faglig udredning - Børnefaglig undersøgelse efter barnets lov § 20","Spm 46","I sagen skal fremgå:\n• En socialfaglig vurdering af, hvordan en børnefaglig undersøgelse, ud fra de kendte problemstillinger, er det rette til at vurdere barnets eller den unges støttebehov."]
["Info_spm_153","Tematiseret tilsyn - Faglig udredning - Faglig udredning - Børnefaglig undersøgelse efter barnets lov § 20","Spm 47","I sagen skal fremgå:\n• En socialfaglig vurdering af, hvad der ligger til grund for, at der skal udarbejdes en børnefaglig undersøgelse af barnets eller den unges situation."]
["Info_spm_154","Tematiseret tilsyn - Faglig udredning - Faglig udredning - Børnefaglig undersøgelse efter barnets lov § 20","Spm 48","I sagen skal fremgå:\n• En vurdering af, hvad der er de umiddelbare risikofaktorer, beskyttelsesfaktorer og årsagssammenhænge.\n• På baggrund af ovenstående foretage en socialfaglig vurdering af, hvad der skal undersøges nærmere i den børnefaglige undersøgelse."]
["Info_spm_155","Tematiseret tilsyn - Faglig udredning - Faglig udredning - Børnefaglig undersøgelse efter barnets lov § 20","Spm 49","I sagen skal fremgå:\n• Hvordan fokuseringen anvendes til at præcisere, hvilken viden der er brug for at inddrage for at forstå barnets eller den unges og familiens situation.\n• Hvordan fokuseringen anvendes til at sortere i oplysninger og vægte, hvad der er betydningsfuldt."]
["Info_spm_156","Tematiseret tilsyn - Faglig udredning - Faglig udredning - Børnefaglig undersøgelse efter barnets lov § 20","Spm 50","I sagen skal fremgå:\n• Hvordan barnet eller den unge er inddraget i den børnefaglige undersøgelse.\n• Hvad der er talt med barnet eller den unge om.\n• At der er talt med barnet eller den unge om deres hverdagsliv, om det der fungerer, og om det der bekymrer.\n• Hvad barnets eller den unges holdning og synspunkter til sin egen og sin families sittuation er.\n• En beskrivelse af, hvordan der er talt med barnet eller den unge (fx med afsæt i en faglig metode).\n• En socialfaglig vurdering af, hvordan barnet eller den unge fremstår under samtalen."]
["Info_spm_157","Tematiseret tilsyn - Faglig udredning - Faglig udredning - Børnefaglig undersøgelse efter barnets lov § 20","Spm 51","I sagen skal fremgå:\n• Hvordan barnets eller den unges perspektiv er forsøgt tilvejebragt på anden vis, eksempelvis ved observation, eller samtale med voksne, der er omkring barnet.  \n• En socialfaglig vurdering af, hvordan barnet eller den unge fremstår under en eventuel observation."]
["Info_spm_158","Tematiseret tilsyn - Faglig udredning - Faglig udredning - Børnefaglig undersøgelse efter barnets lov § 20","Spm 52","I sagen skal fremgå:\n• Hvordan barnet eller den unge er orienteret om sine rettigheder, fx ret til bisidder m.v."]
["Info_spm_159","Tematiseret tilsyn - Faglig udredning - Faglig udredning - Børnefaglig undersøgelse efter barnets lov § 20","Spm 53","I sagen skal fremgå:\n• Hvordan barnet eller den unge er orienteret om sagsprocesser og rettigheder, fx om sagsskridt, bisidder m.v."]
["Info_spm_160","Tematiseret tilsyn - Faglig udredning - Faglig udredning - Børnefaglig undersøgelse efter barnets lov § 20","Spm 54","I sagen skal fremgå:\n• Hvordan barnet eller den unge forberedes til samarbejdet om den børnefaglig undersøgelse, herunder hvor samtaler afholdes, hvem samtaler afholdes sammen med, og hvad der skal tales med barnet eller den unge om."]
["Info_spm_161","Tematiseret tilsyn - Faglig udredning - Faglig udredning - Børnefaglig undersøgelse efter barnets lov § 20","Spm 55","I sagen skal fremgå:\n• Hvordan barnets eller unges viden og perspektiver er inddraget i den børnefaglige undersøgelse, og hvilken vægt de er tillagt."]
["Info_spm_162","Tematiseret tilsyn - Faglig udredning - Faglig udredning - Børnefaglig undersøgelse efter barnets lov § 20","Spm 56","I sagen skal fremgå:\n• Hvordan forældrene stiller sig til at samarbejdet om den børnefaglige undersøgelse.\n• Hvad der er talt med forældrene om.\n• En beskrivelse af, hvordan der er talt med forældrene (fx med afsæt i en faglig metode).\n• En socialfaglig vurdering af, hvordan forældrene fremstår under samtaler."]
["Info_spm_163","Tematiseret tilsyn - Faglig udredning - Faglig udredning - Børnefaglig undersøgelse efter barnets lov § 20","Spm 57","I sagen skal fremgå:\n• Hvordan forældrene forstår barnets eller den unges og familiens ressourcer og udfordringer, herunder hvordan de forholder sig til dem."]
["Info_spm_164","Tematiseret tilsyn - Faglig udredning - Faglig udredning - Børnefaglig undersøgelse efter barnets lov § 20","Spm 58","I sagen skal fremgå:\n• Hvordan forældrene støtter og stimulerer barnet eller den unge i hverdagen.\n• Hvordan forældrene handler på de bekymringer, der er beskrevet ift. barnet eller den unge og familien."]
["Info_spm_165","Tematiseret tilsyn - Faglig udredning - Faglig udredning - Børnefaglig undersøgelse efter barnets lov § 20","Spm 59","I sagen skal fremgå:\n• Hvordan forældrene ser deres familieforhold og baggrund.\n• Hvilken betydning forældrene ser, at familieforhold og baggrund har for barnet eller den unge og hvordan."]
["Info_spm_166","Tematiseret tilsyn - Faglig udredning - Faglig udredning - Børnefaglig undersøgelse efter barnets lov § 20","Spm 60","I sagen skal fremgå:\n• Hvordan forældrene ser deres bolig, beskæftigelse og økonomi.\n• Hvilken betydning forældrene ser, at deres bolig, beskæftigelse og økonomi har for barnet eller den unge og hvordan."]
["Info_spm_167","Tematiseret tilsyn - Faglig udredning - Faglig udredning - Børnefaglig undersøgelse efter barnets lov § 20","Spm 61","I sagen skal fremgå:\n• Hvem forældrene har i deres netværk, og relationen til henholdsvis forældrene og barnet eller den unge.\n• Hvordan forældrene ser, at netværket kan være en støtte for dem, eller for barnet, den unge eller for familien som helhed."]
["Info_spm_168","Tematiseret tilsyn - Faglig udredning - Faglig udredning - Børnefaglig undersøgelse efter barnets lov § 20","Spm 62","I sagen skal fremgå:\n• Hvordan forældrenes viden og perspektiver er inddraget, anvendt og tillagt passende vægt i den børnefaglige undersøgelse."]
["Info_spm_169","Tematiseret tilsyn - Faglig udredning - Faglig udredning - Børnefaglig undersøgelse efter barnets lov § 20","Spm 63","I sagen skal fremgå:\n• Hvordan forældrene er forberedt på at samarbejde om den børnefaglige undersøgelse, herunder hvor samtaler afholdes, hvem samtaler afholdes sammen med, og hvad der skal tales med forældrene om."]
["Info_spm_170","Tematiseret tilsyn - Faglig udredning - Faglig udredning - Børnefaglig undersøgelse efter barnets lov § 20","Spm 64","I sagen skal fremgå:\n• Hvordan forældrene er orienteret om rettigheder fx ret til bisidder."]
["Info_spm_171","Tematiseret tilsyn - Faglig udredning - Faglig udredning - Børnefaglig undersøgelse efter barnets lov § 20","Spm 65","I sagen skal fremgå:\n• Hvordan forældrenet er orienteret om sagsprocesser, fx om sagsskridt m.v."]
["Info_spm_172","Tematiseret tilsyn - Faglig udredning - Faglig udredning - Børnefaglig undersøgelse efter barnets lov § 20","Spm 66","I sagen skal fremgå:\n• Hvordan viden og perspektiver fra det private netværk er anvendt til at belyse barnets eller den unges og familiens situation, og hvordan det er tillagt vægt."]
["Info_spm_173","Tematiseret tilsyn - Faglig udredning - Faglig udredning - Børnefaglig undersøgelse efter barnets lov § 20","Spm 67","Det skal i sagen fremgå:\n• Hvilke ressourcer og eventuelle udfordringer der er i det private netværk.\n• Hvem fra netværket der eventuelt har tilbudt støtte.\n• En vurdering af, hvordan barnets eller den unges og familiens private netværk eventuelt kan bidrage med støtte."]
["Info_spm_174","Tematiseret tilsyn - Faglig udredning - Faglig udredning - Børnefaglig undersøgelse efter barnets lov § 20","Spm 68","I sagen skal fremgå:\n• Hvem barnet eller den unge peger på, som kan være relevant at inddrage fra barnets eller den unges hverdagsliv.\n• Hvem forældrene peger på, som kan være relevante at inadrage fra barnets eller den unges hverdagsliv.\n• Kendskab til øvrigt professionelt netværk med relevant viden om barnet, den unge eller familien."]
["Info_spm_175","Tematiseret tilsyn - Faglig udredning - Faglig udredning - Børnefaglig undersøgelse efter barnets lov § 20","Spm 69","I sagen skal fremgå:\n• Hvem i det professionelle netværk der allerede har viden om barnet eller den unge og familien.\n• Hvem i det professionelle netværk der er indhentet viden fra og specifikt om hvad."]
["Info_spm_176","Tematiseret tilsyn - Faglig udredning - Faglig udredning - Børnefaglig undersøgelse efter barnets lov § 20","Spm 70","I sagen skal fremgå:\n• Hvordan viden og perspektiver fra det professionelle netværk er anvendt til at belyse barnets eller den unges og familiens situation, og hvordan det er tillagt vægt."]
["Info_spm_177","Tematiseret tilsyn - Faglig udredning - Faglig udredning - Børnefaglig undersøgelse efter barnets lov § 20","Spm 71","I sagen skal fremgå:\n• Hvordan det professionelle netværk kan støtte barnet eller den unge i deres hverdagsliv, og hvorvidt dette kan ske sideløbende med den børnefaglige undersøgelse."]
["Info_spm_178","Tematiseret tilsyn - Faglig udredning - Faglig udredning - Børnefaglig undersøgelse efter barnets lov § 20","Spm 72","I sagen skal fremgå:\n• En vurdering af, hvorvidt der er behov for indhente relevant specialiseret viden og med hvilket formål.\n• En vurdering af, hvad der gøres i sagen, hvis det tager længere tid at indhente den specialiserede viden."]
["Info_spm_179","Tematiseret tilsyn - Faglig udredning - Faglig udredning - Børnefaglig undersøgelse efter barnets lov § 20","Spm 73","I sagen skal fremgå:\n• Hvordan barnets eller den unges situation kan forstås med afsæt i oplysningerne fra barnet eller den unge, forældrene, relevant privat og professionelt netværk (og eventuelle faglige specialister) samt på baggrund af rådgiverens observationer og betragtninger i undersøgelsesforløbet."]
["Info_spm_180","Tematiseret tilsyn - Faglig udredning - Faglig udredning - Børnefaglig undersøgelse efter barnets lov § 20","Spm 74","I sagen skal fremgå::\n• Hvordan barnets eller den unges situation kan forstås med afsæt i oplysningerne fra barnet eller den unge, forældrene, relevant privat og professionelt netværk (og eventuelle faglige specialister) samt på baggrund af rådgiverens observationer og betragtninger i undersøgelsesforløbet."]
["Info_spm_181","Tematiseret tilsyn - Faglig udredning - Faglig udredning - Børnefaglig undersøgelse efter barnets lov § 20","Spm 75","I sagen skal fremgå::\n• Hvordan barnets eller den unges situation kan forstås med afsæt i oplysningerne fra barnet eller den unge, forældrene, relevant privat og professionelt netværk (og eventuelle faglige specialister) samt på baggrund af rådgiverens observationer og betragtninger i undersøgelsesforløbet."]
["Info_spm_182","Tematiseret tilsyn - Faglig udredning - Faglig udredning - Børnefaglig undersøgelse efter barnets lov § 20","Spm 76","I sagen skal fremgå:\n• Hvordan barnets eller den unges situation kan forstås med afsæt i oplysningerne fra barnet eller den unge, forældrene, relevant privat og professionelt netværk (og eventuelle faglige specialister) samt på baggrund af rådgiverens observationer og betragtninger i undersøgelsesforløbet."]
["Info_spm_183","Tematiseret tilsyn - Faglig udredning - Faglig udredning - Børnefaglig undersøgelse efter barnets lov § 20","Spm 77","I sagen skal fremgå:\n• Hvordan barnets eller den unges situation kan forstås med afsæt i oplysningerne fra barnet eller den unge, forældrene, relevant privat og professionelt netværk (og eventuelle faglige specialister) samt på baggrund af rådgiverens observationer og betragtninger i undersøgelsesforløbet."]
["Info_spm_184","Tematiseret tilsyn - Faglig udredning - Faglig udredning - Børnefaglig undersøgelse efter barnets lov § 20","Spm 78","I sagen skal fremgå:\n• Hvordan barnets eller den unges situation kan forstås med afsæt i oplysningerne fra barnet eller den unge, forældrene, relevant privat og professionelt netværk (og eventuelle faglige specialister) samt på baggrund af rådgiverens observationer og betragtninger i undersøgelsesforløbet."]
["Info_spm_185","Tematiseret tilsyn - Faglig udredning - Faglig udredning - Børnefaglig undersøgelse efter barnets lov § 20","Spm 79","I sagen skal fremgå:\n• Hvordan barnets eller den unges situation kan forstås med afsæt i oplysningerne fra barnet eller den unge, forældrene, relevant privat og professionelt netværk (og eventuelle faglige specialister) samt på baggrund af rådgiverens observationer og betragtninger i undersøgelsesforløbet."]
["Info_spm_186","Tematiseret tilsyn - Faglig udredning - Faglig udredning - Børnefaglig undersøgelse efter barnets lov § 20","Spm 80","I sagen skal fremgå:\n• En helhedsbetragtning af barnets eller den unges og familiens udfordringer og ressourcer."]
["Info_spm_187","Tematiseret tilsyn - Faglig udredning - Faglig udredning - Børnefaglig undersøgelse efter barnets lov § 20","Spm 81","I sagen skal fremgå:\n• En opsamling af barnets eller den unges og familiens samlede situation, ressourcer og udfordringer, heriblandt de risiko og beskyttelsesfaktorer, der er belyst. \n• En analyse af barnets eller den unges behov og forældrenes kompetencer til at imødekomme barnets behov.\n• En opsamling på det private of professionelles netværkets mulighed for at støtte op om barnet eller den unge.\n• En analyse af, hvad det vil betyde for barnet eller den unge, hvis barnets eller den unges behov ikke imødekommes på både kort og lang sigt.  \n• En analyse af, hvordan barnets eller den unges trivsel og udvikling kan understøttes bedst muligt."]
["Info_spm_188","Tematiseret tilsyn - Faglig udredning - Faglig udredning - Børnefaglig undersøgelse efter barnets lov § 20","Spm 82","I sagen skal fremgå:\n• En vurdering af barnets eller den unges og familiens støttebehov.\n• En vurdering af, hvordan barnets eller den unges og familiens støttebehov bedst imødekommes. Vurderingen skal være så konkret og præcis som muligt, så det er tydeligt for barnet eller den unge og familien, hvad der er resultatet af den børnefaglige undersøgelse."]
["Info_spm_189","Tematiseret tilsyn - Faglig udredning - Faglig udredning - Børnefaglig undersøgelse efter barnets lov § 20","Spm 83","I sagen skal fremgå:\n• Hvordan der tales med barnet eller den unge om resultatet af den børnefaglige undersøgelse."]
["Info_spm_190","Tematiseret tilsyn - Faglig udredning - Faglig udredning - Børnefaglig undersøgelse efter barnets lov § 20","Spm 84","Der skal fremgå: i sagen\n• Hvordan barnet eller den unge forholder sig til mulige indsatser eller anbringelse."]
["Info_spm_191","Tematiseret tilsyn - Faglig udredning - Faglig udredning - Børnefaglig undersøgelse efter barnets lov § 20","Spm 85","I sagen skal fremgå:\n• Hvilken vægt barnets eller unges holdning og synspunkter til en mulig indsats eller anbringelse er tillagt ved valg af indsats og hvorfor."]
["Info_spm_192","Tematiseret tilsyn - Faglig udredning - Faglig udredning - Børnefaglig undersøgelse efter barnets lov § 20","Spm 86","I sagen skal fremgå:\n• Hvordan der tales med forældrene om resultatet af den børnefaglige undersøgelse."]
["Info_spm_193","Tematiseret tilsyn - Faglig udredning - Faglig udredning - Børnefaglig undersøgelse efter barnets lov § 20","Spm 87","I sagen skal fremgå:\n• Hvordan der er talt med forældrene om resultatet af den børnefaglige undersøgelse .\n• Hvordan forældrene forholder sig til mulige indsatser eller anbringelse."]
["Info_spm_194","Tematiseret tilsyn - Faglig udredning - Faglig udredning - Børnefaglig undersøgelse efter barnets lov § 20","Spm 88","I sagen skal fremgå:\n• Hvilken vægt forældrenes holdning og synspunkter til en mulig indsats eller anbringelse er tillagt ved valg af indsats."]
["Info_spm_195","Tematiseret tilsyn - Valg af indsats - Støttende indsats efter barnets lov § 32 og anbringelse efter barnets lov § 46","Spm 89","I sagen skal fremgå:\n• Hvordan barnet eller den unge forholder sig til mulige indsatser eller anbringelse."]
["Info_spm_196","Tematiseret tilsyn - Valg af indsats - Støttende indsats efter barnets lov § 32 og anbringelse efter barnets lov § 46","Spm 90","I sagen skal fremgå:\n• Hvilken vægt barnets eller den unges holdning og synspunkter til en mulig indsats eller anbringelse er tillagt ved valg af indsats og hvorfor."]
["Info_spm_197","Tematiseret tilsyn - Valg af indsats - Støttende indsats efter barnets lov § 32 og anbringelse efter barnets lov § 46","Spm 91","I sagen skal fremgå:\n• Hvordan forældrene forholder sig til mulige indsatser eller anbringelse."]
["Info_spm_198","Tematiseret tilsyn - Valg af indsats - Støttende indsats efter barnets lov § 32 og anbringelse efter barnets lov § 46","Spm 92","I sagen skal fremgå:\n• Hvilken vægt forældrenes holdning og synspunkter til en mulig indsats eller anbringelse er tillagt ved valg af indsats og hvorfor."]
["Info_spm_199","Tematiseret tilsyn - Valg af indsats - Støttende indsats efter barnets lov § 32 og anbringelse efter barnets lov § 46","Spm 93","I sagen skal fremgå:\n• En vurdering af, hvorfor og hvordan valgte indsats eller anbringelse er den bedste til at imødekomme barnets eller den unges støttebehov."]
["Info_spm_200","Tematiseret tilsyn - Valg af indsats - Støttende indsats efter barnets lov § 32 og anbringelse efter barnets lov § 46","Spm 94","I sagen skal fremgå:\n• Hvordan barnet eller den unge har været inddraget i formulering af det overordnede formål med indsatsen eller anbringelsen.\n• Hvilken vægt barnets eller den unges holdning og synspunkter til det overordnede formål er tillagt og hvorfor."]
["Info_spm_201","Tematiseret tilsyn - Valg af indsats - Støttende indsats efter barnets lov § 32 og anbringelse efter barnets lov § 46","Spm 95","I sagen skal fremgå:\n• Hvordan forældrene har været inddraget i formulering af det overordnede formål med indsatsen eller anbringelsen.\n• Hvilken vægt barnets eller den unges holdning og synspunkter til det overordnede formål er tillagt og hvorfor."]
["Info_spm_202","Tematiseret tilsyn - Valg af indsats - Støttende indsats efter barnets lov § 32 og anbringelse efter barnets lov § 46","Spm 96","I sagen skal fremgå:\n• Hvordan barnet eller den unge støttes i sin personlige udvikling op opbygning af kompetencer."]
["Info_spm_203","Tematiseret tilsyn - Valg af indsats - Støttende indsats efter barnets lov § 32 og anbringelse efter barnets lov § 46","Spm 97","I sagen skal fremgå:\n• Hvordan støtten bidrager til at fremme barnets eller den unges sundhed og trivsel."]
["Info_spm_204","Tematiseret tilsyn - Valg af indsats - Støttende indsats efter barnets lov § 32 og anbringelse efter barnets lov § 46","Spm 98","I sagen skal fremgå:\n• Hvordan barnet eller den unge støttes i sin skolegang samt muligheden for at gennemføre en uddannelse."]
["Info_spm_205","Tematiseret tilsyn - Valg af indsats - Støttende indsats efter barnets lov § 32 og anbringelse efter barnets lov § 46","Spm 99","I sagen skal fremgå:\n• Hvordan barnet eller den unge sikres kontinuitet i sin opvækst.\n• Hvordan barnet eller den unge sikres et trygt omsorgsmiljø.\n• Hvilke nære og stabile relationer barnet eller den unge har, og hvordan de vedligeholdes.\n• Hvordan barnets eller unge støttes i relationer til familie og øvrigt netværk."]
["Info_spm_206","Tematiseret tilsyn - Valg af indsats - Støttende indsats efter barnets lov § 32 og anbringelse efter barnets lov § 46","Spm 100","I sagen skal fremgå: \n• Hvem der har ansvaret for de konkrete tiltag og indsatser, herunder forældrene, udfører, professionelt og privat netværk."]
["Info_spm_207","Tematiseret tilsyn - Valg af indsats - Støttende indsats efter barnets lov § 32 og anbringelse efter barnets lov § 46","Spm 101","I sagen skal fremgå: \n• En socialfaglig begrundelse for, hvorvidt der skal udarbejdes en barnets plan eller en ungeplan. Dog skal der ved anbringelse altid udarbejdes en barnets plan eller en ungeplan.\n• Hvad der skal lægges til grund for opfølgning på en iværksat indsats, såfremt der ikke udarbejdes en barnets plan eller ungeplan."]
["Info_spm_208","Tematiseret tilsyn - Valg af indsats - Støttende indsats efter barnets lov § 32 og anbringelse efter barnets lov § 46","Spm 102","I sagen skal fremgå: \n• Hvordan de konkrete mål for barnets eller den unges trivsel hænger sammen med det overordnede formål med indsatsen eller anbringelsen.\n• Hvordan barnet eller den unge konkret støttes i sin trivsel og udvikling."]
["Info_spm_209","Tematiseret tilsyn - Valg af indsats - Støttende indsats efter barnets lov § 32 og anbringelse efter barnets lov § 46","Spm 103","I sagen skal fremgå: \n• Hvordan den unge konkret støttes i uddannelse eller beskæftigelse."]
["Info_spm_210","Tematiseret tilsyn - Valg af indsats - Støttende indsats efter barnets lov § 32 og anbringelse efter barnets lov § 46","Spm 104","I sagen skal fremgå: \n• Hvordan den unge konkret støttes i sin overgang til voksenlivet."]
["Info_spm_211","Tematiseret tilsyn - Valg af indsats - Støttende indsats efter barnets lov § 32 og anbringelse efter barnets lov § 46","Spm 105","I sagen skal fremgå:\n• Hvordan barnet eller unge har været inddraget i at udarbejde barnets plan eller ungeplanen .\n• At der er talt med barnet eller den unge om, hvad en barnets plan eller en unge plan er.\n• Hvordan barnets eller den unge forholder sig til, hvad der skal fremgå af barnets plan eller ungeplanen.\n• En beskrivelse af, hvordan der er talt med barnet (fx med afsæt i en faglig metode).\n• En socialfaglig vurdering af, hvordan forældrene fremstår under samtalen."]
["Info_spm_212","Tematiseret tilsyn - Valg af indsats - Støttende indsats efter barnets lov § 32 og anbringelse efter barnets lov § 46","Spm 106","I sagen skal fremgå:\n• Hvordan forældrene har været inddraget i at udarbejde barnets plan eller ungeplanen. \n• At der er talt med forældrene om hvad en barnets plan eller ungeplan er.\n• Hvordan forældrene forholder sig til, hvad der skal fremgå af barnets plan eller ungeplanen.\n• En beskrivelse af, hvordan der er talt med forældrene (fx med afsæt i en faglig metode).\n• En socialfaglig vurdering af, hvordan forældrene fremstår under samtalen."]
["Info_spm_213","Tematiseret tilsyn - Valg af indsats - Støttende indsats efter barnets lov § 32 og anbringelse efter barnets lov § 46","Spm 107","I sagen skal fremgå: \n• Hvad barnet eller den unge har af ønsker og drømme for egen trivsel og udvikling.\n• Hvordan barnets eller den unges ønsker og drømmer er inddraget og tillagt vægt i målene, og hvorfor."]
["Info_spm_214","Tematiseret tilsyn - Valg af indsats - Støttende indsats efter barnets lov § 32 og anbringelse efter barnets lov § 46","Spm 108","I sagen skal fremgå: \n• Konkrete og målbare mål, så det er tydeligt, hvordan den ønskede forandring vil kunne ses."]
["Info_spm_215","Tematiseret tilsyn - Valg af indsats - Støttende indsats efter barnets lov § 32 og anbringelse efter barnets lov § 46","Spm 109","I sagen skal fremgå:\n• Hvordan det private netværk er inddraget, og hvad de konkret vil gøre for at støtte barnet eller den unge og familien."]
["Info_spm_216","Tematiseret tilsyn - Valg af indsats - Støttende indsats efter barnets lov § 32 og anbringelse efter barnets lov § 46","Spm 110","I sagen skal fremgå:\n• Hvordan det professionelle netværk er inddraget, og hvad de konkret skal gøre for at støtte barnet, den unge eller familien."]
["Info_spm_217","Tematiseret tilsyn - Opfølgning - Opfølgning efter barnets lov § 95","Spm 111","I sagen skal fremgå:\n• En vurdering af de oplysninger, der er fremkommet i forbindelse med opfølgningen.\n• En vurdering af, hvorvidt der er sket den ønskede forandring for barnet eller den unge eller familien.\n• En vurdering af, om der er behov for at justere, ændre eller afslutte indsatsen eller anbringelsen.\n• En vurdering af om der er behov for yderligere afdækning eller undersøgelse af barnets, den unges eller familiens støttebehov.\n• En vurderingen af, om der er behov for at udarbejde eller revidere en evt. barnets plan eller ungeplanen."]
["Info_spm_218","Tematiseret tilsyn - Opfølgning - Opfølgning efter barnets lov § 95","Spm 112","I sagen skal fremgå:\n• Hvad der er talt med barnet eller den unge om.\n• Hvad der er talt med barnet eller den unge om, herunder om indsatsen eller anbringelsen, barnets eller den unges aktuelle trivsel og eventuelle mål i planen, samt progressionen i forhold til disse.\n• Hvad barnets eller den unges holdning og synspunkter til opfølgning på indsatsen eller anbringelsen.\n• En beskrivelse af, hvordan der er talt med barnet eller den unge (fx med afsæt i en faglig metode).\n•  En socialfaglig vurdering af, hvordan barnet eller den unge fremstår under samtalen."]
["Info_spm_219","Tematiseret tilsyn - Opfølgning - Opfølgning efter barnets lov § 95","Spm 113","I sagen skal fremgå:\n• Hvordan barnets eller den unges perspektiv er forsøgt tilvejebragt på anden vis, eksempelvis ved observation eller samtale med voksne, der er omkring barnet.\n• En socialfaglig vurdering af, hvordan barnet eller den unge fremstår under en eventuel observation."]
["Info_spm_220","Tematiseret tilsyn - Opfølgning - Opfølgning efter barnets lov § 95","Spm 114","I sagen skal fremgå:\n• Hvilken vægt barnets eller unges holdninger og synspunkter er tillagt og hvorfor."]
["Info_spm_221","Tematiseret tilsyn - Opfølgning - Opfølgning efter barnets lov § 95","Spm 115","I sagen skal fremgå:\n• Hvordan barnet eller den unge er orienteret om sine rettigheder, fx ret til bisidder mv."]
["Info_spm_222","Tematiseret tilsyn - Opfølgning - Opfølgning efter barnets lov § 95","Spm 116","Det skal i sagen fremgå:\n• Hvordan barnet eller den unge er orienteret om sagsprocesser og rettigheder, fx om sagsskridt, bisidder mv."]
["Info_spm_223","Tematiseret tilsyn - Opfølgning - Opfølgning efter barnets lov § 95","Spm 117","Det skal i sagen fremgå:\n• Hvordan barnet eller den unge forberedes til samtalen om opfølgning, herunder hvor samtalen afholdes, hvem samtalen afholdes sammen med, og hvad der skal tales med barnet eller den unge om."]
["Info_spm_224","Tematiseret tilsyn - Opfølgning - Opfølgning efter barnets lov § 95","Spm 118","I sagen skal fremgå:\n• Hvordan der tales med barnet eller den unge om resultatet af opfølgningen."]
["Info_spm_225","Tematiseret tilsyn - Opfølgning - Opfølgning efter barnets lov § 95","Spm 119","I sagen skal fremgå:\n• Hvordan sagsbehandlingen er tilrettelagt med hensyn til barnets eller den unges modenhed, ressourcer og eventuelle funktionsnedsættelse."]
["Info_spm_226","Tematiseret tilsyn - Opfølgning - Opfølgning efter barnets lov § 95","Spm 120","I sagen skal fremgå:\n• Hvad der er talt med forældrene om\n• At der er talt med forældrene om deres perspektiv på den støttende indsats eller anbirngelse, udbytte heraf, barnets eller den unges aktuelle trivsel og udvikling samt eventuelle mål i planen og progressionen i forhold til disse.\n• Hvordan forældrene forholder sig til opfølgning på indsats eller anbringelse.\n• Hvordan forældrene forstår barnets eller den unges situation og behov.\n• En beskrivelse af, hvordan der er talt med forældrene (fx med afsæt i en faglig metode).\n• En socialfaglig vurdering af, hvordan forældrene fremstår under samtalen."]
["Info_spm_227","Tematiseret tilsyn - Opfølgning - Opfølgning efter barnets lov § 95","Spm 121","I sagen skal fremgå:\n• Hvordan der tales med forældrene om resultatet af opfølgningen."]
["Info_spm_228","Tematiseret tilsyn - Opfølgning - Opfølgning efter barnets lov § 95","Spm 122","I sagen skal fremgå: \n• Hvilken vægt forældrenes holdning og synspunkter er tillagt og hvorfor."]
["Info_spm_229","Tematiseret tilsyn - Opfølgning - Opfølgning efter barnets lov § 95","Spm 123","I sagen skal fremgå:\n• Hvordan forældrene er forberedt til opfølgning, herunder hvor samtalen afholdes, hvem samtalen afholdes sammen med, og hvad der skal tales med forældrene om."]
["Info_spm_230","Tematiseret tilsyn - Opfølgning - Opfølgning efter barnets lov § 95","Spm 124","I sagen skal fremgå:\n• Hvordan forældrene er orienteret om rettigheder fx ret til bisidder."]
["Info_spm_231","Tematiseret tilsyn - Opfølgning - Opfølgning efter barnets lov § 95","Spm 125","I sagen skal fremgå:\n• Hvordan forældrenet er orienteret om sagsprocesser, fx om sagsskridt mv."]
["Info_spm_232","Tematiseret tilsyn - Opfølgning - Opfølgning efter barnets lov § 95","Spm 126","I sagen skal fremgå:\n• Hvordan dem der har ansvar for indsats eller anbringelse har bidraget med viden til opfølgningen og om hvad.\n• Om dem der har ansvar for indsats eller anbringelse fremsendt en skriftlig status eller andet, og om de har gennemgået den med forældrene og barnet eller den unge på forhånd.\n• Hvordan dem, der har ansvar for indsats eller anbringelse, i øvrigt har indgået i opfølgningen."]
["Info_spm_233","Tematiseret tilsyn - Opfølgning - Opfølgning efter barnets lov § 95","Spm 127","I sagen skal fremgå:\n• Hvilken viden fra personer i netværket, der har ansvar for eventuelle andre tiltag er inddraget og hvordan.\n• Hvordan personer i netværket, der har ansvar for eventuelle andre tiltag, har indgået i opfølgningen."]
["Info_spm_234","Tematiseret tilsyn - Opfølgning - Opfølgning efter barnets lov § 95","Spm 128","I sagen skal fremgå:\n• Hvilken viden fra professionelle i barnets eller den unges hverdagsliv der er inddraget og hvordan.\n• Hvordan professionelle i barnets eller den unges hverdagsliv har indgået i opfølgningen."]
["Info_spm_235","Tematiseret tilsyn - Opfølgning - Opfølgning efter barnets lov § 95","Spm 129","I sagen skal fremgå:\n• Hvilken viden fra det private netværk der er inddraget og hvordan.\n• Hvordan det private netværk har indgået i opfølgningen."]
["Info_spm_236","Tematiseret tilsyn - Opfølgning - Opfølgning efter barnets lov § 95","Spm 130","I sagen skal fremgå:\n• En vurdering af hvor ofte der skal følges op på indsatsen eller anbringelsen i forhold til bekymringsgraden.\n• En beskrivelse af, hvor og hvordan kommende opfølgning skal afholdes."]
["Info_spm_237","Tematiseret tilsyn - Opfølgning - Opfølgning efter barnets lov § 95","Spm 131","I sagen skal fremgå:\n• Hvordan der er talt med barnet eller den unge om tilrettelæggelse af opfølgningen.\n• Barnets eller den unges holdning og synspunkter til tilrettelæggelse af opfølgningen.\n• Hvordan barnets eller den unges holdning og synspunkter til tilrettelæggelse af opfølgningen er tillagt vægt og hvorfor."]
["Info_spm_238","Tematiseret tilsyn - Opfølgning - Opfølgning efter barnets lov § 95","Spm 132","I sagen skal fremgå:\n• Hvordan der er talt med forældrene om tilrettelæggelse af opfølgningen.\n• Forældrenes holdning og synspunkter til tilrettelæggelse af opfølgningen.\n• Hvordan forældrenes holdning og synspunkter til tilrettelæggelse af opfølgningen er tillagt vægt og hvorfor."]
["Info_spm_239","Tematiseret tilsyn - Opfølgning - Opfølgning efter barnets lov § 95","Spm 133","I sagen skal fremgå:\n• En socialfaglig vurdering af, hvad der er lagt vægt på i beslutningen om tilrettelæggelsen af den fremadrettede opfølgning med udgangspunkt i de konkrete forhold i barnets eller den unges sag."]
["Info_spm_240","Tematiseret tilsyn - Gennem hele sagen - Intentionerne med barnets lov","Spm 134","Der skal på tværs af sagen fremgå:\n• Hvordan barnet eller den unge er inddraget\n• Hvordan barnets eller den unges perspektiver er afspejlet i sagen\n• Hvordan barnets eller den unges behov og ressourcer er afdækket og styrende for både sagsbehandlingen og den iværksatte støtte"]
["Info_spm_241","Tematiseret tilsyn - Gennem hele sagen - Intentionerne med barnets lov","Spm 135","Der skal på tværs af sagen fremgå:\n• Hvordan barnets, den unges og familiens behov, forhold og forudsætninger har været styrende for tilrettelæggelsen af hjælp og støtte"]
["Info_spm_242","Tematiseret tilsyn - Gennem hele sagen - Intentionerne med barnets lov","Spm 136","Der skal på tværs af sagen fremgå:\n• Hvordan tempoet i både de enkelte sagsskridt og i sagsbehandlingen som helhed afspejler bekymringsniveauet, kompleksitet i sagen og barnets eller den unges og familiens støttebehov"]
["Info_spm_243","Tematiseret tilsyn - Opsamling på tilsynet","spm 2","Her kan du notere den tilbagemelding, som du ønsker at give til børne- og ungerådgiveren om opmærksomhedspunkter og ressource i sagsbehandlingen."]
["Info_spm_244","Tematiseret tilsyn - Opsamling på tilsynet","spm 3"]
["Info_spm_245","Tematiseret tilsyn - Opsamling på tilsynet","spm 4","Her kan du notere dine generelle overvejelser om tilbagemelding på gruppeniveau i forhold til opmærksomhedspunkter og ressourcer i sagsbehandlingen."]

{"sheet":"Svarkategorier","index":7,"n_rows":94,"n_cols":15,"rows_kept":94,"cut":false,"hidden":true,"merged":[]}
["Svar 1 - overordnede ",null,null,"Svar - 2 tematiserede",null,null,"Svar - 3 Tilsynfører, uddybende",null,null,null,"Svar - 4 Tilsynfører, overordnede",null,null,null,"Sagstype"]
["Ja",null,null,"I lav grad",null,null,"Der er ikke behov for handling",null,null,null,"Ingen opmærksomhed",null,null,null,"Ny sag"]
["Nej",null,null,"I nogen grad",null,null,"Tilbagemelding til børne- og ungerådgiver",null,null,null,"Let opmærksomhed",null,null,null,"Opfølgningssag"]
["Ikke relevant",null,null,"I høj grad",null,null,"Tilbagemelding på gruppeniveau",null,null,null,"Særlig opmærksomhed"]
[null,null,null,"Ikke relevant",null,null,"Fagligt fokus og evt. kompetenceudvikling",null,null,null,"Ikke relevant"]
[null,null,null,"Ses ikke i sagen",null,null,"Ændring af arbejdsgangsbeskrivelse"]
[null,null,null,null,null,null,"Handling på ledelsesniveau"]
[]
[]
[]
[]
[]
[]
[]
[]
[]
[]
[]
[]
[]
[]
[]
[]
[]
[]
[]
[]
[]
[]
[]
[]
[]
[]
[]
[]
[]
[]
[]
[]
[]
[]
[]
[]
[]
[]
[]
[]
[]
[]
[]
[]
[]
[]
[]
["Tilsyn 1"]
["Tilsyn 2"]
["Tilsyn 3"]
["Tilsyn 4"]
["Tilsyn 5"]
["Tilsyn 6"]
["Tilsyn 7"]
["Tilsyn 8"]
["Tilsyn 9"]
["Tilsyn 10"]
["Tilsyn 11"]
["Tilsyn 12"]
["Tilsyn 13"]
["Tilsyn 14"]
["Tilsyn 15"]
["Tilsyn 16"]
["Tilsyn 17"]
["Tilsyn 18"]
["Tilsyn 19"]
["Tilsyn 20"]
["Tilsyn 21"]
["Tilsyn 22"]
["Tilsyn 23"]
["Tilsyn 24"]
["Tilsyn 25"]
["Tilsyn 26"]
["Tilsyn 27"]
["Tilsyn 28"]
["Tilsyn 29"]
["Tilsyn 30"]
["Tilsyn 31"]
["Tilsyn 32"]
["Tilsyn 33"]
["Tilsyn 34"]
["Tilsyn 35"]
["Tilsyn 36"]
["Tilsyn 37"]
["Tilsyn 38"]
["Tilsyn 39"]
["Tilsyn 40"]